BEGIN:VCALENDAR
VERSION:2.0
PRODID:-// - ECPv6.15.17//NONSGML v1.0//EN
CALSCALE:GREGORIAN
METHOD:PUBLISH
X-ORIGINAL-URL:https://standrewsunitedchurch.co.uk
X-WR-CALDESC:Events for 
REFRESH-INTERVAL;VALUE=DURATION:PT1H
X-Robots-Tag:noindex
X-PUBLISHED-TTL:PT1H
BEGIN:VTIMEZONE
TZID:UTC
BEGIN:STANDARD
TZOFFSETFROM:+0000
TZOFFSETTO:+0000
TZNAME:UTC
DTSTART:20230101T000000
END:STANDARD
END:VTIMEZONE
BEGIN:VEVENT
DTSTART;TZID=UTC:20241127T103000
DTEND;TZID=UTC:20241127T113000
DTSTAMP:20260419T121717
CREATED:20241213T063404Z
LAST-MODIFIED:20241213T063454Z
UID:4043-1732703400-1732707000@standrewsunitedchurch.co.uk
SUMMARY:MIDWEEK SERVICE & ADVENT STUDY
DESCRIPTION:Hush the Noise: Join the love song this Christmas\nChristmas is loud\, isn’t it? So much expectation. So many voices. Telling us how to celebrate\, what to wear\, what to eat and drink\, what to watch and what to buy. \nInstead\, this Christmas we’re inviting everyone to hush the noise. To listen for the love song that the angels bring\, this and every year. They sang it for the first time more than 2\,000 years ago\, on the midnight clear. They’re just waiting for us to join in. \nHUSH THE NOISE is the theme for the Advent Study. \nStarts at 10.30 am and concludes with refreshments at 11.30am. \n  \nEveryone Welcome
URL:https://standrewsunitedchurch.co.uk/event/midweek-service-advent-study/
END:VEVENT
BEGIN:VEVENT
DTSTART;TZID=UTC:20241127T120000
DTEND;TZID=UTC:20241127T120000
DTSTAMP:20260419T121717
CREATED:20240831T070338Z
LAST-MODIFIED:20240831T070338Z
UID:3897-1732708800-1732708800@standrewsunitedchurch.co.uk
SUMMARY:CHURCH LUNCH
DESCRIPTION:CHURCH LUNCH – 12 noon – for more information please be in touch with Revd. Lorraine to book your place.
URL:https://standrewsunitedchurch.co.uk/event/church-lunch-14/
END:VEVENT
END:VCALENDAR