BEGIN:VCALENDAR
VERSION:2.0
PRODID:-// - ECPv6.15.17//NONSGML v1.0//EN
CALSCALE:GREGORIAN
METHOD:PUBLISH
X-ORIGINAL-URL:https://standrewsunitedchurch.co.uk
X-WR-CALDESC:Events for 
REFRESH-INTERVAL;VALUE=DURATION:PT1H
X-Robots-Tag:noindex
X-PUBLISHED-TTL:PT1H
BEGIN:VTIMEZONE
TZID:UTC
BEGIN:STANDARD
TZOFFSETFROM:+0000
TZOFFSETTO:+0000
TZNAME:UTC
DTSTART:20230101T000000
END:STANDARD
END:VTIMEZONE
BEGIN:VEVENT
DTSTART;TZID=UTC:20241205T100000
DTEND;TZID=UTC:20241205T113000
DTSTAMP:20260419T121641
CREATED:20240827T074633Z
LAST-MODIFIED:20240827T074633Z
UID:3794-1733392800-1733398200@standrewsunitedchurch.co.uk
SUMMARY:TODDLER GROUP
DESCRIPTION:TODDLER GROUP 10 – 11.30 am Thursdays during Term Time\, for 0-4 year olds with activities including games\, crafts\, play area\, dressing up and much more.
URL:https://standrewsunitedchurch.co.uk/event/toddler-group-106/
END:VEVENT
BEGIN:VEVENT
DTSTART;TZID=UTC:20241205T193000
DTEND;TZID=UTC:20241205T193000
DTSTAMP:20260419T121641
CREATED:20240831T082116Z
LAST-MODIFIED:20240831T082116Z
UID:3943-1733427000-1733427000@standrewsunitedchurch.co.uk
SUMMARY:FESTIVE EVENING OF SONG - OLDERSHAW SINGERS
DESCRIPTION:The OLDERSHAW SINGERS will perform a FESTIVE EVENING OF SONG on Thursday 5th December at 7.30 pm. \nPlease join us  for what promises to be a lovely evening of music and songs. \n 
URL:https://standrewsunitedchurch.co.uk/event/festive-evening-of-song-oldershaw-singers/
END:VEVENT
END:VCALENDAR