BEGIN:VCALENDAR
VERSION:2.0
PRODID:-// - ECPv6.15.17//NONSGML v1.0//EN
CALSCALE:GREGORIAN
METHOD:PUBLISH
X-ORIGINAL-URL:https://standrewsunitedchurch.co.uk
X-WR-CALDESC:Events for 
REFRESH-INTERVAL;VALUE=DURATION:PT1H
X-Robots-Tag:noindex
X-PUBLISHED-TTL:PT1H
BEGIN:VTIMEZONE
TZID:UTC
BEGIN:STANDARD
TZOFFSETFROM:+0000
TZOFFSETTO:+0000
TZNAME:UTC
DTSTART:20230101T000000
END:STANDARD
END:VTIMEZONE
BEGIN:VEVENT
DTSTART;VALUE=DATE:20241207
DTEND;VALUE=DATE:20241209
DTSTAMP:20260419T121555
CREATED:20240827T080002Z
LAST-MODIFIED:20240827T080002Z
UID:3802-1733529600-1733702399@standrewsunitedchurch.co.uk
SUMMARY:CHRISTMAS TREE FESTIVAL
DESCRIPTION:ANNUAL CHRISTMAS TREE FESTIVAL
URL:https://standrewsunitedchurch.co.uk/event/christmas-tree-festival-5/
END:VEVENT
BEGIN:VEVENT
DTSTART;TZID=UTC:20241207T110000
DTEND;TZID=UTC:20241207T130000
DTSTAMP:20260419T121555
CREATED:20240827T075743Z
LAST-MODIFIED:20241207T085654Z
UID:3800-1733569200-1733576400@standrewsunitedchurch.co.uk
SUMMARY:CHRISTMAS FAIR  -  CANCELLED DUE TO SEVERE WEATHER CONDITIONS
DESCRIPTION:CHRISTMAS FAIR will be held from 11 am until 1 pm. \nSomething for everyone at this year’s Christmas Fair – Refreshments\, Cake Stall\, Crafts\, Tobola\, Competition\, Games\, Raffle and much more. \nEVERYONE WELCOME
URL:https://standrewsunitedchurch.co.uk/event/christmas-fair-2/
LOCATION:St Andew’s United Church\, CH45 2LY
END:VEVENT
END:VCALENDAR