BEGIN:VCALENDAR
VERSION:2.0
PRODID:-// - ECPv6.15.17//NONSGML v1.0//EN
CALSCALE:GREGORIAN
METHOD:PUBLISH
X-ORIGINAL-URL:https://standrewsunitedchurch.co.uk
X-WR-CALDESC:Events for 
REFRESH-INTERVAL;VALUE=DURATION:PT1H
X-Robots-Tag:noindex
X-PUBLISHED-TTL:PT1H
BEGIN:VTIMEZONE
TZID:UTC
BEGIN:STANDARD
TZOFFSETFROM:+0000
TZOFFSETTO:+0000
TZNAME:UTC
DTSTART:20230101T000000
END:STANDARD
END:VTIMEZONE
BEGIN:VEVENT
DTSTART;TZID=UTC:20241211T103000
DTEND;TZID=UTC:20241211T113000
DTSTAMP:20260419T121754
CREATED:20241213T063713Z
LAST-MODIFIED:20241213T063713Z
UID:4048-1733913000-1733916600@standrewsunitedchurch.co.uk
SUMMARY:MIDWEEK SERVICE & ADVENT STUDY
DESCRIPTION:Hush the Noise: Join the love song this Christmas\nChristmas is loud\, isn’t it? So much expectation. So many voices. Telling us how to celebrate\, what to wear\, what to eat and drink\, what to watch and what to buy. \nInstead\, this Christmas we’re inviting everyone to hush the noise. To listen for the love song that the angels bring\, this and every year. They sang it for the first time more than 2\,000 years ago\, on the midnight clear. They’re just waiting for us to join in. \nHUSH THE NOISE is the theme for the Advent Study. \nStarts at 10.30 am and concludes with refreshments at 11.30am. \n  \nEveryone Welcome
URL:https://standrewsunitedchurch.co.uk/event/midweek-service-advent-study-3/
END:VEVENT
END:VCALENDAR