BEGIN:VCALENDAR
VERSION:2.0
PRODID:-// - ECPv6.15.17//NONSGML v1.0//EN
CALSCALE:GREGORIAN
METHOD:PUBLISH
X-ORIGINAL-URL:https://standrewsunitedchurch.co.uk
X-WR-CALDESC:Events for 
REFRESH-INTERVAL;VALUE=DURATION:PT1H
X-Robots-Tag:noindex
X-PUBLISHED-TTL:PT1H
BEGIN:VTIMEZONE
TZID:UTC
BEGIN:STANDARD
TZOFFSETFROM:+0000
TZOFFSETTO:+0000
TZNAME:UTC
DTSTART:20230101T000000
END:STANDARD
END:VTIMEZONE
BEGIN:VEVENT
DTSTART;TZID=UTC:20241215T103000
DTEND;TZID=UTC:20241215T103000
DTSTAMP:20260419T121753
CREATED:20240827T094052Z
LAST-MODIFIED:20240827T094052Z
UID:3858-1734258600-1734258600@standrewsunitedchurch.co.uk
SUMMARY:MORNING WORSHIP
DESCRIPTION:MORNING WORSHIP on the third Sunday of Advent will be led by the Revd. Heather MacLeod
URL:https://standrewsunitedchurch.co.uk/event/morning-worship-42/
END:VEVENT
BEGIN:VEVENT
DTSTART;TZID=UTC:20241215T160000
DTEND;TZID=UTC:20241215T160000
DTSTAMP:20260419T121753
CREATED:20240827T094210Z
LAST-MODIFIED:20240827T094210Z
UID:3860-1734278400-1734278400@standrewsunitedchurch.co.uk
SUMMARY:COMMUNITY CAROL SERVICE
DESCRIPTION:COMMUNITY CAROL SERVICE will be led by the Revd. Lorraine Aizlewood-Threlfall
URL:https://standrewsunitedchurch.co.uk/event/community-carol-service-2/
END:VEVENT
END:VCALENDAR