BEGIN:VCALENDAR
VERSION:2.0
PRODID:-// - ECPv6.15.17//NONSGML v1.0//EN
CALSCALE:GREGORIAN
METHOD:PUBLISH
X-ORIGINAL-URL:https://standrewsunitedchurch.co.uk
X-WR-CALDESC:Events for 
REFRESH-INTERVAL;VALUE=DURATION:PT1H
X-Robots-Tag:noindex
X-PUBLISHED-TTL:PT1H
BEGIN:VTIMEZONE
TZID:UTC
BEGIN:STANDARD
TZOFFSETFROM:+0000
TZOFFSETTO:+0000
TZNAME:UTC
DTSTART:20230101T000000
END:STANDARD
END:VTIMEZONE
BEGIN:VEVENT
DTSTART;VALUE=DATE:20241216
DTEND;VALUE=DATE:20241218
DTSTAMP:20260419T121804
CREATED:20241213T061824Z
LAST-MODIFIED:20241213T061824Z
UID:4032-1734307200-1734479999@standrewsunitedchurch.co.uk
SUMMARY:EXPERIENCE CHRISTMAS
DESCRIPTION:EXPERIENCE CHRISTMAS – an opportunity to remind school children of the meaning of Christmas.
URL:https://standrewsunitedchurch.co.uk/event/experience-christmas-9/
END:VEVENT
END:VCALENDAR