BEGIN:VCALENDAR
VERSION:2.0
PRODID:-// - ECPv6.15.17//NONSGML v1.0//EN
CALSCALE:GREGORIAN
METHOD:PUBLISH
X-ORIGINAL-URL:https://standrewsunitedchurch.co.uk
X-WR-CALDESC:Events for 
REFRESH-INTERVAL;VALUE=DURATION:PT1H
X-Robots-Tag:noindex
X-PUBLISHED-TTL:PT1H
BEGIN:VTIMEZONE
TZID:UTC
BEGIN:STANDARD
TZOFFSETFROM:+0000
TZOFFSETTO:+0000
TZNAME:UTC
DTSTART:20230101T000000
END:STANDARD
END:VTIMEZONE
BEGIN:VEVENT
DTSTART;TZID=UTC:20241218T100000
DTEND;TZID=UTC:20241218T110000
DTSTAMP:20260419T121642
CREATED:20241213T063832Z
LAST-MODIFIED:20241213T063832Z
UID:4050-1734516000-1734519600@standrewsunitedchurch.co.uk
SUMMARY:MIDWEEK SERVICE & ADVENT STUDY
DESCRIPTION:Hush the Noise: Join the love song this Christmas\nChristmas is loud\, isn’t it? So much expectation. So many voices. Telling us how to celebrate\, what to wear\, what to eat and drink\, what to watch and what to buy. \nInstead\, this Christmas we’re inviting everyone to hush the noise. To listen for the love song that the angels bring\, this and every year. They sang it for the first time more than 2\,000 years ago\, on the midnight clear. They’re just waiting for us to join in. \nHUSH THE NOISE is the theme for the Advent Study. \nStarts at 10.30 am and concludes with refreshments at 11.30am. \n  \nEveryone Welcome
URL:https://standrewsunitedchurch.co.uk/event/midweek-service-advent-study-4/
END:VEVENT
BEGIN:VEVENT
DTSTART;TZID=UTC:20241218T111500
DTEND;TZID=UTC:20241218T120000
DTSTAMP:20260419T121642
CREATED:20241213T064151Z
LAST-MODIFIED:20241213T064151Z
UID:4052-1734520500-1734523200@standrewsunitedchurch.co.uk
SUMMARY:CHRISTMAS CONCERT by THE GLEE CLUB
DESCRIPTION:CHRISTMAS CONCERT by THE GLEE CLUB will be performed starting at 11:15 am. \n  \nWe are delighted to welcome the members of the Glee Club who will sing a selection of Christmas Carols and Songs. \nEVERYONE WELCOME
URL:https://standrewsunitedchurch.co.uk/event/christmas-concert-by-the-glee-club/
END:VEVENT
BEGIN:VEVENT
DTSTART;TZID=UTC:20241218T120000
DTEND;TZID=UTC:20241218T120000
DTSTAMP:20260419T121642
CREATED:20240831T070521Z
LAST-MODIFIED:20240831T070521Z
UID:3899-1734523200-1734523200@standrewsunitedchurch.co.uk
SUMMARY:CHURCH CHRISTMAS LUNCH
DESCRIPTION:CHURCH CHRISTMAS LUNCH – 12 noon \nFor more information and to book your place\, please be in touch with Revd. Lorraine 0151 792 0972.
URL:https://standrewsunitedchurch.co.uk/event/church-christmas-lunch/
END:VEVENT
END:VCALENDAR