BEGIN:VCALENDAR
VERSION:2.0
PRODID:-// - ECPv6.15.17//NONSGML v1.0//EN
CALSCALE:GREGORIAN
METHOD:PUBLISH
X-ORIGINAL-URL:https://standrewsunitedchurch.co.uk
X-WR-CALDESC:Events for 
REFRESH-INTERVAL;VALUE=DURATION:PT1H
X-Robots-Tag:noindex
X-PUBLISHED-TTL:PT1H
BEGIN:VTIMEZONE
TZID:UTC
BEGIN:STANDARD
TZOFFSETFROM:+0000
TZOFFSETTO:+0000
TZNAME:UTC
DTSTART:20230101T000000
END:STANDARD
END:VTIMEZONE
BEGIN:VEVENT
DTSTART;TZID=UTC:20241220T120000
DTEND;TZID=UTC:20241220T140000
DTSTAMP:20260419T121641
CREATED:20240827T085619Z
LAST-MODIFIED:20240827T085619Z
UID:3850-1734696000-1734703200@standrewsunitedchurch.co.uk
SUMMARY:WARM WELCOME  FRIDAYS @ ST ANDREW'S
DESCRIPTION:From 12 noon until 2 pm Soup & Sandwich plus Tea & Coffee. \nEveryone Welcome
URL:https://standrewsunitedchurch.co.uk/event/warm-welcome-fridays-st-andrews-29/
END:VEVENT
END:VCALENDAR