BEGIN:VCALENDAR
VERSION:2.0
PRODID:-// - ECPv6.15.17//NONSGML v1.0//EN
CALSCALE:GREGORIAN
METHOD:PUBLISH
X-ORIGINAL-URL:https://standrewsunitedchurch.co.uk
X-WR-CALDESC:Events for 
REFRESH-INTERVAL;VALUE=DURATION:PT1H
X-Robots-Tag:noindex
X-PUBLISHED-TTL:PT1H
BEGIN:VTIMEZONE
TZID:UTC
BEGIN:STANDARD
TZOFFSETFROM:+0000
TZOFFSETTO:+0000
TZNAME:UTC
DTSTART:20250101T000000
END:STANDARD
END:VTIMEZONE
BEGIN:VEVENT
DTSTART;TZID=UTC:20260424T140000
DTEND;TZID=UTC:20260424T160000
DTSTAMP:20260424T020402
CREATED:20260303T155501Z
LAST-MODIFIED:20260303T155501Z
UID:5260-1777039200-1777046400@standrewsunitedchurch.co.uk
SUMMARY:KNIT & NATTER
DESCRIPTION:Knit & Natter\n\nCome and join this friendly group – meet new people\, learn new skills – whether knitting or crochet\, make new friends and join in future projects. The members have made a variety of items supporting various charities over the years – including blankets\, premature baby clothes\, hats\, knitted toys and items for Christmas. There is a stockpile of wool and knitting needles\, so no initial outlay. Bring along something you have started or something you are about to start. So whether you are a beginner or skilled knitter or just want to come along to find out what we are all about – you will be made very welcome. \n\n\n\nItems made supporting various charity projects such as Charles Thompson Mission\, Mission to Seafarers\, Premature Baby Unit at Arrowe Park Hospital\, plus Twiddle Muffs and Blankets for local residential homes. Whether you are a beginner or an accomplished knitter\, you will be made very welcome. \nEvery Friday from 2pm – 4pm – TERM TIME ONLY
URL:https://standrewsunitedchurch.co.uk/event/knit-natter-133/
END:VEVENT
END:VCALENDAR