BEGIN:VCALENDAR
VERSION:2.0
PRODID:-// - ECPv6.15.17//NONSGML v1.0//EN
CALSCALE:GREGORIAN
METHOD:PUBLISH
X-ORIGINAL-URL:https://standrewsunitedchurch.co.uk
X-WR-CALDESC:Events for 
REFRESH-INTERVAL;VALUE=DURATION:PT1H
X-Robots-Tag:noindex
X-PUBLISHED-TTL:PT1H
BEGIN:VTIMEZONE
TZID:UTC
BEGIN:STANDARD
TZOFFSETFROM:+0000
TZOFFSETTO:+0000
TZNAME:UTC
DTSTART:20230101T000000
END:STANDARD
END:VTIMEZONE
BEGIN:VEVENT
DTSTART;TZID=UTC:20240607T140000
DTEND;TZID=UTC:20240607T160000
DTSTAMP:20260420T141537
CREATED:20240408T220329Z
LAST-MODIFIED:20240408T220329Z
UID:3511-1717768800-1717776000@standrewsunitedchurch.co.uk
SUMMARY:KNIT & NATTER
DESCRIPTION:Knit & Natter\n\nCome and join this friendly group – meet new people\, learn new skills – whether knitting or crochet\, make new friends and join in future projects. The members have made a variety of items supporting various charities over the years – including blankets\, premature baby clothes\, hats\, knitted toys and items for Christmas. There is a stockpile of wool and knitting needles\, so no initial outlay. Bring along something you have started or something you are about to start. So whether you are a beginner or skilled knitter or just want to come along to find out what we are all about – you will be made very welcome. \n\n\n\nItems made supporting various charity projects such as Charles Thompson Mission\, Mission to Seafarers\, Premature Baby Unit at Arrowe Park Hospital\, plus Twiddle Muffs and Blankets for local residential homes. Whether you are a beginner or an accomplished knitter\, you will be made very welcome. \nEvery Friday from 2pm – 4pm – TERM TIME ONLY
URL:https://standrewsunitedchurch.co.uk/event/knit-natter-71/
END:VEVENT
BEGIN:VEVENT
DTSTART;TZID=UTC:20240606T100000
DTEND;TZID=UTC:20240606T113000
DTSTAMP:20260420T141537
CREATED:20240408T214810Z
LAST-MODIFIED:20240408T214810Z
UID:3481-1717668000-1717673400@standrewsunitedchurch.co.uk
SUMMARY:TODDLER GROUP
DESCRIPTION:TODDLER GROUP 10 – 11.30 am Thursdays during Term Time\, for 0-4 year olds with activities including games\, crafts\, play area\, dressing up and much more.
URL:https://standrewsunitedchurch.co.uk/event/toddler-group-89/
END:VEVENT
BEGIN:VEVENT
DTSTART;TZID=UTC:20240605T103000
DTEND;TZID=UTC:20240605T103000
DTSTAMP:20260420T141537
CREATED:20240529T070602Z
LAST-MODIFIED:20240529T071228Z
UID:3635-1717583400-1717583400@standrewsunitedchurch.co.uk
SUMMARY:CHRISTIANITY EXPLORED - BIBLE STUDY
DESCRIPTION:CHRISTIANITY EXPLORED is open to everyone. \nFor anyone looking to explore the Christian faith\, who Jesus is and why he matters. \nMeet the man who changed history\, in the pages of Mark’s Gospel. \n7 sessions\, each Wednesday starting at 10.30 am \n 
URL:https://standrewsunitedchurch.co.uk/event/bible-study-christianity-explored/
END:VEVENT
BEGIN:VEVENT
DTSTART;TZID=UTC:20240603T100000
DTEND;TZID=UTC:20240603T110000
DTSTAMP:20260420T141537
CREATED:20240408T213146Z
LAST-MODIFIED:20240408T213146Z
UID:3462-1717408800-1717412400@standrewsunitedchurch.co.uk
SUMMARY:STAY & PLAY
DESCRIPTION:STAY & PLAY \n\n\n\n\nMonday’s 10:00am – 11:00am – TERM TIME ONLY \nAt St Andrew’s United Church Rowson Street New Brighton CH45 2LY \nFor more information ring Seacombe Children Centre on:\n0151 666 3506.
URL:https://standrewsunitedchurch.co.uk/event/stay-play-55/
END:VEVENT
BEGIN:VEVENT
DTSTART;TZID=UTC:20240602T120000
DTEND;TZID=UTC:20240602T150000
DTSTAMP:20260420T141537
CREATED:20240504T235736Z
LAST-MODIFIED:20240529T063858Z
UID:3579-1717329600-1717340400@standrewsunitedchurch.co.uk
SUMMARY:BIG LUNCH
DESCRIPTION:BIG LUNCH – Community Lunch\, games and activities for all the family. \n  \nIf you would like to book your place please contact Revd. Lorraine 0151 792 0972
URL:https://standrewsunitedchurch.co.uk/event/big-lunch/
END:VEVENT
BEGIN:VEVENT
DTSTART;TZID=UTC:20240602T103000
DTEND;TZID=UTC:20240602T103000
DTSTAMP:20260420T141537
CREATED:20240504T235532Z
LAST-MODIFIED:20240504T235532Z
UID:3577-1717324200-1717324200@standrewsunitedchurch.co.uk
SUMMARY:HOLY COMMUNION
DESCRIPTION:Holy Communion Service will be held at 10.30 am and will be conducted by Revd. Lorraine AIzlewood-Threlfall.
URL:https://standrewsunitedchurch.co.uk/event/holy-communion-6/
END:VEVENT
BEGIN:VEVENT
DTSTART;TZID=UTC:20240529T103000
DTEND;TZID=UTC:20240529T111500
DTSTAMP:20260420T141537
CREATED:20240529T064111Z
LAST-MODIFIED:20240529T064111Z
UID:3619-1716978600-1716981300@standrewsunitedchurch.co.uk
SUMMARY:MIDWEEK SERVICE
DESCRIPTION:MIDWEEK SERVICE – 10.30 am \nEveryone Welcome
URL:https://standrewsunitedchurch.co.uk/event/midweek-service-16/
END:VEVENT
BEGIN:VEVENT
DTSTART;VALUE=DATE:20240527
DTEND;VALUE=DATE:20240601
DTSTAMP:20260420T141537
CREATED:20240408T212220Z
LAST-MODIFIED:20240408T214029Z
UID:3438-1716768000-1717199999@standrewsunitedchurch.co.uk
SUMMARY:HALF TERM
DESCRIPTION:
URL:https://standrewsunitedchurch.co.uk/event/half-term-2/
END:VEVENT
BEGIN:VEVENT
DTSTART;VALUE=DATE:20240527
DTEND;VALUE=DATE:20240528
DTSTAMP:20260420T141537
CREATED:20240408T213058Z
LAST-MODIFIED:20240408T213058Z
UID:3460-1716768000-1716854399@standrewsunitedchurch.co.uk
SUMMARY:BANK HOLIDAY
DESCRIPTION:
URL:https://standrewsunitedchurch.co.uk/event/bank-holiday-5/
END:VEVENT
BEGIN:VEVENT
DTSTART;TZID=UTC:20240526T103000
DTEND;TZID=UTC:20240526T103000
DTSTAMP:20260420T141537
CREATED:20240504T234844Z
LAST-MODIFIED:20240504T234844Z
UID:3572-1716719400-1716719400@standrewsunitedchurch.co.uk
SUMMARY:MORNING WORSHIP
DESCRIPTION:Morning Worship will commence at 10.30 am and will be led by Revd. George Palmer.
URL:https://standrewsunitedchurch.co.uk/event/morning-worship-26/
END:VEVENT
BEGIN:VEVENT
DTSTART;TZID=UTC:20240524T140000
DTEND;TZID=UTC:20240524T160000
DTSTAMP:20260420T141537
CREATED:20240408T220219Z
LAST-MODIFIED:20240408T220219Z
UID:3509-1716559200-1716566400@standrewsunitedchurch.co.uk
SUMMARY:KNIT & NATTER
DESCRIPTION:Knit & Natter\n\nCome and join this friendly group – meet new people\, learn new skills – whether knitting or crochet\, make new friends and join in future projects. The members have made a variety of items supporting various charities over the years – including blankets\, premature baby clothes\, hats\, knitted toys and items for Christmas. There is a stockpile of wool and knitting needles\, so no initial outlay. Bring along something you have started or something you are about to start. So whether you are a beginner or skilled knitter or just want to come along to find out what we are all about – you will be made very welcome. \n\n\n\nItems made supporting various charity projects such as Charles Thompson Mission\, Mission to Seafarers\, Premature Baby Unit at Arrowe Park Hospital\, plus Twiddle Muffs and Blankets for local residential homes. Whether you are a beginner or an accomplished knitter\, you will be made very welcome. \nEvery Friday from 2pm – 4pm – TERM TIME ONLY
URL:https://standrewsunitedchurch.co.uk/event/knit-natter-70/
END:VEVENT
BEGIN:VEVENT
DTSTART;TZID=UTC:20240523T100000
DTEND;TZID=UTC:20240523T113000
DTSTAMP:20260420T141537
CREATED:20240408T211937Z
LAST-MODIFIED:20240408T211937Z
UID:3436-1716458400-1716463800@standrewsunitedchurch.co.uk
SUMMARY:TODDLER GROUP
DESCRIPTION:TODDLER GROUP 10 – 11.30 am Thursdays during Term Time\, for 0-4 year olds with activities including games\, crafts\, play area\, dressing up and much more.
URL:https://standrewsunitedchurch.co.uk/event/toddler-group-88/
END:VEVENT
BEGIN:VEVENT
DTSTART;TZID=UTC:20240522T120000
DTEND;TZID=UTC:20240522T120000
DTSTAMP:20260420T141537
CREATED:20240505T000032Z
LAST-MODIFIED:20240505T000032Z
UID:3581-1716379200-1716379200@standrewsunitedchurch.co.uk
SUMMARY:CHURCH LUNCH
DESCRIPTION:CHURCH LUNCH – 12 noon – for more information please be in touch with Revd. Lorraine to book your place.
URL:https://standrewsunitedchurch.co.uk/event/church-lunch-9/
END:VEVENT
BEGIN:VEVENT
DTSTART;TZID=UTC:20240522T103000
DTEND;TZID=UTC:20240522T113000
DTSTAMP:20260420T141537
CREATED:20240417T073236Z
LAST-MODIFIED:20240417T073236Z
UID:3533-1716373800-1716377400@standrewsunitedchurch.co.uk
SUMMARY:Midweek Service & Bible Study
DESCRIPTION:Midweek Service & Bible Study \n10:30am \nTerm time only
URL:https://standrewsunitedchurch.co.uk/event/midweek-service-bible-study-20/
LOCATION:St Andew’s United Church\, CH45 2LY
CATEGORIES:Midweek Service
END:VEVENT
BEGIN:VEVENT
DTSTART;TZID=UTC:20240520T100000
DTEND;TZID=UTC:20240520T110000
DTSTAMP:20260420T141537
CREATED:20240408T213033Z
LAST-MODIFIED:20240408T213033Z
UID:3458-1716199200-1716202800@standrewsunitedchurch.co.uk
SUMMARY:STAY & PLAY
DESCRIPTION:STAY & PLAY \n\n\n\n\nMonday’s 10:00am – 11:00am – TERM TIME ONLY \nAt St Andrew’s United Church Rowson Street New Brighton CH45 2LY \nFor more information ring Seacombe Children Centre on:\n0151 666 3506.
URL:https://standrewsunitedchurch.co.uk/event/stay-play-54/
END:VEVENT
BEGIN:VEVENT
DTSTART;TZID=UTC:20240519T100000
DTEND;TZID=UTC:20240519T100000
DTSTAMP:20260420T141537
CREATED:20240417T073947Z
LAST-MODIFIED:20240504T234703Z
UID:3543-1716112800-1716112800@standrewsunitedchurch.co.uk
SUMMARY:PENTECOST  -  United Service at St James's Church
DESCRIPTION:United Service for PENTECOST will be held at St. James with Emmanuel at 10 am and will include Holy Communion. \nRevd. Heather Atkinson and Revd. Lorraine AIzlewood-Threlfall \n  \nPlease note that there will not be a worship service at St. Andrew’s today.
URL:https://standrewsunitedchurch.co.uk/event/united-service-at-st-jamess-church/
END:VEVENT
BEGIN:VEVENT
DTSTART;TZID=UTC:20240517T190000
DTEND;TZID=UTC:20240517T220000
DTSTAMP:20260420T141537
CREATED:20240516T071814Z
LAST-MODIFIED:20240516T071814Z
UID:3595-1715972400-1715983200@standrewsunitedchurch.co.uk
SUMMARY:NUTS IN MAY - VARIETY SHOW @ Seacombe United Reformed Church
DESCRIPTION:NUTS IN MAY – VARIETY SHOW @ Seacombe United Reformed Church\, Brougham Road\, Wallasey CH44 6PW. \nShow starting at 7.30 pm. Doors open at 7 pm.  Admission – Adults £5.00 and Children £3.00. \nAn entertaining evening for all the family.
URL:https://standrewsunitedchurch.co.uk/event/nuts-in-may-variety-show-seacombe-united-reformed-church/
END:VEVENT
BEGIN:VEVENT
DTSTART;TZID=UTC:20240517T140000
DTEND;TZID=UTC:20240517T160000
DTSTAMP:20260420T141537
CREATED:20240417T073817Z
LAST-MODIFIED:20240417T073817Z
UID:3541-1715954400-1715961600@standrewsunitedchurch.co.uk
SUMMARY:St Andrew's open for Prayer
DESCRIPTION:
URL:https://standrewsunitedchurch.co.uk/event/st-andrews-open-for-prayer-2/
LOCATION:St Andew’s United Church\, CH45 2LY
END:VEVENT
BEGIN:VEVENT
DTSTART;TZID=UTC:20240517T140000
DTEND;TZID=UTC:20240517T160000
DTSTAMP:20260420T141537
CREATED:20240408T220131Z
LAST-MODIFIED:20240408T220131Z
UID:3507-1715954400-1715961600@standrewsunitedchurch.co.uk
SUMMARY:KNIT & NATTER
DESCRIPTION:Knit & Natter\n\nCome and join this friendly group – meet new people\, learn new skills – whether knitting or crochet\, make new friends and join in future projects. The members have made a variety of items supporting various charities over the years – including blankets\, premature baby clothes\, hats\, knitted toys and items for Christmas. There is a stockpile of wool and knitting needles\, so no initial outlay. Bring along something you have started or something you are about to start. So whether you are a beginner or skilled knitter or just want to come along to find out what we are all about – you will be made very welcome. \n\n\n\nItems made supporting various charity projects such as Charles Thompson Mission\, Mission to Seafarers\, Premature Baby Unit at Arrowe Park Hospital\, plus Twiddle Muffs and Blankets for local residential homes. Whether you are a beginner or an accomplished knitter\, you will be made very welcome. \nEvery Friday from 2pm – 4pm – TERM TIME ONLY
URL:https://standrewsunitedchurch.co.uk/event/knit-natter-69/
END:VEVENT
BEGIN:VEVENT
DTSTART;TZID=UTC:20240516T100000
DTEND;TZID=UTC:20240516T113000
DTSTAMP:20260420T141537
CREATED:20240408T211829Z
LAST-MODIFIED:20240408T211829Z
UID:3434-1715853600-1715859000@standrewsunitedchurch.co.uk
SUMMARY:TODDLER GROUP
DESCRIPTION:TODDLER GROUP 10 – 11.30 am Thursdays during Term Time\, for 0-4 year olds with activities including games\, crafts\, play area\, dressing up and much more.
URL:https://standrewsunitedchurch.co.uk/event/toddler-group-87/
END:VEVENT
BEGIN:VEVENT
DTSTART;TZID=UTC:20240515T103000
DTEND;TZID=UTC:20240515T233000
DTSTAMP:20260420T141537
CREATED:20240417T073154Z
LAST-MODIFIED:20240417T073154Z
UID:3531-1715769000-1715815800@standrewsunitedchurch.co.uk
SUMMARY:Midweek Service & Bible Study
DESCRIPTION:Midweek Service & Bible Study \n10:30am \nTerm time only
URL:https://standrewsunitedchurch.co.uk/event/midweek-service-bible-study-19/
LOCATION:St Andew’s United Church\, CH45 2LY
CATEGORIES:Midweek Service
END:VEVENT
BEGIN:VEVENT
DTSTART;TZID=UTC:20240515T100000
DTEND;TZID=UTC:20240515T120000
DTSTAMP:20260420T141537
CREATED:20240508T125501Z
LAST-MODIFIED:20240508T125501Z
UID:3590-1715767200-1715774400@standrewsunitedchurch.co.uk
SUMMARY:St Andrew’s open for Prayer
DESCRIPTION:
URL:https://standrewsunitedchurch.co.uk/event/st-andrews-open-for-prayer-4/
LOCATION:St Andew’s United Church\, CH45 2LY
END:VEVENT
BEGIN:VEVENT
DTSTART;TZID=UTC:20240513T100000
DTEND;TZID=UTC:20240513T110000
DTSTAMP:20260420T141537
CREATED:20240408T212940Z
LAST-MODIFIED:20240408T212940Z
UID:3456-1715594400-1715598000@standrewsunitedchurch.co.uk
SUMMARY:STAY & PLAY
DESCRIPTION:STAY & PLAY \n\n\n\n\nMonday’s 10:00am – 11:00am – TERM TIME ONLY \nAt St Andrew’s United Church Rowson Street New Brighton CH45 2LY \nFor more information ring Seacombe Children Centre on:\n0151 666 3506.
URL:https://standrewsunitedchurch.co.uk/event/stay-play-53/
END:VEVENT
BEGIN:VEVENT
DTSTART;TZID=UTC:20240512T120000
DTEND;TZID=UTC:20240512T140000
DTSTAMP:20260420T141537
CREATED:20240508T125350Z
LAST-MODIFIED:20240508T125350Z
UID:3588-1715515200-1715522400@standrewsunitedchurch.co.uk
SUMMARY:St Andrew’s open for Prayer
DESCRIPTION:
URL:https://standrewsunitedchurch.co.uk/event/st-andrews-open-for-prayer-3/
LOCATION:St Andew’s United Church\, CH45 2LY
END:VEVENT
BEGIN:VEVENT
DTSTART;TZID=UTC:20240512T103000
DTEND;TZID=UTC:20240512T103000
DTSTAMP:20260420T141537
CREATED:20240504T234248Z
LAST-MODIFIED:20240504T234248Z
UID:3567-1715509800-1715509800@standrewsunitedchurch.co.uk
SUMMARY:MORNING WORSHIP
DESCRIPTION:Morning Worship will start at 10.30 am and will be led by Revd. Heather MacLeod \n  \nChristian Aid Week – 12 – 19th May
URL:https://standrewsunitedchurch.co.uk/event/morning-worship-25/
END:VEVENT
BEGIN:VEVENT
DTSTART;TZID=UTC:20240511T100000
DTEND;TZID=UTC:20240511T140000
DTSTAMP:20260420T141537
CREATED:20240417T073734Z
LAST-MODIFIED:20240417T073734Z
UID:3539-1715421600-1715436000@standrewsunitedchurch.co.uk
SUMMARY:St Andrew's open for Prayer
DESCRIPTION:
URL:https://standrewsunitedchurch.co.uk/event/st-andrews-open-for-prayer/
LOCATION:St Andew’s United Church\, CH45 2LY
END:VEVENT
BEGIN:VEVENT
DTSTART;TZID=UTC:20240510T140000
DTEND;TZID=UTC:20240510T160000
DTSTAMP:20260420T141537
CREATED:20240408T220057Z
LAST-MODIFIED:20240408T220057Z
UID:3505-1715349600-1715356800@standrewsunitedchurch.co.uk
SUMMARY:KNIT & NATTER
DESCRIPTION:Knit & Natter\n\nCome and join this friendly group – meet new people\, learn new skills – whether knitting or crochet\, make new friends and join in future projects. The members have made a variety of items supporting various charities over the years – including blankets\, premature baby clothes\, hats\, knitted toys and items for Christmas. There is a stockpile of wool and knitting needles\, so no initial outlay. Bring along something you have started or something you are about to start. So whether you are a beginner or skilled knitter or just want to come along to find out what we are all about – you will be made very welcome. \n\n\n\nItems made supporting various charity projects such as Charles Thompson Mission\, Mission to Seafarers\, Premature Baby Unit at Arrowe Park Hospital\, plus Twiddle Muffs and Blankets for local residential homes. Whether you are a beginner or an accomplished knitter\, you will be made very welcome. \nEvery Friday from 2pm – 4pm – TERM TIME ONLY
URL:https://standrewsunitedchurch.co.uk/event/knit-natter-68/
END:VEVENT
BEGIN:VEVENT
DTSTART;TZID=UTC:20240509T100000
DTEND;TZID=UTC:20240509T113000
DTSTAMP:20260420T141537
CREATED:20240408T211747Z
LAST-MODIFIED:20240408T211747Z
UID:3432-1715248800-1715254200@standrewsunitedchurch.co.uk
SUMMARY:TODDLER GROUP
DESCRIPTION:TODDLER GROUP 10 – 11.30 am Thursdays during Term Time\, for 0-4 year olds with activities including games\, crafts\, play area\, dressing up and much more.
URL:https://standrewsunitedchurch.co.uk/event/toddler-group-86/
END:VEVENT
BEGIN:VEVENT
DTSTART;TZID=UTC:20240509T100000
DTEND;TZID=UTC:20240509T100000
DTSTAMP:20260420T141537
CREATED:20240504T235124Z
LAST-MODIFIED:20240504T235124Z
UID:3574-1715248800-1715248800@standrewsunitedchurch.co.uk
SUMMARY:ASCENSION DAY United Holy Communion Service @ Emmanuel Church
DESCRIPTION:Ascension Service will be held at Emmanuel Church\, led by Revd. Heather Atkinson and Revd. Lorraine AIzlewood-Threlfall  will be preaching.
URL:https://standrewsunitedchurch.co.uk/event/ascension-day-united-holy-communion-service-emmanuel-church/
END:VEVENT
BEGIN:VEVENT
DTSTART;VALUE=DATE:20240509
DTEND;VALUE=DATE:20240520
DTSTAMP:20260420T141537
CREATED:20240516T073043Z
LAST-MODIFIED:20240516T073043Z
UID:3600-1715212800-1716163199@standrewsunitedchurch.co.uk
SUMMARY:THY KINGDOM COME
DESCRIPTION:THY KINGDOM COME \nGlobal prayer from Ascension Day until Pentecost.  St. Andrew’s is uniting with St. James opening both churches for prayer at the same time.  Please see calendar to find out when the church is open.  There are eleven prayer stations within the churches – five at St. Andrew’s and six at St. James.  Please take time to pray.
URL:https://standrewsunitedchurch.co.uk/event/thy-kingdom-come/
END:VEVENT
END:VCALENDAR