BEGIN:VCALENDAR
VERSION:2.0
PRODID:-// - ECPv6.15.17//NONSGML v1.0//EN
CALSCALE:GREGORIAN
METHOD:PUBLISH
X-ORIGINAL-URL:https://standrewsunitedchurch.co.uk
X-WR-CALDESC:Events for 
REFRESH-INTERVAL;VALUE=DURATION:PT1H
X-Robots-Tag:noindex
X-PUBLISHED-TTL:PT1H
BEGIN:VTIMEZONE
TZID:UTC
BEGIN:STANDARD
TZOFFSETFROM:+0000
TZOFFSETTO:+0000
TZNAME:UTC
DTSTART:20230101T000000
END:STANDARD
END:VTIMEZONE
BEGIN:VEVENT
DTSTART;TZID=UTC:20240509T100000
DTEND;TZID=UTC:20240509T100000
DTSTAMP:20260420T231204
CREATED:20240504T235124Z
LAST-MODIFIED:20240504T235124Z
UID:3574-1715248800-1715248800@standrewsunitedchurch.co.uk
SUMMARY:ASCENSION DAY United Holy Communion Service @ Emmanuel Church
DESCRIPTION:Ascension Service will be held at Emmanuel Church\, led by Revd. Heather Atkinson and Revd. Lorraine AIzlewood-Threlfall  will be preaching.
URL:https://standrewsunitedchurch.co.uk/event/ascension-day-united-holy-communion-service-emmanuel-church/
END:VEVENT
BEGIN:VEVENT
DTSTART;VALUE=DATE:20240509
DTEND;VALUE=DATE:20240520
DTSTAMP:20260420T231204
CREATED:20240516T073043Z
LAST-MODIFIED:20240516T073043Z
UID:3600-1715212800-1716163199@standrewsunitedchurch.co.uk
SUMMARY:THY KINGDOM COME
DESCRIPTION:THY KINGDOM COME \nGlobal prayer from Ascension Day until Pentecost.  St. Andrew’s is uniting with St. James opening both churches for prayer at the same time.  Please see calendar to find out when the church is open.  There are eleven prayer stations within the churches – five at St. Andrew’s and six at St. James.  Please take time to pray.
URL:https://standrewsunitedchurch.co.uk/event/thy-kingdom-come/
END:VEVENT
BEGIN:VEVENT
DTSTART;TZID=UTC:20240508T103000
DTEND;TZID=UTC:20240508T113000
DTSTAMP:20260420T231204
CREATED:20240417T072836Z
LAST-MODIFIED:20240504T235318Z
UID:3529-1715164200-1715167800@standrewsunitedchurch.co.uk
SUMMARY:Midweek Service & Bible Study - CANCELLED
DESCRIPTION:Midweek Service & Bible Study \n10:30am \nTerm time only
URL:https://standrewsunitedchurch.co.uk/event/midweek-service-bible-study-18/
LOCATION:St Andew’s United Church\, CH45 2LY
END:VEVENT
BEGIN:VEVENT
DTSTART;VALUE=DATE:20240506
DTEND;VALUE=DATE:20240507
DTSTAMP:20260420T231204
CREATED:20240408T212854Z
LAST-MODIFIED:20240408T212854Z
UID:3454-1714953600-1715039999@standrewsunitedchurch.co.uk
SUMMARY:BANK HOLIDAY
DESCRIPTION:
URL:https://standrewsunitedchurch.co.uk/event/bank-holiday-4/
END:VEVENT
BEGIN:VEVENT
DTSTART;TZID=UTC:20240505T110000
DTEND;TZID=UTC:20240505T110000
DTSTAMP:20260420T231204
CREATED:20240305T220336Z
LAST-MODIFIED:20240305T220336Z
UID:3415-1714906800-1714906800@standrewsunitedchurch.co.uk
SUMMARY:UNITED SERVICE @ SEACOMBE UNITED REFORMED CHURCH
DESCRIPTION:HOLY COMMUNION service at Seacombe URC led by the Revd. Lorraine Aizlewood-Threlfall \n  \nNO SERVICE AT ST. ANDREW’s UNITED CHURCH TODAY
URL:https://standrewsunitedchurch.co.uk/event/united-service-seacombe-united-reformed-church-2/
END:VEVENT
BEGIN:VEVENT
DTSTART;TZID=UTC:20240504T100000
DTEND;TZID=UTC:20240504T120000
DTSTAMP:20260420T231204
CREATED:20240417T073617Z
LAST-MODIFIED:20240417T073617Z
UID:3537-1714816800-1714824000@standrewsunitedchurch.co.uk
SUMMARY:Coffee and Cake Sale
DESCRIPTION:
URL:https://standrewsunitedchurch.co.uk/event/coffee-and-cake-sale/
LOCATION:St Andew’s United Church\, CH45 2LY
END:VEVENT
BEGIN:VEVENT
DTSTART;TZID=UTC:20240503T140000
DTEND;TZID=UTC:20240503T160000
DTSTAMP:20260420T231204
CREATED:20240408T220006Z
LAST-MODIFIED:20240408T220006Z
UID:3503-1714744800-1714752000@standrewsunitedchurch.co.uk
SUMMARY:KNIT & NATTER
DESCRIPTION:Knit & Natter\n\nCome and join this friendly group – meet new people\, learn new skills – whether knitting or crochet\, make new friends and join in future projects. The members have made a variety of items supporting various charities over the years – including blankets\, premature baby clothes\, hats\, knitted toys and items for Christmas. There is a stockpile of wool and knitting needles\, so no initial outlay. Bring along something you have started or something you are about to start. So whether you are a beginner or skilled knitter or just want to come along to find out what we are all about – you will be made very welcome. \n\n\n\nItems made supporting various charity projects such as Charles Thompson Mission\, Mission to Seafarers\, Premature Baby Unit at Arrowe Park Hospital\, plus Twiddle Muffs and Blankets for local residential homes. Whether you are a beginner or an accomplished knitter\, you will be made very welcome. \nEvery Friday from 2pm – 4pm – TERM TIME ONLY
URL:https://standrewsunitedchurch.co.uk/event/knit-natter-67/
END:VEVENT
BEGIN:VEVENT
DTSTART;TZID=UTC:20240502T100000
DTEND;TZID=UTC:20240502T113000
DTSTAMP:20260420T231204
CREATED:20240408T211657Z
LAST-MODIFIED:20240408T211657Z
UID:3430-1714644000-1714649400@standrewsunitedchurch.co.uk
SUMMARY:TODDLER GROUP
DESCRIPTION:TODDLER GROUP 10 – 11.30 am Thursdays during Term Time\, for 0-4 year olds with activities including games\, crafts\, play area\, dressing up and much more.
URL:https://standrewsunitedchurch.co.uk/event/toddler-group-85/
END:VEVENT
BEGIN:VEVENT
DTSTART;TZID=UTC:20240501T120000
DTEND;TZID=UTC:20240501T140000
DTSTAMP:20260420T231204
CREATED:20240417T073539Z
LAST-MODIFIED:20240417T073539Z
UID:3535-1714564800-1714572000@standrewsunitedchurch.co.uk
SUMMARY:Church Lunch
DESCRIPTION:
URL:https://standrewsunitedchurch.co.uk/event/church-lunch-8/
LOCATION:St Andew’s United Church\, CH45 2LY
END:VEVENT
BEGIN:VEVENT
DTSTART;TZID=UTC:20240501T103000
DTEND;TZID=UTC:20240501T113000
DTSTAMP:20260420T231204
CREATED:20240417T072634Z
LAST-MODIFIED:20240417T072634Z
UID:3527-1714559400-1714563000@standrewsunitedchurch.co.uk
SUMMARY:Midweek Service & Bible Study
DESCRIPTION:Midweek Service & Bible Study \n10:30am \nTerm time only
URL:https://standrewsunitedchurch.co.uk/event/midweek-service-bible-study-17/
LOCATION:St Andew’s United Church\, CH45 2LY
END:VEVENT
BEGIN:VEVENT
DTSTART;TZID=UTC:20240429T100000
DTEND;TZID=UTC:20240429T110000
DTSTAMP:20260420T231204
CREATED:20240408T212818Z
LAST-MODIFIED:20240408T212818Z
UID:3452-1714384800-1714388400@standrewsunitedchurch.co.uk
SUMMARY:STAY & PLAY
DESCRIPTION:STAY & PLAY \n\n\n\n\nMonday’s 10:00am – 11:00am – TERM TIME ONLY \nAt St Andrew’s United Church Rowson Street New Brighton CH45 2LY \nFor more information ring Seacombe Children Centre on:\n0151 666 3506.
URL:https://standrewsunitedchurch.co.uk/event/stay-play-52/
END:VEVENT
BEGIN:VEVENT
DTSTART;TZID=UTC:20240428T103000
DTEND;TZID=UTC:20240428T103000
DTSTAMP:20260420T231204
CREATED:20240305T215819Z
LAST-MODIFIED:20240305T215819Z
UID:3411-1714300200-1714300200@standrewsunitedchurch.co.uk
SUMMARY:MORNING WORSHIP
DESCRIPTION:MORNING WORSHIP led by the Revd. Lorraine Aizlewood-Threlfall
URL:https://standrewsunitedchurch.co.uk/event/morning-worship-24/
END:VEVENT
BEGIN:VEVENT
DTSTART;TZID=UTC:20240426T140000
DTEND;TZID=UTC:20240426T160000
DTSTAMP:20260420T231204
CREATED:20240408T215901Z
LAST-MODIFIED:20240408T215901Z
UID:3501-1714140000-1714147200@standrewsunitedchurch.co.uk
SUMMARY:KNIT & NATTER
DESCRIPTION:Knit & Natter\n\nCome and join this friendly group – meet new people\, learn new skills – whether knitting or crochet\, make new friends and join in future projects. The members have made a variety of items supporting various charities over the years – including blankets\, premature baby clothes\, hats\, knitted toys and items for Christmas. There is a stockpile of wool and knitting needles\, so no initial outlay. Bring along something you have started or something you are about to start. So whether you are a beginner or skilled knitter or just want to come along to find out what we are all about – you will be made very welcome. \n\n\n\nItems made supporting various charity projects such as Charles Thompson Mission\, Mission to Seafarers\, Premature Baby Unit at Arrowe Park Hospital\, plus Twiddle Muffs and Blankets for local residential homes. Whether you are a beginner or an accomplished knitter\, you will be made very welcome. \nEvery Friday from 2pm – 4pm – TERM TIME ONLY
URL:https://standrewsunitedchurch.co.uk/event/knit-natter-66/
END:VEVENT
BEGIN:VEVENT
DTSTART;TZID=UTC:20240425T100000
DTEND;TZID=UTC:20240425T113000
DTSTAMP:20260420T231204
CREATED:20240408T211605Z
LAST-MODIFIED:20240408T211605Z
UID:3428-1714039200-1714044600@standrewsunitedchurch.co.uk
SUMMARY:TODDLER GROUP
DESCRIPTION:TODDLER GROUP 10 – 11.30 am Thursdays during Term Time\, for 0-4 year olds with activities including games\, crafts\, play area\, dressing up and much more.
URL:https://standrewsunitedchurch.co.uk/event/toddler-group-84/
END:VEVENT
BEGIN:VEVENT
DTSTART;TZID=UTC:20240424T103000
DTEND;TZID=UTC:20240424T113000
DTSTAMP:20260420T231204
CREATED:20240417T072507Z
LAST-MODIFIED:20240417T072706Z
UID:3525-1713954600-1713958200@standrewsunitedchurch.co.uk
SUMMARY:Midweek Service & Bible Study
DESCRIPTION:Midweek Service & Bible Study \n10:30am \nTerm time only
URL:https://standrewsunitedchurch.co.uk/event/midweek-service-bible-study-11/
LOCATION:St Andew’s United Church\, CH45 2LY
END:VEVENT
BEGIN:VEVENT
DTSTART;TZID=UTC:20240422T100000
DTEND;TZID=UTC:20240422T110000
DTSTAMP:20260420T231204
CREATED:20240408T212740Z
LAST-MODIFIED:20240408T212740Z
UID:3450-1713780000-1713783600@standrewsunitedchurch.co.uk
SUMMARY:STAY & PLAY
DESCRIPTION:STAY & PLAY \n\n\n\n\nMonday’s 10:00am – 11:00am – TERM TIME ONLY \nAt St Andrew’s United Church Rowson Street New Brighton CH45 2LY \nFor more information ring Seacombe Children Centre on:\n0151 666 3506.
URL:https://standrewsunitedchurch.co.uk/event/stay-play-51/
END:VEVENT
BEGIN:VEVENT
DTSTART;TZID=UTC:20240421T103000
DTEND;TZID=UTC:20240421T103000
DTSTAMP:20260420T231204
CREATED:20240305T215710Z
LAST-MODIFIED:20240305T215710Z
UID:3409-1713695400-1713695400@standrewsunitedchurch.co.uk
SUMMARY:MORNING WORSHIP
DESCRIPTION:MORNING WORSHIP led by Revd. Heather MacLeod
URL:https://standrewsunitedchurch.co.uk/event/morning-worship-23/
END:VEVENT
BEGIN:VEVENT
DTSTART;TZID=UTC:20240419T140000
DTEND;TZID=UTC:20240419T160000
DTSTAMP:20260420T231204
CREATED:20240408T215811Z
LAST-MODIFIED:20240408T215811Z
UID:3499-1713535200-1713542400@standrewsunitedchurch.co.uk
SUMMARY:KNIT & NATTER
DESCRIPTION:Knit & Natter\n\nCome and join this friendly group – meet new people\, learn new skills – whether knitting or crochet\, make new friends and join in future projects. The members have made a variety of items supporting various charities over the years – including blankets\, premature baby clothes\, hats\, knitted toys and items for Christmas. There is a stockpile of wool and knitting needles\, so no initial outlay. Bring along something you have started or something you are about to start. So whether you are a beginner or skilled knitter or just want to come along to find out what we are all about – you will be made very welcome. \n\n\n\nItems made supporting various charity projects such as Charles Thompson Mission\, Mission to Seafarers\, Premature Baby Unit at Arrowe Park Hospital\, plus Twiddle Muffs and Blankets for local residential homes. Whether you are a beginner or an accomplished knitter\, you will be made very welcome. \nEvery Friday from 2pm – 4pm – TERM TIME ONLY
URL:https://standrewsunitedchurch.co.uk/event/knit-natter-65/
END:VEVENT
BEGIN:VEVENT
DTSTART;TZID=UTC:20240418T100000
DTEND;TZID=UTC:20240418T113000
DTSTAMP:20260420T231204
CREATED:20240408T211515Z
LAST-MODIFIED:20240408T211515Z
UID:3426-1713434400-1713439800@standrewsunitedchurch.co.uk
SUMMARY:TODDLER GROUP
DESCRIPTION:TODDLER GROUP 10 – 11.30 am Thursdays during Term Time\, for 0-4 year olds with activities including games\, crafts\, play area\, dressing up and much more.
URL:https://standrewsunitedchurch.co.uk/event/toddler-group-74/
END:VEVENT
BEGIN:VEVENT
DTSTART;TZID=UTC:20240415T100000
DTEND;TZID=UTC:20240415T110000
DTSTAMP:20260420T231204
CREATED:20240408T212701Z
LAST-MODIFIED:20240408T212701Z
UID:3448-1713175200-1713178800@standrewsunitedchurch.co.uk
SUMMARY:STAY & PLAY
DESCRIPTION:STAY & PLAY \n\n\n\n\nMonday’s 10:00am – 11:00am – TERM TIME ONLY \nAt St Andrew’s United Church Rowson Street New Brighton CH45 2LY \nFor more information ring Seacombe Children Centre on:\n0151 666 3506.
URL:https://standrewsunitedchurch.co.uk/event/stay-play-50/
END:VEVENT
BEGIN:VEVENT
DTSTART;TZID=UTC:20240414T103000
DTEND;TZID=UTC:20240414T103000
DTSTAMP:20260420T231204
CREATED:20240305T215603Z
LAST-MODIFIED:20240305T215603Z
UID:3407-1713090600-1713090600@standrewsunitedchurch.co.uk
SUMMARY:MORNING WORSHIP
DESCRIPTION:MORNING WORSHIP led by the Revd. Lorraine Aizlewood-Threlfall
URL:https://standrewsunitedchurch.co.uk/event/morning-worship-22/
END:VEVENT
BEGIN:VEVENT
DTSTART;TZID=UTC:20240412T140000
DTEND;TZID=UTC:20240412T160000
DTSTAMP:20260420T231204
CREATED:20240408T215719Z
LAST-MODIFIED:20240408T215719Z
UID:3497-1712930400-1712937600@standrewsunitedchurch.co.uk
SUMMARY:KNIT & NATTER
DESCRIPTION:Knit & Natter\n\nCome and join this friendly group – meet new people\, learn new skills – whether knitting or crochet\, make new friends and join in future projects. The members have made a variety of items supporting various charities over the years – including blankets\, premature baby clothes\, hats\, knitted toys and items for Christmas. There is a stockpile of wool and knitting needles\, so no initial outlay. Bring along something you have started or something you are about to start. So whether you are a beginner or skilled knitter or just want to come along to find out what we are all about – you will be made very welcome. \n\n\n\nItems made supporting various charity projects such as Charles Thompson Mission\, Mission to Seafarers\, Premature Baby Unit at Arrowe Park Hospital\, plus Twiddle Muffs and Blankets for local residential homes. Whether you are a beginner or an accomplished knitter\, you will be made very welcome. \nEvery Friday from 2pm – 4pm – TERM TIME ONLY
URL:https://standrewsunitedchurch.co.uk/event/knit-natter-55/
END:VEVENT
BEGIN:VEVENT
DTSTART;TZID=UTC:20240410T103000
DTEND;TZID=UTC:20240410T110000
DTSTAMP:20260420T231204
CREATED:20240408T211254Z
LAST-MODIFIED:20240408T211254Z
UID:3424-1712745000-1712746800@standrewsunitedchurch.co.uk
SUMMARY:MIDWEEK SERVICE
DESCRIPTION:Midweek Service led by Revd Lorraine Aizlewood-Threlfall
URL:https://standrewsunitedchurch.co.uk/event/midweek-service-15/
END:VEVENT
BEGIN:VEVENT
DTSTART;TZID=UTC:20240407T103000
DTEND;TZID=UTC:20240407T103000
DTSTAMP:20260420T231204
CREATED:20240305T215352Z
LAST-MODIFIED:20240305T215416Z
UID:3405-1712485800-1712485800@standrewsunitedchurch.co.uk
SUMMARY:MORNING WORSHIP
DESCRIPTION:MORNING WORSHIP led by Revd. Lorraine Aizlewood-Threlfall
URL:https://standrewsunitedchurch.co.uk/event/morning-worship-21/
END:VEVENT
BEGIN:VEVENT
DTSTART;VALUE=DATE:20240401
DTEND;VALUE=DATE:20240413
DTSTAMP:20260420T231204
CREATED:20240408T213836Z
LAST-MODIFIED:20240408T213836Z
UID:3473-1711929600-1712966399@standrewsunitedchurch.co.uk
SUMMARY:EASTER SCHOOL HOLIDAYS
DESCRIPTION:
URL:https://standrewsunitedchurch.co.uk/event/easter-school-holidays/
END:VEVENT
BEGIN:VEVENT
DTSTART;VALUE=DATE:20240401
DTEND;VALUE=DATE:20240402
DTSTAMP:20260420T231204
CREATED:20240305T220535Z
LAST-MODIFIED:20240305T220535Z
UID:3417-1711929600-1712015999@standrewsunitedchurch.co.uk
SUMMARY:EASTER BANK HOLIDAY MONDAY
DESCRIPTION:
URL:https://standrewsunitedchurch.co.uk/event/easter-bank-holiday-monday/
END:VEVENT
BEGIN:VEVENT
DTSTART;TZID=UTC:20240331T103000
DTEND;TZID=UTC:20240331T103000
DTSTAMP:20260420T231204
CREATED:20240305T212613Z
LAST-MODIFIED:20240305T212613Z
UID:3395-1711881000-1711881000@standrewsunitedchurch.co.uk
SUMMARY:EASTER FAMILY COMMUNION
DESCRIPTION:EASTER FAMILY COMMUNION led by Revd. Heather MacLeod
URL:https://standrewsunitedchurch.co.uk/event/easter-family-communion/
END:VEVENT
BEGIN:VEVENT
DTSTART;TZID=UTC:20240331T063000
DTEND;TZID=UTC:20240331T063000
DTSTAMP:20260420T231204
CREATED:20240305T212431Z
LAST-MODIFIED:20240305T212431Z
UID:3393-1711866600-1711866600@standrewsunitedchurch.co.uk
SUMMARY:EASTER SUNRISE SERVICE
DESCRIPTION:Easter Sunrise Service will be held at Vale Park\, Promenade Entrance
URL:https://standrewsunitedchurch.co.uk/event/easter-sunrise-service/
END:VEVENT
BEGIN:VEVENT
DTSTART;VALUE=DATE:20240331
DTEND;VALUE=DATE:20240401
DTSTAMP:20260420T231204
CREATED:20231204T214238Z
LAST-MODIFIED:20231204T214238Z
UID:3188-1711843200-1711929599@standrewsunitedchurch.co.uk
SUMMARY:EASTER DAY
DESCRIPTION:
URL:https://standrewsunitedchurch.co.uk/event/easter-day/
END:VEVENT
BEGIN:VEVENT
DTSTART;TZID=UTC:20240329T110000
DTEND;TZID=UTC:20240329T120000
DTSTAMP:20260420T231204
CREATED:20231204T212537Z
LAST-MODIFIED:20231204T212537Z
UID:3162-1711710000-1711713600@standrewsunitedchurch.co.uk
SUMMARY:GOOD FRIDAY - SERVICE OF REFLECTION
DESCRIPTION:Service of Reflection starting at 11 am \n 
URL:https://standrewsunitedchurch.co.uk/event/good-friday-service-of-reflection/
END:VEVENT
END:VCALENDAR