BEGIN:VCALENDAR
VERSION:2.0
PRODID:-// - ECPv6.15.17//NONSGML v1.0//EN
CALSCALE:GREGORIAN
METHOD:PUBLISH
X-ORIGINAL-URL:https://standrewsunitedchurch.co.uk
X-WR-CALDESC:Events for 
REFRESH-INTERVAL;VALUE=DURATION:PT1H
X-Robots-Tag:noindex
X-PUBLISHED-TTL:PT1H
BEGIN:VTIMEZONE
TZID:UTC
BEGIN:STANDARD
TZOFFSETFROM:+0000
TZOFFSETTO:+0000
TZNAME:UTC
DTSTART:20230101T000000
END:STANDARD
END:VTIMEZONE
BEGIN:VEVENT
DTSTART;TZID=UTC:20240218T103000
DTEND;TZID=UTC:20240218T103000
DTSTAMP:20260421T051112
CREATED:20240222T092804Z
LAST-MODIFIED:20240222T092804Z
UID:3364-1708252200-1708252200@standrewsunitedchurch.co.uk
SUMMARY:MORNING WORSHIP
DESCRIPTION:Morning Worship will be led by the Revd. Lorraine Aizlewood-Threlfall
URL:https://standrewsunitedchurch.co.uk/event/morning-worship-18/
END:VEVENT
BEGIN:VEVENT
DTSTART;TZID=UTC:20240216T140000
DTEND;TZID=UTC:20240216T160000
DTSTAMP:20260421T051112
CREATED:20231204T205948Z
LAST-MODIFIED:20231204T205948Z
UID:3126-1708092000-1708099200@standrewsunitedchurch.co.uk
SUMMARY:KNIT & NATTER
DESCRIPTION:Knit & Natter\n\nCome and join this friendly group – meet new people\, learn new skills – whether knitting or crochet\, make new friends and join in future projects. The members have made a variety of items supporting various charities over the years – including blankets\, premature baby clothes\, hats\, knitted toys and items for Christmas. There is a stockpile of wool and knitting needles\, so no initial outlay. Bring along something you have started or something you are about to start. So whether you are a beginner or skilled knitter or just want to come along to find out what we are all about – you will be made very welcome. \n\n\n\nItems made supporting various charity projects such as Charles Thompson Mission\, Mission to Seafarers\, Premature Baby Unit at Arrowe Park Hospital\, plus Twiddle Muffs and Blankets for local residential homes. Whether you are a beginner or an accomplished knitter\, you will be made very welcome. \nEvery Friday from 2pm – 4pm – TERM TIME ONLY
URL:https://standrewsunitedchurch.co.uk/event/knit-natter-60/
END:VEVENT
BEGIN:VEVENT
DTSTART;TZID=UTC:20240216T120000
DTEND;TZID=UTC:20240216T140000
DTSTAMP:20260421T051112
CREATED:20231204T211125Z
LAST-MODIFIED:20231204T211125Z
UID:3146-1708084800-1708092000@standrewsunitedchurch.co.uk
SUMMARY:WARM WELCOME - FRIDAYS @ ST ANDREW'S
DESCRIPTION:From 12 noon until 2 pm Soup & Sandwich plus Tea & Coffee. \nEveryone Welcome
URL:https://standrewsunitedchurch.co.uk/event/warm-welcome-fridays-st-andrews-20/
END:VEVENT
BEGIN:VEVENT
DTSTART;TZID=UTC:20240215T100000
DTEND;TZID=UTC:20240215T113000
DTSTAMP:20260421T051112
CREATED:20231204T215052Z
LAST-MODIFIED:20231204T215052Z
UID:3202-1707991200-1707996600@standrewsunitedchurch.co.uk
SUMMARY:TODDLER GROUP
DESCRIPTION:TODDLER GROUP 10 – 11.30 am Thursdays during Term Time\, for 0-4 year olds with activities including games\, crafts\, play area\, dressing up and much more.
URL:https://standrewsunitedchurch.co.uk/event/toddler-group-79/
END:VEVENT
BEGIN:VEVENT
DTSTART;TZID=UTC:20240214T103000
DTEND;TZID=UTC:20240214T113000
DTSTAMP:20260421T051112
CREATED:20231204T213405Z
LAST-MODIFIED:20231204T213405Z
UID:3172-1707906600-1707910200@standrewsunitedchurch.co.uk
SUMMARY:MIDWEEK SERVICE & BIBLE STUDY
DESCRIPTION:
URL:https://standrewsunitedchurch.co.uk/event/midweek-service-bible-study-10/
END:VEVENT
BEGIN:VEVENT
DTSTART;TZID=UTC:20240212T100000
DTEND;TZID=UTC:20240212T110000
DTSTAMP:20260421T051112
CREATED:20231204T204435Z
LAST-MODIFIED:20231204T204435Z
UID:3110-1707732000-1707735600@standrewsunitedchurch.co.uk
SUMMARY:STAY & PLAY
DESCRIPTION:STAY & PLAY \n\n\n\n\nMonday’s 10:00am – 11:00am – TERM TIME ONLY \nAt St Andrew’s United Church Rowson Street New Brighton CH45 2LY \nFor more information ring Seacombe Children Centre on:\n0151 666 3506.
URL:https://standrewsunitedchurch.co.uk/event/stay-play-47/
END:VEVENT
BEGIN:VEVENT
DTSTART;TZID=UTC:20240211T103000
DTEND;TZID=UTC:20240211T103000
DTSTAMP:20260421T051112
CREATED:20240222T092547Z
LAST-MODIFIED:20240222T092547Z
UID:3360-1707647400-1707647400@standrewsunitedchurch.co.uk
SUMMARY:MORNING WORSHIP
DESCRIPTION:Morning Worship led by the Worship Group \nService starting at 10.30 am
URL:https://standrewsunitedchurch.co.uk/event/morning-worship-17/
END:VEVENT
BEGIN:VEVENT
DTSTART;TZID=UTC:20240209T140000
DTEND;TZID=UTC:20240209T160000
DTSTAMP:20260421T051112
CREATED:20231204T205903Z
LAST-MODIFIED:20231204T211559Z
UID:3124-1707487200-1707494400@standrewsunitedchurch.co.uk
SUMMARY:KNIT & NATTER
DESCRIPTION:Knit & Natter \nCome and join this friendly group – meet new people\, learn new skills – whether knitting or crochet\, make new friends and join in future projects. The members have made a variety of items supporting various charities over the years – including blankets\, premature baby clothes\, hats\, knitted toys and items for Christmas. There is a stockpile of wool and knitting needles\, so no initial outlay. Bring along something you have started or something you are about to start. So whether you are a beginner or skilled knitter or just want to come along to find out what we are all about – you will be made very welcome. \nItems made supporting various charity projects such as Charles Thompson Mission\, Mission to Seafarers\, Premature Baby Unit at Arrowe Park Hospital\, plus Twiddle Muffs and Blankets for local residential homes. Whether you are a beginner or an accomplished knitter\, you will be made very welcome. \nEvery Friday from 2pm – 4pm – TERM TIME ONLY
URL:https://standrewsunitedchurch.co.uk/event/knit-natter-59/
END:VEVENT
BEGIN:VEVENT
DTSTART;TZID=UTC:20240209T120000
DTEND;TZID=UTC:20240209T140000
DTSTAMP:20260421T051112
CREATED:20231204T211441Z
LAST-MODIFIED:20231204T211441Z
UID:3148-1707480000-1707487200@standrewsunitedchurch.co.uk
SUMMARY:WARM WELCOME - FRIDAYS @ ST ANDREW'S
DESCRIPTION:From 12 noon until 2 pm Soup & Sandwich plus Tea & Coffee. \nEveryone Welcome
URL:https://standrewsunitedchurch.co.uk/event/warm-welcome-fridays-st-andrews-19/
END:VEVENT
BEGIN:VEVENT
DTSTART;TZID=UTC:20240208T100000
DTEND;TZID=UTC:20240208T113000
DTSTAMP:20260421T051112
CREATED:20231204T215003Z
LAST-MODIFIED:20231204T215003Z
UID:3200-1707386400-1707391800@standrewsunitedchurch.co.uk
SUMMARY:TODDLER GROUP
DESCRIPTION:TODDLER GROUP 10 – 11.30 am Thursdays during Term Time\, for 0-4 year olds with activities including games\, crafts\, play area\, dressing up and much more.
URL:https://standrewsunitedchurch.co.uk/event/toddler-group-78/
END:VEVENT
BEGIN:VEVENT
DTSTART;TZID=UTC:20240207T103000
DTEND;TZID=UTC:20240207T113000
DTSTAMP:20260421T051112
CREATED:20231204T213212Z
LAST-MODIFIED:20231204T213212Z
UID:3170-1707301800-1707305400@standrewsunitedchurch.co.uk
SUMMARY:MIDWEEK SERVICE & BIBLE STUDY
DESCRIPTION:
URL:https://standrewsunitedchurch.co.uk/event/midweek-service-bible-study-9/
END:VEVENT
BEGIN:VEVENT
DTSTART;TZID=UTC:20240205T100000
DTEND;TZID=UTC:20240205T110000
DTSTAMP:20260421T051112
CREATED:20231204T204154Z
LAST-MODIFIED:20231204T204154Z
UID:3108-1707127200-1707130800@standrewsunitedchurch.co.uk
SUMMARY:STAY & PLAY
DESCRIPTION:STAY & PLAY \n\n\n\n\nMonday’s 10:00am – 11:00am – TERM TIME ONLY \nAt St Andrew’s United Church Rowson Street New Brighton CH45 2LY \nFor more information ring Seacombe Children Centre on:\n0151 666 3506.
URL:https://standrewsunitedchurch.co.uk/event/stay-play-46/
END:VEVENT
BEGIN:VEVENT
DTSTART;TZID=UTC:20240204T103000
DTEND;TZID=UTC:20240204T103000
DTSTAMP:20260421T051112
CREATED:20240123T073826Z
LAST-MODIFIED:20240123T073826Z
UID:3342-1707042600-1707042600@standrewsunitedchurch.co.uk
SUMMARY:HOLY COMMUNION
DESCRIPTION:Holy Communion service led by Revd. Heather MacLeod
URL:https://standrewsunitedchurch.co.uk/event/holy-communion-4/
END:VEVENT
BEGIN:VEVENT
DTSTART;TZID=UTC:20240203T103000
DTEND;TZID=UTC:20240203T120000
DTSTAMP:20260421T051112
CREATED:20240123T074842Z
LAST-MODIFIED:20240123T074842Z
UID:3348-1706956200-1706961600@standrewsunitedchurch.co.uk
SUMMARY:COFFEE MORNING & CAKE SALE
DESCRIPTION:COFFEE MORNING & CAKE SALE \nCome and enjoy homemade cakes and scones with tea and coffee and a time to make new friends. \n  \nEveryone Welcome
URL:https://standrewsunitedchurch.co.uk/event/coffee-morning-cake-sale-2/
END:VEVENT
BEGIN:VEVENT
DTSTART;TZID=UTC:20240202T140000
DTEND;TZID=UTC:20240202T160000
DTSTAMP:20260421T051112
CREATED:20231204T205829Z
LAST-MODIFIED:20231204T205829Z
UID:3122-1706882400-1706889600@standrewsunitedchurch.co.uk
SUMMARY:KNIT & NATTER
DESCRIPTION:Knit & Natter\n\nCome and join this friendly group – meet new people\, learn new skills – whether knitting or crochet\, make new friends and join in future projects. The members have made a variety of items supporting various charities over the years – including blankets\, premature baby clothes\, hats\, knitted toys and items for Christmas. There is a stockpile of wool and knitting needles\, so no initial outlay. Bring along something you have started or something you are about to start. So whether you are a beginner or skilled knitter or just want to come along to find out what we are all about – you will be made very welcome. \n\n\n\nItems made supporting various charity projects such as Charles Thompson Mission\, Mission to Seafarers\, Premature Baby Unit at Arrowe Park Hospital\, plus Twiddle Muffs and Blankets for local residential homes. Whether you are a beginner or an accomplished knitter\, you will be made very welcome. \nEvery Friday from 2pm – 4pm – TERM TIME ONLY
URL:https://standrewsunitedchurch.co.uk/event/knit-natter-58/
END:VEVENT
BEGIN:VEVENT
DTSTART;TZID=UTC:20240202T120000
DTEND;TZID=UTC:20240202T140000
DTSTAMP:20260421T051112
CREATED:20231204T210925Z
LAST-MODIFIED:20231204T210925Z
UID:3142-1706875200-1706882400@standrewsunitedchurch.co.uk
SUMMARY:WARM WELCOME - FRIDAYS @ ST ANDREW'S
DESCRIPTION:From 12 noon until 2 pm Soup & Sandwich plus Tea & Coffee. \nEveryone Welcome
URL:https://standrewsunitedchurch.co.uk/event/warm-welcome-fridays-st-andrews-18/
END:VEVENT
BEGIN:VEVENT
DTSTART;TZID=UTC:20240201T100000
DTEND;TZID=UTC:20240201T113000
DTSTAMP:20260421T051112
CREATED:20231204T214930Z
LAST-MODIFIED:20231204T214930Z
UID:3198-1706781600-1706787000@standrewsunitedchurch.co.uk
SUMMARY:TODDLER GROUP
DESCRIPTION:TODDLER GROUP 10 – 11.30 am Thursdays during Term Time\, for 0-4 year olds with activities including games\, crafts\, play area\, dressing up and much more.
URL:https://standrewsunitedchurch.co.uk/event/toddler-group-77/
END:VEVENT
BEGIN:VEVENT
DTSTART;TZID=UTC:20240131T103000
DTEND;TZID=UTC:20240131T113000
DTSTAMP:20260421T051112
CREATED:20231204T213139Z
LAST-MODIFIED:20231204T213139Z
UID:3168-1706697000-1706700600@standrewsunitedchurch.co.uk
SUMMARY:MIDWEEK SERVICE & BIBLE STUDY
DESCRIPTION:
URL:https://standrewsunitedchurch.co.uk/event/midweek-service-bible-study-8/
END:VEVENT
BEGIN:VEVENT
DTSTART;TZID=UTC:20240129T100000
DTEND;TZID=UTC:20240129T110000
DTSTAMP:20260421T051112
CREATED:20231204T204110Z
LAST-MODIFIED:20231204T204110Z
UID:3106-1706522400-1706526000@standrewsunitedchurch.co.uk
SUMMARY:STAY & PLAY
DESCRIPTION:STAY & PLAY \n\n\n\n\nMonday’s 10:00am – 11:00am – TERM TIME ONLY \nAt St Andrew’s United Church Rowson Street New Brighton CH45 2LY \nFor more information ring Seacombe Children Centre on:\n0151 666 3506.
URL:https://standrewsunitedchurch.co.uk/event/stay-play-45/
END:VEVENT
BEGIN:VEVENT
DTSTART;TZID=UTC:20240128T103000
DTEND;TZID=UTC:20240128T103000
DTSTAMP:20260421T051112
CREATED:20240123T073343Z
LAST-MODIFIED:20240123T073343Z
UID:3336-1706437800-1706437800@standrewsunitedchurch.co.uk
SUMMARY:MORNING WORSHIP
DESCRIPTION:MORNING WORSHIP led by Revd. Lorraine Aizlewood-Threlfall
URL:https://standrewsunitedchurch.co.uk/event/morning-worship-14/
END:VEVENT
BEGIN:VEVENT
DTSTART;TZID=UTC:20240126T140000
DTEND;TZID=UTC:20240126T160000
DTSTAMP:20260421T051112
CREATED:20231204T193825Z
LAST-MODIFIED:20231204T193825Z
UID:3100-1706277600-1706284800@standrewsunitedchurch.co.uk
SUMMARY:KNIT & NATTER
DESCRIPTION:Knit & Natter\n\nCome and join this friendly group – meet new people\, learn new skills – whether knitting or crochet\, make new friends and join in future projects. The members have made a variety of items supporting various charities over the years – including blankets\, premature baby clothes\, hats\, knitted toys and items for Christmas. There is a stockpile of wool and knitting needles\, so no initial outlay. Bring along something you have started or something you are about to start. So whether you are a beginner or skilled knitter or just want to come along to find out what we are all about – you will be made very welcome. \n\n\n\nItems made supporting various charity projects such as Charles Thompson Mission\, Mission to Seafarers\, Premature Baby Unit at Arrowe Park Hospital\, plus Twiddle Muffs and Blankets for local residential homes. Whether you are a beginner or an accomplished knitter\, you will be made very welcome. \nEvery Friday from 2pm – 4pm – TERM TIME ONLY
URL:https://standrewsunitedchurch.co.uk/event/knit-natter-57/
END:VEVENT
BEGIN:VEVENT
DTSTART;TZID=UTC:20240126T120000
DTEND;TZID=UTC:20240126T140000
DTSTAMP:20260421T051112
CREATED:20231204T210803Z
LAST-MODIFIED:20231204T210803Z
UID:3140-1706270400-1706277600@standrewsunitedchurch.co.uk
SUMMARY:WARM WELCOME - FRIDAYS @ ST ANDREW'S
DESCRIPTION:From 12 noon until 2 pm Soup & Sandwich plus Tea & Coffee. \nEveryone Welcome
URL:https://standrewsunitedchurch.co.uk/event/warm-welcome-fridays-st-andrews-17/
END:VEVENT
BEGIN:VEVENT
DTSTART;TZID=UTC:20240125T100000
DTEND;TZID=UTC:20240125T113000
DTSTAMP:20260421T051112
CREATED:20231204T214852Z
LAST-MODIFIED:20231204T214852Z
UID:3196-1706176800-1706182200@standrewsunitedchurch.co.uk
SUMMARY:TODDLER GROUP
DESCRIPTION:TODDLER GROUP 10 – 11.30 am Thursdays during Term Time\, for 0-4 year olds with activities including games\, crafts\, play area\, dressing up and much more.
URL:https://standrewsunitedchurch.co.uk/event/toddler-group-76/
END:VEVENT
BEGIN:VEVENT
DTSTART;TZID=UTC:20240124T103000
DTEND;TZID=UTC:20240124T113000
DTSTAMP:20260421T051112
CREATED:20231204T213028Z
LAST-MODIFIED:20231204T213028Z
UID:3166-1706092200-1706095800@standrewsunitedchurch.co.uk
SUMMARY:MIDWEEK SERVICE & BIBLE STUDY
DESCRIPTION:
URL:https://standrewsunitedchurch.co.uk/event/midweek-service-bible-study-7/
END:VEVENT
BEGIN:VEVENT
DTSTART;TZID=UTC:20240122T100000
DTEND;TZID=UTC:20240122T110000
DTSTAMP:20260421T051112
CREATED:20231204T204031Z
LAST-MODIFIED:20231204T204031Z
UID:3104-1705917600-1705921200@standrewsunitedchurch.co.uk
SUMMARY:STAY & PLAY
DESCRIPTION:STAY & PLAY \n\n\n\n\nMonday’s 10:00am – 11:00am – TERM TIME ONLY \nAt St Andrew’s United Church Rowson Street New Brighton CH45 2LY \nFor more information ring Seacombe Children Centre on:\n0151 666 3506.
URL:https://standrewsunitedchurch.co.uk/event/stay-play-44/
END:VEVENT
BEGIN:VEVENT
DTSTART;TZID=UTC:20240121T103000
DTEND;TZID=UTC:20240121T103000
DTSTAMP:20260421T051112
CREATED:20240123T073542Z
LAST-MODIFIED:20240123T073542Z
UID:3340-1705833000-1705833000@standrewsunitedchurch.co.uk
SUMMARY:MORNING WORSHIP
DESCRIPTION:Morning Worship will be led by Revd. Heather MacLeod
URL:https://standrewsunitedchurch.co.uk/event/morning-worship-16/
END:VEVENT
BEGIN:VEVENT
DTSTART;TZID=UTC:20240119T140000
DTEND;TZID=UTC:20240119T160000
DTSTAMP:20260421T051112
CREATED:20231204T193749Z
LAST-MODIFIED:20231204T193749Z
UID:3098-1705672800-1705680000@standrewsunitedchurch.co.uk
SUMMARY:KNIT & NATTER
DESCRIPTION:Knit & Natter\n\nCome and join this friendly group – meet new people\, learn new skills – whether knitting or crochet\, make new friends and join in future projects. The members have made a variety of items supporting various charities over the years – including blankets\, premature baby clothes\, hats\, knitted toys and items for Christmas. There is a stockpile of wool and knitting needles\, so no initial outlay. Bring along something you have started or something you are about to start. So whether you are a beginner or skilled knitter or just want to come along to find out what we are all about – you will be made very welcome. \n\n\n\nItems made supporting various charity projects such as Charles Thompson Mission\, Mission to Seafarers\, Premature Baby Unit at Arrowe Park Hospital\, plus Twiddle Muffs and Blankets for local residential homes. Whether you are a beginner or an accomplished knitter\, you will be made very welcome. \nEvery Friday from 2pm – 4pm – TERM TIME ONLY
URL:https://standrewsunitedchurch.co.uk/event/knit-natter-56/
END:VEVENT
BEGIN:VEVENT
DTSTART;TZID=UTC:20240119T120000
DTEND;TZID=UTC:20240119T140000
DTSTAMP:20260421T051112
CREATED:20231204T210712Z
LAST-MODIFIED:20231204T210712Z
UID:3138-1705665600-1705672800@standrewsunitedchurch.co.uk
SUMMARY:WARM WELCOME 0 FRIDAYS @ ST ANDREW'S
DESCRIPTION:From 12 noon until 2 pm Soup & Sandwich plus Tea & Coffee. \nEveryone Welcome
URL:https://standrewsunitedchurch.co.uk/event/warm-welcome-0-fridays-st-andrews/
END:VEVENT
BEGIN:VEVENT
DTSTART;TZID=UTC:20240118T100000
DTEND;TZID=UTC:20240118T113000
DTSTAMP:20260421T051112
CREATED:20231204T214722Z
LAST-MODIFIED:20231204T214722Z
UID:3194-1705572000-1705577400@standrewsunitedchurch.co.uk
SUMMARY:TODDLER GROUP
DESCRIPTION:TODDLER GROUP 10 – 11.30 am Thursdays during Term Time\, for 0-4 year olds with activities including games\, crafts\, play area\, dressing up and much more.
URL:https://standrewsunitedchurch.co.uk/event/toddler-group-75/
END:VEVENT
BEGIN:VEVENT
DTSTART;TZID=UTC:20240117T103000
DTEND;TZID=UTC:20240117T113000
DTSTAMP:20260421T051112
CREATED:20231204T212948Z
LAST-MODIFIED:20231204T212948Z
UID:3164-1705487400-1705491000@standrewsunitedchurch.co.uk
SUMMARY:MIDWEEK SERVICE & BIBLE STUDY
DESCRIPTION:
URL:https://standrewsunitedchurch.co.uk/event/midweek-service-bible-study-6/
END:VEVENT
END:VCALENDAR