BEGIN:VCALENDAR
VERSION:2.0
PRODID:-// - ECPv6.15.17//NONSGML v1.0//EN
CALSCALE:GREGORIAN
METHOD:PUBLISH
X-ORIGINAL-URL:https://standrewsunitedchurch.co.uk
X-WR-CALDESC:Events for 
REFRESH-INTERVAL;VALUE=DURATION:PT1H
X-Robots-Tag:noindex
X-PUBLISHED-TTL:PT1H
BEGIN:VTIMEZONE
TZID:UTC
BEGIN:STANDARD
TZOFFSETFROM:+0000
TZOFFSETTO:+0000
TZNAME:UTC
DTSTART:20230101T000000
END:STANDARD
END:VTIMEZONE
BEGIN:VEVENT
DTSTART;TZID=UTC:20240316T110000
DTEND;TZID=UTC:20240316T130000
DTSTAMP:20260421T032256
CREATED:20240123T074108Z
LAST-MODIFIED:20240123T074456Z
UID:3344-1710586800-1710594000@standrewsunitedchurch.co.uk
SUMMARY:SPRING FAIR
DESCRIPTION:SPRING FAIR starting at 11 am to 1 pm \nREFRESHMENTS\, CAKE STALL\, CRAFTS\, GIFTS\, CHOCOLATE STALL\, GAMES\, RAFFLE AND PLENTY MORE!!! \nFREE ADMISSION \nCOME AND JOIN THE FUN OF THE FAIR !
URL:https://standrewsunitedchurch.co.uk/event/spring-fair-2/
END:VEVENT
BEGIN:VEVENT
DTSTART;TZID=UTC:20240315T140000
DTEND;TZID=UTC:20240315T160000
DTSTAMP:20260421T032256
CREATED:20231204T210256Z
LAST-MODIFIED:20231204T210256Z
UID:3132-1710511200-1710518400@standrewsunitedchurch.co.uk
SUMMARY:KNIT & NATTER
DESCRIPTION:Knit & Natter\n\nCome and join this friendly group – meet new people\, learn new skills – whether knitting or crochet\, make new friends and join in future projects. The members have made a variety of items supporting various charities over the years – including blankets\, premature baby clothes\, hats\, knitted toys and items for Christmas. There is a stockpile of wool and knitting needles\, so no initial outlay. Bring along something you have started or something you are about to start. So whether you are a beginner or skilled knitter or just want to come along to find out what we are all about – you will be made very welcome. \n\n\n\nItems made supporting various charity projects such as Charles Thompson Mission\, Mission to Seafarers\, Premature Baby Unit at Arrowe Park Hospital\, plus Twiddle Muffs and Blankets for local residential homes. Whether you are a beginner or an accomplished knitter\, you will be made very welcome. \nEvery Friday from 2pm – 4pm – TERM TIME ONLY
URL:https://standrewsunitedchurch.co.uk/event/knit-natter-63/
END:VEVENT
BEGIN:VEVENT
DTSTART;TZID=UTC:20240315T120000
DTEND;TZID=UTC:20240315T140000
DTSTAMP:20260421T032256
CREATED:20231204T211852Z
LAST-MODIFIED:20231204T211852Z
UID:3154-1710504000-1710511200@standrewsunitedchurch.co.uk
SUMMARY:WARM WELCOME - FRIDAYS @ ST ANDREW'S
DESCRIPTION:From 12 noon until 2 pm Soup & Sandwich plus Tea & Coffee. \nEveryone Welcome
URL:https://standrewsunitedchurch.co.uk/event/warm-welcome-fridays-st-andrews-23/
END:VEVENT
BEGIN:VEVENT
DTSTART;TZID=UTC:20240314T100000
DTEND;TZID=UTC:20240314T113000
DTSTAMP:20260421T032256
CREATED:20231204T215424Z
LAST-MODIFIED:20231204T215424Z
UID:3208-1710410400-1710415800@standrewsunitedchurch.co.uk
SUMMARY:TODDLER GROUP
DESCRIPTION:TODDLER GROUP 10 – 11.30 am Thursdays during Term Time\, for 0-4 year olds with activities including games\, crafts\, play area\, dressing up and much more.
URL:https://standrewsunitedchurch.co.uk/event/toddler-group-82/
END:VEVENT
BEGIN:VEVENT
DTSTART;TZID=UTC:20240313T103000
DTEND;TZID=UTC:20240313T113000
DTSTAMP:20260421T032256
CREATED:20231204T213618Z
LAST-MODIFIED:20231204T213618Z
UID:3178-1710325800-1710329400@standrewsunitedchurch.co.uk
SUMMARY:MIDWEEK SERVICE & BIBLE STUDY
DESCRIPTION:
URL:https://standrewsunitedchurch.co.uk/event/midweek-service-bible-study-13/
END:VEVENT
BEGIN:VEVENT
DTSTART;TZID=UTC:20240310T103000
DTEND;TZID=UTC:20240310T103000
DTSTAMP:20260421T032256
CREATED:20240305T205826Z
LAST-MODIFIED:20240305T205826Z
UID:3371-1710066600-1710066600@standrewsunitedchurch.co.uk
SUMMARY:MOTHERING SUNDAY
DESCRIPTION:MOTHERING SUNDAY – Family Service led by Stuart Annison-Kidd and Worship Team
URL:https://standrewsunitedchurch.co.uk/event/mothering-sunday/
END:VEVENT
BEGIN:VEVENT
DTSTART;TZID=UTC:20240308T140000
DTEND;TZID=UTC:20240308T160000
DTSTAMP:20260421T032256
CREATED:20231204T210148Z
LAST-MODIFIED:20231204T210148Z
UID:3130-1709906400-1709913600@standrewsunitedchurch.co.uk
SUMMARY:KNIT & NATTER
DESCRIPTION:Knit & Natter\n\nCome and join this friendly group – meet new people\, learn new skills – whether knitting or crochet\, make new friends and join in future projects. The members have made a variety of items supporting various charities over the years – including blankets\, premature baby clothes\, hats\, knitted toys and items for Christmas. There is a stockpile of wool and knitting needles\, so no initial outlay. Bring along something you have started or something you are about to start. So whether you are a beginner or skilled knitter or just want to come along to find out what we are all about – you will be made very welcome. \n\n\n\nItems made supporting various charity projects such as Charles Thompson Mission\, Mission to Seafarers\, Premature Baby Unit at Arrowe Park Hospital\, plus Twiddle Muffs and Blankets for local residential homes. Whether you are a beginner or an accomplished knitter\, you will be made very welcome. \nEvery Friday from 2pm – 4pm – TERM TIME ONLY
URL:https://standrewsunitedchurch.co.uk/event/knit-natter-62/
END:VEVENT
BEGIN:VEVENT
DTSTART;TZID=UTC:20240308T120000
DTEND;TZID=UTC:20240308T140000
DTSTAMP:20260421T032256
CREATED:20231204T211755Z
LAST-MODIFIED:20231204T211755Z
UID:3152-1709899200-1709906400@standrewsunitedchurch.co.uk
SUMMARY:WARM WELCOME - FRIDAYS @ ST ANDREW'S
DESCRIPTION:From 12 noon until 2 pm Soup & Sandwich plus Tea & Coffee. \nEveryone Welcome
URL:https://standrewsunitedchurch.co.uk/event/warm-welcome-fridays-st-andrews-22/
END:VEVENT
BEGIN:VEVENT
DTSTART;TZID=UTC:20240307T100000
DTEND;TZID=UTC:20240307T113000
DTSTAMP:20260421T032256
CREATED:20231204T215337Z
LAST-MODIFIED:20231204T215337Z
UID:3206-1709805600-1709811000@standrewsunitedchurch.co.uk
SUMMARY:TODDLER GROUP
DESCRIPTION:TODDLER GROUP 10 – 11.30 am Thursdays during Term Time\, for 0-4 year olds with activities including games\, crafts\, play area\, dressing up and much more.
URL:https://standrewsunitedchurch.co.uk/event/toddler-group-81/
END:VEVENT
BEGIN:VEVENT
DTSTART;TZID=UTC:20240306T103000
DTEND;TZID=UTC:20240306T113000
DTSTAMP:20260421T032256
CREATED:20231204T213535Z
LAST-MODIFIED:20231204T213535Z
UID:3176-1709721000-1709724600@standrewsunitedchurch.co.uk
SUMMARY:MIDWEEK SERVICE & BIBLE STUDY
DESCRIPTION:
URL:https://standrewsunitedchurch.co.uk/event/midweek-service-bible-study-12/
END:VEVENT
BEGIN:VEVENT
DTSTART;TZID=UTC:20240305T110000
DTEND;TZID=UTC:20240305T110000
DTSTAMP:20260421T032256
CREATED:20240305T220057Z
LAST-MODIFIED:20240305T220057Z
UID:3413-1709636400-1709636400@standrewsunitedchurch.co.uk
SUMMARY:UNITED SERVICE @ SEACOMBE UNITED REFORMED CHURCH
DESCRIPTION:HOLY COMMUNION led by the Revd. Lorraine Aizlewood-Threlfall \n  \nNO SERVICE AT ST. ANDREW’S UNITED CHURCH TODAY
URL:https://standrewsunitedchurch.co.uk/event/united-service-seacombe-united-reformed-church/
END:VEVENT
BEGIN:VEVENT
DTSTART;TZID=UTC:20240303T103000
DTEND;TZID=UTC:20240303T103000
DTSTAMP:20260421T032256
CREATED:20240305T205521Z
LAST-MODIFIED:20240305T205521Z
UID:3369-1709461800-1709461800@standrewsunitedchurch.co.uk
SUMMARY:HOLY COMMUNION
DESCRIPTION:Holy Communion led by Revd. Lorraine Aizlewood-Threlfall
URL:https://standrewsunitedchurch.co.uk/event/holy-communion-5/
END:VEVENT
BEGIN:VEVENT
DTSTART;TZID=UTC:20240301T140000
DTEND;TZID=UTC:20240301T160000
DTSTAMP:20260421T032256
CREATED:20231204T210059Z
LAST-MODIFIED:20231204T210059Z
UID:3128-1709301600-1709308800@standrewsunitedchurch.co.uk
SUMMARY:KNIT & NATTER
DESCRIPTION:Knit & Natter\n\nCome and join this friendly group – meet new people\, learn new skills – whether knitting or crochet\, make new friends and join in future projects. The members have made a variety of items supporting various charities over the years – including blankets\, premature baby clothes\, hats\, knitted toys and items for Christmas. There is a stockpile of wool and knitting needles\, so no initial outlay. Bring along something you have started or something you are about to start. So whether you are a beginner or skilled knitter or just want to come along to find out what we are all about – you will be made very welcome. \n\n\n\nItems made supporting various charity projects such as Charles Thompson Mission\, Mission to Seafarers\, Premature Baby Unit at Arrowe Park Hospital\, plus Twiddle Muffs and Blankets for local residential homes. Whether you are a beginner or an accomplished knitter\, you will be made very welcome. \nEvery Friday from 2pm – 4pm – TERM TIME ONLY
URL:https://standrewsunitedchurch.co.uk/event/knit-natter-61/
END:VEVENT
BEGIN:VEVENT
DTSTART;TZID=UTC:20240301T120000
DTEND;TZID=UTC:20240301T140000
DTSTAMP:20260421T032256
CREATED:20231204T211706Z
LAST-MODIFIED:20231204T211706Z
UID:3150-1709294400-1709301600@standrewsunitedchurch.co.uk
SUMMARY:WARM WELCOME - FRIDAYS @ ST ANDREW'S
DESCRIPTION:From 12 noon until 2 pm Soup & Sandwich plus Tea & Coffee. \nEveryone Welcome
URL:https://standrewsunitedchurch.co.uk/event/warm-welcome-fridays-st-andrews-21/
END:VEVENT
BEGIN:VEVENT
DTSTART;TZID=UTC:20240229T100000
DTEND;TZID=UTC:20240229T113000
DTSTAMP:20260421T032256
CREATED:20231204T215226Z
LAST-MODIFIED:20231204T215226Z
UID:3204-1709200800-1709206200@standrewsunitedchurch.co.uk
SUMMARY:TODDLER GROUP
DESCRIPTION:TODDLER GROUP 10 – 11.30 am Thursdays during Term Time\, for 0-4 year olds with activities including games\, crafts\, play area\, dressing up and much more.
URL:https://standrewsunitedchurch.co.uk/event/toddler-group-80/
END:VEVENT
BEGIN:VEVENT
DTSTART;TZID=UTC:20240228T103000
DTEND;TZID=UTC:20240228T113000
DTSTAMP:20260421T032256
CREATED:20231204T213757Z
LAST-MODIFIED:20231204T213757Z
UID:3182-1709116200-1709119800@standrewsunitedchurch.co.uk
SUMMARY:MIDWEEK SERVICE & BIBLE STUDY
DESCRIPTION:
URL:https://standrewsunitedchurch.co.uk/event/midweek-service-bible-study-15/
END:VEVENT
BEGIN:VEVENT
DTSTART;TZID=UTC:20240226T100000
DTEND;TZID=UTC:20240226T110000
DTSTAMP:20260421T032256
CREATED:20231204T204516Z
LAST-MODIFIED:20231204T204516Z
UID:3112-1708941600-1708945200@standrewsunitedchurch.co.uk
SUMMARY:STAY & PLAY
DESCRIPTION:STAY & PLAY \n\n\n\n\nMonday’s 10:00am – 11:00am – TERM TIME ONLY \nAt St Andrew’s United Church Rowson Street New Brighton CH45 2LY \nFor more information ring Seacombe Children Centre on:\n0151 666 3506.
URL:https://standrewsunitedchurch.co.uk/event/stay-play-48/
END:VEVENT
BEGIN:VEVENT
DTSTART;TZID=UTC:20240225T143000
DTEND;TZID=UTC:20240225T163000
DTSTAMP:20260421T032256
CREATED:20231204T224322Z
LAST-MODIFIED:20231204T224322Z
UID:3250-1708871400-1708878600@standrewsunitedchurch.co.uk
SUMMARY:DICK WHITTINGTON PANTOMIME
DESCRIPTION:Dick Whittington Pantomime will be performed by Seacombe Players at Seacombe United Reformed Church\, Brougham Road\, Seacombe CH44 6PW. \nMatinee Performance Only: 2.30 pm \nEveryone Welcome
URL:https://standrewsunitedchurch.co.uk/event/dick-whittington-pantomime-3/
END:VEVENT
BEGIN:VEVENT
DTSTART;TZID=UTC:20240225T103000
DTEND;TZID=UTC:20240225T103000
DTSTAMP:20260421T032256
CREATED:20240222T092852Z
LAST-MODIFIED:20240222T092852Z
UID:3366-1708857000-1708857000@standrewsunitedchurch.co.uk
SUMMARY:MORNING WORSHIP
DESCRIPTION:Morning Worship led by Mr David Powell.
URL:https://standrewsunitedchurch.co.uk/event/morning-worship-19/
END:VEVENT
BEGIN:VEVENT
DTSTART;TZID=UTC:20240224T143000
DTEND;TZID=UTC:20240224T163000
DTSTAMP:20260421T032256
CREATED:20231204T224210Z
LAST-MODIFIED:20231204T224210Z
UID:3248-1708785000-1708792200@standrewsunitedchurch.co.uk
SUMMARY:DICK WHITTINGTON PANTOMIME
DESCRIPTION:Dick Whittington Pantomime will be performed by Seacombe Players at Seacombe United Reformed Church\, Brougham Road\, Seacombe CH44 6PW. \nMatinee Performance Only: 2.30 pm \nEveryone Welcome
URL:https://standrewsunitedchurch.co.uk/event/dick-whittington-pantomime-2/
END:VEVENT
BEGIN:VEVENT
DTSTART;TZID=UTC:20240223T193000
DTEND;TZID=UTC:20240223T213000
DTSTAMP:20260421T032256
CREATED:20231204T224107Z
LAST-MODIFIED:20231204T224107Z
UID:3246-1708716600-1708723800@standrewsunitedchurch.co.uk
SUMMARY:DICK WHITTINGTON PANTOMIME
DESCRIPTION:Dick Whittington Pantomime will be performed by Seacombe Players at Seacombe United Reformed Church\, Brougham Road\, Seacombe CH44 6PW. \nEvening Performance: 7.30 pm \nEveryone Welcome
URL:https://standrewsunitedchurch.co.uk/event/dick-whittington-pantomime/
END:VEVENT
BEGIN:VEVENT
DTSTART;VALUE=DATE:20240219
DTEND;VALUE=DATE:20240224
DTSTAMP:20260421T032256
CREATED:20231204T204752Z
LAST-MODIFIED:20231204T205451Z
UID:3116-1708300800-1708732799@standrewsunitedchurch.co.uk
SUMMARY:HALF TERM
DESCRIPTION:
URL:https://standrewsunitedchurch.co.uk/event/half-term/
END:VEVENT
BEGIN:VEVENT
DTSTART;TZID=UTC:20240218T103000
DTEND;TZID=UTC:20240218T103000
DTSTAMP:20260421T032256
CREATED:20240222T092804Z
LAST-MODIFIED:20240222T092804Z
UID:3364-1708252200-1708252200@standrewsunitedchurch.co.uk
SUMMARY:MORNING WORSHIP
DESCRIPTION:Morning Worship will be led by the Revd. Lorraine Aizlewood-Threlfall
URL:https://standrewsunitedchurch.co.uk/event/morning-worship-18/
END:VEVENT
BEGIN:VEVENT
DTSTART;TZID=UTC:20240216T140000
DTEND;TZID=UTC:20240216T160000
DTSTAMP:20260421T032256
CREATED:20231204T205948Z
LAST-MODIFIED:20231204T205948Z
UID:3126-1708092000-1708099200@standrewsunitedchurch.co.uk
SUMMARY:KNIT & NATTER
DESCRIPTION:Knit & Natter\n\nCome and join this friendly group – meet new people\, learn new skills – whether knitting or crochet\, make new friends and join in future projects. The members have made a variety of items supporting various charities over the years – including blankets\, premature baby clothes\, hats\, knitted toys and items for Christmas. There is a stockpile of wool and knitting needles\, so no initial outlay. Bring along something you have started or something you are about to start. So whether you are a beginner or skilled knitter or just want to come along to find out what we are all about – you will be made very welcome. \n\n\n\nItems made supporting various charity projects such as Charles Thompson Mission\, Mission to Seafarers\, Premature Baby Unit at Arrowe Park Hospital\, plus Twiddle Muffs and Blankets for local residential homes. Whether you are a beginner or an accomplished knitter\, you will be made very welcome. \nEvery Friday from 2pm – 4pm – TERM TIME ONLY
URL:https://standrewsunitedchurch.co.uk/event/knit-natter-60/
END:VEVENT
BEGIN:VEVENT
DTSTART;TZID=UTC:20240216T120000
DTEND;TZID=UTC:20240216T140000
DTSTAMP:20260421T032256
CREATED:20231204T211125Z
LAST-MODIFIED:20231204T211125Z
UID:3146-1708084800-1708092000@standrewsunitedchurch.co.uk
SUMMARY:WARM WELCOME - FRIDAYS @ ST ANDREW'S
DESCRIPTION:From 12 noon until 2 pm Soup & Sandwich plus Tea & Coffee. \nEveryone Welcome
URL:https://standrewsunitedchurch.co.uk/event/warm-welcome-fridays-st-andrews-20/
END:VEVENT
BEGIN:VEVENT
DTSTART;TZID=UTC:20240215T100000
DTEND;TZID=UTC:20240215T113000
DTSTAMP:20260421T032256
CREATED:20231204T215052Z
LAST-MODIFIED:20231204T215052Z
UID:3202-1707991200-1707996600@standrewsunitedchurch.co.uk
SUMMARY:TODDLER GROUP
DESCRIPTION:TODDLER GROUP 10 – 11.30 am Thursdays during Term Time\, for 0-4 year olds with activities including games\, crafts\, play area\, dressing up and much more.
URL:https://standrewsunitedchurch.co.uk/event/toddler-group-79/
END:VEVENT
BEGIN:VEVENT
DTSTART;TZID=UTC:20240214T103000
DTEND;TZID=UTC:20240214T113000
DTSTAMP:20260421T032256
CREATED:20231204T213405Z
LAST-MODIFIED:20231204T213405Z
UID:3172-1707906600-1707910200@standrewsunitedchurch.co.uk
SUMMARY:MIDWEEK SERVICE & BIBLE STUDY
DESCRIPTION:
URL:https://standrewsunitedchurch.co.uk/event/midweek-service-bible-study-10/
END:VEVENT
BEGIN:VEVENT
DTSTART;TZID=UTC:20240212T100000
DTEND;TZID=UTC:20240212T110000
DTSTAMP:20260421T032256
CREATED:20231204T204435Z
LAST-MODIFIED:20231204T204435Z
UID:3110-1707732000-1707735600@standrewsunitedchurch.co.uk
SUMMARY:STAY & PLAY
DESCRIPTION:STAY & PLAY \n\n\n\n\nMonday’s 10:00am – 11:00am – TERM TIME ONLY \nAt St Andrew’s United Church Rowson Street New Brighton CH45 2LY \nFor more information ring Seacombe Children Centre on:\n0151 666 3506.
URL:https://standrewsunitedchurch.co.uk/event/stay-play-47/
END:VEVENT
BEGIN:VEVENT
DTSTART;TZID=UTC:20240211T103000
DTEND;TZID=UTC:20240211T103000
DTSTAMP:20260421T032256
CREATED:20240222T092547Z
LAST-MODIFIED:20240222T092547Z
UID:3360-1707647400-1707647400@standrewsunitedchurch.co.uk
SUMMARY:MORNING WORSHIP
DESCRIPTION:Morning Worship led by the Worship Group \nService starting at 10.30 am
URL:https://standrewsunitedchurch.co.uk/event/morning-worship-17/
END:VEVENT
BEGIN:VEVENT
DTSTART;TZID=UTC:20240209T140000
DTEND;TZID=UTC:20240209T160000
DTSTAMP:20260421T032256
CREATED:20231204T205903Z
LAST-MODIFIED:20231204T211559Z
UID:3124-1707487200-1707494400@standrewsunitedchurch.co.uk
SUMMARY:KNIT & NATTER
DESCRIPTION:Knit & Natter \nCome and join this friendly group – meet new people\, learn new skills – whether knitting or crochet\, make new friends and join in future projects. The members have made a variety of items supporting various charities over the years – including blankets\, premature baby clothes\, hats\, knitted toys and items for Christmas. There is a stockpile of wool and knitting needles\, so no initial outlay. Bring along something you have started or something you are about to start. So whether you are a beginner or skilled knitter or just want to come along to find out what we are all about – you will be made very welcome. \nItems made supporting various charity projects such as Charles Thompson Mission\, Mission to Seafarers\, Premature Baby Unit at Arrowe Park Hospital\, plus Twiddle Muffs and Blankets for local residential homes. Whether you are a beginner or an accomplished knitter\, you will be made very welcome. \nEvery Friday from 2pm – 4pm – TERM TIME ONLY
URL:https://standrewsunitedchurch.co.uk/event/knit-natter-59/
END:VEVENT
END:VCALENDAR