BEGIN:VCALENDAR
VERSION:2.0
PRODID:-// - ECPv6.15.17//NONSGML v1.0//EN
CALSCALE:GREGORIAN
METHOD:PUBLISH
X-ORIGINAL-URL:https://standrewsunitedchurch.co.uk
X-WR-CALDESC:Events for 
REFRESH-INTERVAL;VALUE=DURATION:PT1H
X-Robots-Tag:noindex
X-PUBLISHED-TTL:PT1H
BEGIN:VTIMEZONE
TZID:UTC
BEGIN:STANDARD
TZOFFSETFROM:+0000
TZOFFSETTO:+0000
TZNAME:UTC
DTSTART:20220101T000000
END:STANDARD
END:VTIMEZONE
BEGIN:VEVENT
DTSTART;VALUE=DATE:20231106
DTEND;VALUE=DATE:20231107
DTSTAMP:20260422T002343
CREATED:20230921T073336Z
LAST-MODIFIED:20231027T142320Z
UID:2918-1699228800-1699315199@standrewsunitedchurch.co.uk
SUMMARY:Remember Me & Exhibition
DESCRIPTION:REMEMBER ME & EXHIBITION  is for Primary School Children and visits are arranged with the local Primary Schools.   This is an opportunity for children to understand why we mark Remembrance\, remembering the horrors of WWI & WWII and all conflicts since\, commemorating war not celebrating.  We share local story and emphasise the importance of peace.
URL:https://standrewsunitedchurch.co.uk/event/remember-me-exhibition-4/
LOCATION:St Andew’s United Church\, CH45 2LY
END:VEVENT
BEGIN:VEVENT
DTSTART;TZID=UTC:20231105T103000
DTEND;TZID=UTC:20231105T113000
DTSTAMP:20260422T002343
CREATED:20230810T091143Z
LAST-MODIFIED:20231027T135720Z
UID:2833-1699180200-1699183800@standrewsunitedchurch.co.uk
SUMMARY:Morning Worship
DESCRIPTION:Sunday morning services starts at 10.30 am \nLed by Mr David Powell
URL:https://standrewsunitedchurch.co.uk/event/holy-communion-3/
LOCATION:St Andew’s United Church\, CH45 2LY
END:VEVENT
BEGIN:VEVENT
DTSTART;TZID=UTC:20231104T110000
DTEND;TZID=UTC:20231104T130000
DTSTAMP:20260422T002343
CREATED:20231027T141331Z
LAST-MODIFIED:20231027T141331Z
UID:3002-1699095600-1699102800@standrewsunitedchurch.co.uk
SUMMARY:AUTUMN FAIR @ Seacombe United Reformed Church
DESCRIPTION:AUTUMN FAIR at Seacombe United Reformed Church\, Brougham Road\, Seacombe CH44 6PW. \nFrom 11 – 1 pm – Cake stall\, Children’s Games\, Gifts\, Tombola\, Christmas Stall\, Raffle and Refreshments.
URL:https://standrewsunitedchurch.co.uk/event/autumn-fair-seacombe-united-reformed-church/
END:VEVENT
BEGIN:VEVENT
DTSTART;TZID=UTC:20231103T140000
DTEND;TZID=UTC:20231103T160000
DTSTAMP:20260422T002343
CREATED:20230714T082006Z
LAST-MODIFIED:20230714T082729Z
UID:2634-1699020000-1699027200@standrewsunitedchurch.co.uk
SUMMARY:KNIT & NATTER
DESCRIPTION:Knit & Natter\n\nCome and join this friendly group – meet new people\, learn new skills – whether knitting or crochet\, make new friends and join in future projects. The members have made a variety of items supporting various charities over the years – including blankets\, premature baby clothes\, hats\, knitted toys and items for Christmas. There is a stockpile of wool and knitting needles\, so no initial outlay. Bring along something you have started or something you are about to start. So whether you are a beginner or skilled knitter or just want to come along to find out what we are all about – you will be made very welcome. \n\n\n\nItems made supporting various charity projects such as Charles Thompson Mission\, Mission to Seafarers\, Premature Baby Unit at Arrowe Park Hospital\, plus Twiddle Muffs and Blankets for local residential homes. Whether you are a beginner or an accomplished knitter\, you will be made very welcome. \nEvery Friday from 2pm – 4pm – TERM TIME ONLY
URL:https://standrewsunitedchurch.co.uk/event/knit-natter-41/
END:VEVENT
BEGIN:VEVENT
DTSTART;TZID=UTC:20231103T120000
DTEND;TZID=UTC:20231103T140000
DTSTAMP:20260422T002343
CREATED:20231027T124940Z
LAST-MODIFIED:20231027T135248Z
UID:2948-1699012800-1699020000@standrewsunitedchurch.co.uk
SUMMARY:WARM WELCOME - FRIDAYS @ ST. ANDREW'S
DESCRIPTION:From 12 noon until 2 pm Soup & Sandwich plus Tea & Coffee. \nEveryone Welcome
URL:https://standrewsunitedchurch.co.uk/event/warm-welcome-fridays-st-andrews-8/
END:VEVENT
BEGIN:VEVENT
DTSTART;TZID=UTC:20231102T100000
DTEND;TZID=UTC:20231102T113000
DTSTAMP:20260422T002343
CREATED:20230714T073718Z
LAST-MODIFIED:20230714T082700Z
UID:2580-1698919200-1698924600@standrewsunitedchurch.co.uk
SUMMARY:TODDLER GROUP
DESCRIPTION:TODDLER GROUP 10 – 11.30 am Thursdays during Term Time\, for 0-4 year olds with activities including games\, crafts\, play area\, dressing up and much more.
URL:https://standrewsunitedchurch.co.uk/event/toddler-group-61/
END:VEVENT
BEGIN:VEVENT
DTSTART;TZID=UTC:20231101T103000
DTEND;TZID=UTC:20231101T120000
DTSTAMP:20260422T002343
CREATED:20230921T072144Z
LAST-MODIFIED:20230921T072144Z
UID:2912-1698834600-1698840000@standrewsunitedchurch.co.uk
SUMMARY:Midweek service and Bible study
DESCRIPTION:
URL:https://standrewsunitedchurch.co.uk/event/midweek-service-and-bible-study-4/
LOCATION:St Andew’s United Church\, CH45 2LY
END:VEVENT
BEGIN:VEVENT
DTSTART;TZID=UTC:20231030T100000
DTEND;TZID=UTC:20231030T110000
DTSTAMP:20260422T002343
CREATED:20230825T062243Z
LAST-MODIFIED:20230825T062243Z
UID:2867-1698660000-1698663600@standrewsunitedchurch.co.uk
SUMMARY:STAY & PLAY
DESCRIPTION:STAY & PLAY \n\n\n\n\nMonday’s 10:00am – 11:00am – TERM TIME ONLY \nAt St Andrew’s United Church Rowson Street New Brighton CH45 2LY \nFor more information ring Seacombe Children Centre on:\n0151 666 3506.
URL:https://standrewsunitedchurch.co.uk/event/stay-play-36/
END:VEVENT
BEGIN:VEVENT
DTSTART;TZID=UTC:20231029T103000
DTEND;TZID=UTC:20231029T113000
DTSTAMP:20260422T002343
CREATED:20230810T091044Z
LAST-MODIFIED:20231027T141426Z
UID:2831-1698575400-1698579000@standrewsunitedchurch.co.uk
SUMMARY:Bible Sunday - Holy Communion
DESCRIPTION:Sunday morning services starts at 10.30 am  \nLed by Revd. Geoff Felton URC Mersey Synod Moderator
URL:https://standrewsunitedchurch.co.uk/event/bible-study/
LOCATION:St Andew’s United Church\, CH45 2LY
END:VEVENT
BEGIN:VEVENT
DTSTART;TZID=UTC:20231028T100000
DTEND;TZID=UTC:20231028T120000
DTSTAMP:20260422T002343
CREATED:20230921T072306Z
LAST-MODIFIED:20230921T072306Z
UID:2916-1698487200-1698494400@standrewsunitedchurch.co.uk
SUMMARY:Tapestry group
DESCRIPTION:
URL:https://standrewsunitedchurch.co.uk/event/tapestry-group/
LOCATION:St Andew’s United Church\, CH45 2LY
END:VEVENT
BEGIN:VEVENT
DTSTART;TZID=UTC:20231027T100000
DTEND;TZID=UTC:20231027T113000
DTSTAMP:20260422T002343
CREATED:20231027T144759Z
LAST-MODIFIED:20231027T144759Z
UID:3037-1698400800-1698406200@standrewsunitedchurch.co.uk
SUMMARY:TODDLER GROUP
DESCRIPTION:TODDLER GROUP 10 – 11.30 am Thursdays during Term Time\, for 0-4 year olds with activities including games\, crafts\, play area\, dressing up and much more.
URL:https://standrewsunitedchurch.co.uk/event/toddler-group-66/
END:VEVENT
BEGIN:VEVENT
DTSTART;VALUE=DATE:20231027
DTEND;VALUE=DATE:20231028
DTSTAMP:20260422T002343
CREATED:20230714T083139Z
LAST-MODIFIED:20230714T083139Z
UID:2645-1698364800-1698451199@standrewsunitedchurch.co.uk
SUMMARY:HALF TERM 23rd - 27th OCTOBER
DESCRIPTION:
URL:https://standrewsunitedchurch.co.uk/event/half-term-23rd-27th-october-5/
END:VEVENT
BEGIN:VEVENT
DTSTART;VALUE=DATE:20231026
DTEND;VALUE=DATE:20231027
DTSTAMP:20260422T002343
CREATED:20230714T083113Z
LAST-MODIFIED:20230714T083113Z
UID:2643-1698278400-1698364799@standrewsunitedchurch.co.uk
SUMMARY:HALF TERM 23rd - 27th OCTOBER
DESCRIPTION:
URL:https://standrewsunitedchurch.co.uk/event/half-term-23rd-27th-october-4/
END:VEVENT
BEGIN:VEVENT
DTSTART;VALUE=DATE:20231025
DTEND;VALUE=DATE:20231026
DTSTAMP:20260422T002343
CREATED:20230714T083041Z
LAST-MODIFIED:20230714T083041Z
UID:2641-1698192000-1698278399@standrewsunitedchurch.co.uk
SUMMARY:HALF TERM 23rd - 27th OCTOBER
DESCRIPTION:
URL:https://standrewsunitedchurch.co.uk/event/half-term-23rd-27th-october-3/
END:VEVENT
BEGIN:VEVENT
DTSTART;VALUE=DATE:20231024
DTEND;VALUE=DATE:20231025
DTSTAMP:20260422T002343
CREATED:20230714T083016Z
LAST-MODIFIED:20230714T083016Z
UID:2639-1698105600-1698191999@standrewsunitedchurch.co.uk
SUMMARY:HALF TERM 23rd - 27th OCTOBER
DESCRIPTION:
URL:https://standrewsunitedchurch.co.uk/event/half-term-23rd-27th-october-2/
END:VEVENT
BEGIN:VEVENT
DTSTART;VALUE=DATE:20231023
DTEND;VALUE=DATE:20231024
DTSTAMP:20260422T002343
CREATED:20230714T082846Z
LAST-MODIFIED:20230714T082846Z
UID:2636-1698019200-1698105599@standrewsunitedchurch.co.uk
SUMMARY:HALF TERM 23rd - 27th OCTOBER
DESCRIPTION:
URL:https://standrewsunitedchurch.co.uk/event/half-term-23rd-27th-october/
END:VEVENT
BEGIN:VEVENT
DTSTART;TZID=UTC:20231022T103000
DTEND;TZID=UTC:20231022T113000
DTSTAMP:20260422T002343
CREATED:20230810T090937Z
LAST-MODIFIED:20230810T090955Z
UID:2828-1697970600-1697974200@standrewsunitedchurch.co.uk
SUMMARY:Healing service
DESCRIPTION:Sunday morning services starts at 10.30  \nLed by Revd. Lorraine Aizlewood-Threlfall
URL:https://standrewsunitedchurch.co.uk/event/morning-worship-12/
LOCATION:St Andew’s United Church\, CH45 2LY
END:VEVENT
BEGIN:VEVENT
DTSTART;TZID=UTC:20231020T140000
DTEND;TZID=UTC:20231020T160000
DTSTAMP:20260422T002343
CREATED:20230714T081918Z
LAST-MODIFIED:20230714T081918Z
UID:2632-1697810400-1697817600@standrewsunitedchurch.co.uk
SUMMARY:KNIT & NATTER
DESCRIPTION:Knit & Natter\n\nCome and join this friendly group – meet new people\, learn new skills – whether knitting or crochet\, make new friends and join in future projects. The members have made a variety of items supporting various charities over the years – including blankets\, premature baby clothes\, hats\, knitted toys and items for Christmas. There is a stockpile of wool and knitting needles\, so no initial outlay. Bring along something you have started or something you are about to start. So whether you are a beginner or skilled knitter or just want to come along to find out what we are all about – you will be made very welcome. \n\n\n\nItems made supporting various charity projects such as Charles Thompson Mission\, Mission to Seafarers\, Premature Baby Unit at Arrowe Park Hospital\, plus Twiddle Muffs and Blankets for local residential homes. Whether you are a beginner or an accomplished knitter\, you will be made very welcome. \nEvery Friday from 2pm – 4pm – TERM TIME ONLY
URL:https://standrewsunitedchurch.co.uk/event/knit-natter-40/
END:VEVENT
BEGIN:VEVENT
DTSTART;TZID=UTC:20231019T100000
DTEND;TZID=UTC:20231019T113000
DTSTAMP:20260422T002343
CREATED:20230714T073636Z
LAST-MODIFIED:20230714T073636Z
UID:2578-1697709600-1697715000@standrewsunitedchurch.co.uk
SUMMARY:TODDLER GROUP
DESCRIPTION:TODDLER GROUP 10 – 11.30 am Thursdays during Term Time\, for 0-4 year olds with activities including games\, crafts\, play area\, dressing up and much more.
URL:https://standrewsunitedchurch.co.uk/event/toddler-group-60/
END:VEVENT
BEGIN:VEVENT
DTSTART;TZID=UTC:20231018T103000
DTEND;TZID=UTC:20231018T120000
DTSTAMP:20260422T002343
CREATED:20230921T072124Z
LAST-MODIFIED:20230921T072124Z
UID:2910-1697625000-1697630400@standrewsunitedchurch.co.uk
SUMMARY:Midweek service and Bible study
DESCRIPTION:
URL:https://standrewsunitedchurch.co.uk/event/midweek-service-and-bible-study-3/
LOCATION:St Andew’s United Church\, CH45 2LY
END:VEVENT
BEGIN:VEVENT
DTSTART;TZID=UTC:20231016T100000
DTEND;TZID=UTC:20231016T110000
DTSTAMP:20260422T002343
CREATED:20230825T062104Z
LAST-MODIFIED:20230825T062119Z
UID:2865-1697450400-1697454000@standrewsunitedchurch.co.uk
SUMMARY:STAY & PLAY
DESCRIPTION:STAY & PLAY \n\n\n\n\nMonday’s 10:00am – 11:00am – TERM TIME ONLY \nAt St Andrew’s United Church Rowson Street New Brighton CH45 2LY \nFor more information ring Seacombe Children Centre on:\n0151 666 3506.
URL:https://standrewsunitedchurch.co.uk/event/stay-play-35/
END:VEVENT
BEGIN:VEVENT
DTSTART;TZID=UTC:20231015T103000
DTEND;TZID=UTC:20231015T113000
DTSTAMP:20260422T002343
CREATED:20230810T090830Z
LAST-MODIFIED:20230910T065100Z
UID:2826-1697365800-1697369400@standrewsunitedchurch.co.uk
SUMMARY:Morning Worship
DESCRIPTION:Sunday morning services starts at 10.30  \nLed by Mr Wynne Davies
URL:https://standrewsunitedchurch.co.uk/event/morning-worship-11/
LOCATION:St Andew’s United Church\, CH45 2LY
END:VEVENT
BEGIN:VEVENT
DTSTART;TZID=UTC:20231013T140000
DTEND;TZID=UTC:20231013T160000
DTSTAMP:20260422T002343
CREATED:20230714T081826Z
LAST-MODIFIED:20230714T081826Z
UID:2630-1697205600-1697212800@standrewsunitedchurch.co.uk
SUMMARY:KNIT & NATTER
DESCRIPTION:Knit & Natter\n\nCome and join this friendly group – meet new people\, learn new skills – whether knitting or crochet\, make new friends and join in future projects. The members have made a variety of items supporting various charities over the years – including blankets\, premature baby clothes\, hats\, knitted toys and items for Christmas. There is a stockpile of wool and knitting needles\, so no initial outlay. Bring along something you have started or something you are about to start. So whether you are a beginner or skilled knitter or just want to come along to find out what we are all about – you will be made very welcome. \n\n\n\nItems made supporting various charity projects such as Charles Thompson Mission\, Mission to Seafarers\, Premature Baby Unit at Arrowe Park Hospital\, plus Twiddle Muffs and Blankets for local residential homes. Whether you are a beginner or an accomplished knitter\, you will be made very welcome. \nEvery Friday from 2pm – 4pm – TERM TIME ONLY
URL:https://standrewsunitedchurch.co.uk/event/knit-natter-39/
END:VEVENT
BEGIN:VEVENT
DTSTART;TZID=UTC:20231012T100000
DTEND;TZID=UTC:20231012T113000
DTSTAMP:20260422T002343
CREATED:20230714T073550Z
LAST-MODIFIED:20230714T073550Z
UID:2576-1697104800-1697110200@standrewsunitedchurch.co.uk
SUMMARY:TODDLER GROUP
DESCRIPTION:TODDLER GROUP 10 – 11.30 am Thursdays during Term Time\, for 0-4 year olds with activities including games\, crafts\, play area\, dressing up and much more.
URL:https://standrewsunitedchurch.co.uk/event/toddler-group-59/
END:VEVENT
BEGIN:VEVENT
DTSTART;TZID=UTC:20231011T103000
DTEND;TZID=UTC:20231011T120000
DTSTAMP:20260422T002343
CREATED:20230921T072103Z
LAST-MODIFIED:20230921T072103Z
UID:2908-1697020200-1697025600@standrewsunitedchurch.co.uk
SUMMARY:Midweek service and Bible study
DESCRIPTION:Every Wednesday (term time only) from 10.30am\nAll our welcome
URL:https://standrewsunitedchurch.co.uk/event/midweek-service-and-bible-study-2/
LOCATION:St Andew’s United Church\, CH45 2LY
END:VEVENT
BEGIN:VEVENT
DTSTART;TZID=UTC:20231009T100000
DTEND;TZID=UTC:20231009T110000
DTSTAMP:20260422T002343
CREATED:20230825T061954Z
LAST-MODIFIED:20230825T061954Z
UID:2863-1696845600-1696849200@standrewsunitedchurch.co.uk
SUMMARY:STAY & PLAY
DESCRIPTION:STAY & PLAY \n\n\n\n\nMonday’s 10:00am – 11:00am – TERM TIME ONLY \nAt St Andrew’s United Church Rowson Street New Brighton CH45 2LY \nFor more information ring Seacombe Children Centre on:\n0151 666 3506.
URL:https://standrewsunitedchurch.co.uk/event/stay-play-34/
END:VEVENT
BEGIN:VEVENT
DTSTART;TZID=UTC:20231008T103000
DTEND;TZID=UTC:20231008T113000
DTSTAMP:20260422T002343
CREATED:20230810T090751Z
LAST-MODIFIED:20230910T064959Z
UID:2824-1696761000-1696764600@standrewsunitedchurch.co.uk
SUMMARY:Morning Worship
DESCRIPTION:Sunday morning services starts at 10.30  \nLed by Mr David Powell
URL:https://standrewsunitedchurch.co.uk/event/morning-worship-10/
LOCATION:St Andew’s United Church\, CH45 2LY
END:VEVENT
BEGIN:VEVENT
DTSTART;TZID=UTC:20231007T103000
DTEND;TZID=UTC:20231007T123000
DTSTAMP:20260422T002343
CREATED:20231002T140013Z
LAST-MODIFIED:20231002T140117Z
UID:2937-1696674600-1696681800@standrewsunitedchurch.co.uk
SUMMARY:Coffee morning & craft stall
DESCRIPTION:Saturday 7 October \n10.30am – 12 noon \nKnitting\, wool\, yarns\, cross-stitch & craft books for the beginner and those with more experience. \nEveryone welcome
URL:https://standrewsunitedchurch.co.uk/event/coffee-morning-craft-stall/
LOCATION:St Andew’s United Church\, CH45 2LY
END:VEVENT
BEGIN:VEVENT
DTSTART;TZID=UTC:20231006T140000
DTEND;TZID=UTC:20231006T160000
DTSTAMP:20260422T002343
CREATED:20230714T081737Z
LAST-MODIFIED:20230714T081737Z
UID:2628-1696600800-1696608000@standrewsunitedchurch.co.uk
SUMMARY:KNIT & NATTER
DESCRIPTION:Knit & Natter\n\nCome and join this friendly group – meet new people\, learn new skills – whether knitting or crochet\, make new friends and join in future projects. The members have made a variety of items supporting various charities over the years – including blankets\, premature baby clothes\, hats\, knitted toys and items for Christmas. There is a stockpile of wool and knitting needles\, so no initial outlay. Bring along something you have started or something you are about to start. So whether you are a beginner or skilled knitter or just want to come along to find out what we are all about – you will be made very welcome. \n\n\n\nItems made supporting various charity projects such as Charles Thompson Mission\, Mission to Seafarers\, Premature Baby Unit at Arrowe Park Hospital\, plus Twiddle Muffs and Blankets for local residential homes. Whether you are a beginner or an accomplished knitter\, you will be made very welcome. \nEvery Friday from 2pm – 4pm – TERM TIME ONLY
URL:https://standrewsunitedchurch.co.uk/event/knit-natter-38/
END:VEVENT
BEGIN:VEVENT
DTSTART;TZID=UTC:20231005T100000
DTEND;TZID=UTC:20231005T113000
DTSTAMP:20260422T002343
CREATED:20230714T073507Z
LAST-MODIFIED:20230714T073507Z
UID:2574-1696500000-1696505400@standrewsunitedchurch.co.uk
SUMMARY:TODDLER GROUP
DESCRIPTION:TODDLER GROUP 10 – 11.30 am Thursdays during Term Time\, for 0-4 year olds with activities including games\, crafts\, play area\, dressing up and much more.
URL:https://standrewsunitedchurch.co.uk/event/toddler-group-58/
END:VEVENT
END:VCALENDAR