BEGIN:VCALENDAR
VERSION:2.0
PRODID:-// - ECPv6.15.17//NONSGML v1.0//EN
CALSCALE:GREGORIAN
METHOD:PUBLISH
X-ORIGINAL-URL:https://standrewsunitedchurch.co.uk
X-WR-CALDESC:Events for 
REFRESH-INTERVAL;VALUE=DURATION:PT1H
X-Robots-Tag:noindex
X-PUBLISHED-TTL:PT1H
BEGIN:VTIMEZONE
TZID:UTC
BEGIN:STANDARD
TZOFFSETFROM:+0000
TZOFFSETTO:+0000
TZNAME:UTC
DTSTART:20220101T000000
END:STANDARD
END:VTIMEZONE
BEGIN:VEVENT
DTSTART;TZID=UTC:20231130T100000
DTEND;TZID=UTC:20231130T113000
DTSTAMP:20260422T004547
CREATED:20231027T145323Z
LAST-MODIFIED:20231027T145323Z
UID:3050-1701338400-1701343800@standrewsunitedchurch.co.uk
SUMMARY:TODDLER GROUP
DESCRIPTION:TODDLER GROUP 10 – 11.30 am Thursdays during Term Time\, for 0-4 year olds with activities including games\, crafts\, play area\, dressing up and much more.
URL:https://standrewsunitedchurch.co.uk/event/toddler-group-72/
END:VEVENT
BEGIN:VEVENT
DTSTART;TZID=UTC:20231129T103000
DTEND;TZID=UTC:20231129T120000
DTSTAMP:20260422T004547
CREATED:20231027T142744Z
LAST-MODIFIED:20231027T142835Z
UID:3016-1701253800-1701259200@standrewsunitedchurch.co.uk
SUMMARY:Midweek Service & Bible Study
DESCRIPTION:
URL:https://standrewsunitedchurch.co.uk/event/midweek-service-bible-study-4/
END:VEVENT
BEGIN:VEVENT
DTSTART;TZID=UTC:20231127T100000
DTEND;TZID=UTC:20231127T110000
DTSTAMP:20260422T004547
CREATED:20231204T192752Z
LAST-MODIFIED:20231204T192752Z
UID:3086-1701079200-1701082800@standrewsunitedchurch.co.uk
SUMMARY:STAY & PLAY
DESCRIPTION:STAY & PLAY \n\n\n\n\nMonday’s 10:00am – 11:00am – TERM TIME ONLY \nAt St Andrew’s United Church Rowson Street New Brighton CH45 2LY \nFor more information ring Seacombe Children Centre on:\n0151 666 3506.
URL:https://standrewsunitedchurch.co.uk/event/stay-play-40/
END:VEVENT
BEGIN:VEVENT
DTSTART;TZID=UTC:20231126T103000
DTEND;TZID=UTC:20231126T113000
DTSTAMP:20260422T004547
CREATED:20230810T091322Z
LAST-MODIFIED:20230810T091322Z
UID:2839-1700994600-1700998200@standrewsunitedchurch.co.uk
SUMMARY:Church Anniversary
DESCRIPTION:Sunday morning services starts at 10.30  \nLed by Revd. Lorraine Aizlewood-Threlfall
URL:https://standrewsunitedchurch.co.uk/event/church-anniversary/
LOCATION:St Andew’s United Church\, CH45 2LY
END:VEVENT
BEGIN:VEVENT
DTSTART;TZID=UTC:20231125T100000
DTEND;TZID=UTC:20231125T160000
DTSTAMP:20260422T004547
CREATED:20230921T073429Z
LAST-MODIFIED:20231113T083004Z
UID:2922-1700906400-1700928000@standrewsunitedchurch.co.uk
SUMMARY:ANGELS WORKSHOP
DESCRIPTION:Angel’ Crafting Workshop \nSt. Andrew’s United Church \nSaturday 25th November from 10 – 4 pm \nCome for the day (please bring a packed lunch) or just the morning or afternoon \nEveryone Welcome
URL:https://standrewsunitedchurch.co.uk/event/angels-workshop/
LOCATION:St Andew’s United Church\, CH45 2LY
END:VEVENT
BEGIN:VEVENT
DTSTART;TZID=UTC:20231124T140000
DTEND;TZID=UTC:20231124T160000
DTSTAMP:20260422T004547
CREATED:20231027T140046Z
LAST-MODIFIED:20231027T140046Z
UID:2988-1700834400-1700841600@standrewsunitedchurch.co.uk
SUMMARY:KNIT & NATTER
DESCRIPTION:Knit & Natter\n\nCome and join this friendly group – meet new people\, learn new skills – whether knitting or crochet\, make new friends and join in future projects. The members have made a variety of items supporting various charities over the years – including blankets\, premature baby clothes\, hats\, knitted toys and items for Christmas. There is a stockpile of wool and knitting needles\, so no initial outlay. Bring along something you have started or something you are about to start. So whether you are a beginner or skilled knitter or just want to come along to find out what we are all about – you will be made very welcome. \n\n\n\nItems made supporting various charity projects such as Charles Thompson Mission\, Mission to Seafarers\, Premature Baby Unit at Arrowe Park Hospital\, plus Twiddle Muffs and Blankets for local residential homes. Whether you are a beginner or an accomplished knitter\, you will be made very welcome. \nEvery Friday from 2pm – 4pm – TERM TIME ONLY
URL:https://standrewsunitedchurch.co.uk/event/knit-natter-50/
END:VEVENT
BEGIN:VEVENT
DTSTART;TZID=UTC:20231124T120000
DTEND;TZID=UTC:20231124T140000
DTSTAMP:20260422T004547
CREATED:20231027T132449Z
LAST-MODIFIED:20231027T135407Z
UID:2962-1700827200-1700834400@standrewsunitedchurch.co.uk
SUMMARY:WARM WELCOME - FRIDAYS @ ST. ANDREW'S
DESCRIPTION:From 12 noon until 2 pm Soup & Sandwich plus Tea & Coffee. \nEveryone Welcome
URL:https://standrewsunitedchurch.co.uk/event/warm-welcome-fridays-st-andrews-11/
END:VEVENT
BEGIN:VEVENT
DTSTART;TZID=UTC:20231123T100000
DTEND;TZID=UTC:20231123T113000
DTSTAMP:20260422T004547
CREATED:20231027T144913Z
LAST-MODIFIED:20231027T144913Z
UID:3041-1700733600-1700739000@standrewsunitedchurch.co.uk
SUMMARY:TODDLER GROUP
DESCRIPTION:TODDLER GROUP 10 – 11.30 am Thursdays during Term Time\, for 0-4 year olds with activities including games\, crafts\, play area\, dressing up and much more.
URL:https://standrewsunitedchurch.co.uk/event/toddler-group-68/
END:VEVENT
BEGIN:VEVENT
DTSTART;TZID=UTC:20231122T103000
DTEND;TZID=UTC:20231122T120000
DTSTAMP:20260422T004547
CREATED:20231027T142703Z
LAST-MODIFIED:20231027T142703Z
UID:3014-1700649000-1700654400@standrewsunitedchurch.co.uk
SUMMARY:Midweek Service & Bible Study
DESCRIPTION:
URL:https://standrewsunitedchurch.co.uk/event/midweek-service-bible-study-3/
END:VEVENT
BEGIN:VEVENT
DTSTART;TZID=UTC:20231120T100000
DTEND;TZID=UTC:20231120T110000
DTSTAMP:20260422T004547
CREATED:20231204T192715Z
LAST-MODIFIED:20231204T192715Z
UID:3084-1700474400-1700478000@standrewsunitedchurch.co.uk
SUMMARY:STAY & PLAY
DESCRIPTION:STAY & PLAY \n\n\n\n\nMonday’s 10:00am – 11:00am – TERM TIME ONLY \nAt St Andrew’s United Church Rowson Street New Brighton CH45 2LY \nFor more information ring Seacombe Children Centre on:\n0151 666 3506.
URL:https://standrewsunitedchurch.co.uk/event/stay-play-39/
END:VEVENT
BEGIN:VEVENT
DTSTART;TZID=UTC:20231119T103000
DTEND;TZID=UTC:20231119T113000
DTSTAMP:20260422T004547
CREATED:20230810T091252Z
LAST-MODIFIED:20230810T091252Z
UID:2837-1700389800-1700393400@standrewsunitedchurch.co.uk
SUMMARY:Morning worship
DESCRIPTION:Sunday morning services starts at 10.30  \nLed by David Powell
URL:https://standrewsunitedchurch.co.uk/event/morning-worship-13/
LOCATION:St Andew’s United Church\, CH45 2LY
END:VEVENT
BEGIN:VEVENT
DTSTART;TZID=UTC:20231117T140000
DTEND;TZID=UTC:20231117T160000
DTSTAMP:20260422T004547
CREATED:20231027T140007Z
LAST-MODIFIED:20231027T140007Z
UID:2986-1700229600-1700236800@standrewsunitedchurch.co.uk
SUMMARY:KNIT & NATTER
DESCRIPTION:Knit & Natter\n\nCome and join this friendly group – meet new people\, learn new skills – whether knitting or crochet\, make new friends and join in future projects. The members have made a variety of items supporting various charities over the years – including blankets\, premature baby clothes\, hats\, knitted toys and items for Christmas. There is a stockpile of wool and knitting needles\, so no initial outlay. Bring along something you have started or something you are about to start. So whether you are a beginner or skilled knitter or just want to come along to find out what we are all about – you will be made very welcome. \n\n\n\nItems made supporting various charity projects such as Charles Thompson Mission\, Mission to Seafarers\, Premature Baby Unit at Arrowe Park Hospital\, plus Twiddle Muffs and Blankets for local residential homes. Whether you are a beginner or an accomplished knitter\, you will be made very welcome. \nEvery Friday from 2pm – 4pm – TERM TIME ONLY
URL:https://standrewsunitedchurch.co.uk/event/knit-natter-49/
END:VEVENT
BEGIN:VEVENT
DTSTART;TZID=UTC:20231117T120000
DTEND;TZID=UTC:20231117T140000
DTSTAMP:20260422T004547
CREATED:20231027T132350Z
LAST-MODIFIED:20231027T135329Z
UID:2960-1700222400-1700229600@standrewsunitedchurch.co.uk
SUMMARY:WARM WELCOME - FRIDAYS @ ST. ANDREW'S
DESCRIPTION:From 12 noon until 2 pm Soup & Sandwich plus Tea & Coffee. \nEveryone Welcome
URL:https://standrewsunitedchurch.co.uk/event/warm-welcome-fridays-st-andrews-10/
END:VEVENT
BEGIN:VEVENT
DTSTART;TZID=UTC:20231116T100000
DTEND;TZID=UTC:20231116T113000
DTSTAMP:20260422T004547
CREATED:20231027T144835Z
LAST-MODIFIED:20231027T144835Z
UID:3039-1700128800-1700134200@standrewsunitedchurch.co.uk
SUMMARY:TODDLER GROUP
DESCRIPTION:TODDLER GROUP 10 – 11.30 am Thursdays during Term Time\, for 0-4 year olds with activities including games\, crafts\, play area\, dressing up and much more.
URL:https://standrewsunitedchurch.co.uk/event/toddler-group-67/
END:VEVENT
BEGIN:VEVENT
DTSTART;TZID=UTC:20231115T120000
DTEND;TZID=UTC:20231115T140000
DTSTAMP:20260422T004547
CREATED:20231027T143442Z
LAST-MODIFIED:20231027T143442Z
UID:3026-1700049600-1700056800@standrewsunitedchurch.co.uk
SUMMARY:CHURCH LUNCH
DESCRIPTION:CHURCH LUNCH will be held on Wednesday 15th November at 12 noon – cost £5.00 for main course and dessert plus tea and coffee. \nIf you would like to join us\, please send an email or ring Lorraine to book your place.  Please also advise of any dietary requirements. \nEveryone Welcome.
URL:https://standrewsunitedchurch.co.uk/event/church-lunch-7/
END:VEVENT
BEGIN:VEVENT
DTSTART;TZID=UTC:20231115T103000
DTEND;TZID=UTC:20231115T120000
DTSTAMP:20260422T004547
CREATED:20231027T142625Z
LAST-MODIFIED:20231027T142625Z
UID:3012-1700044200-1700049600@standrewsunitedchurch.co.uk
SUMMARY:Midweek Service & Bible Study
DESCRIPTION:
URL:https://standrewsunitedchurch.co.uk/event/midweek-service-bible-study-2/
END:VEVENT
BEGIN:VEVENT
DTSTART;TZID=UTC:20231113T100000
DTEND;TZID=UTC:20231113T100000
DTSTAMP:20260422T004547
CREATED:20231204T192644Z
LAST-MODIFIED:20231204T192644Z
UID:3082-1699869600-1699869600@standrewsunitedchurch.co.uk
SUMMARY:STAY & PLAY
DESCRIPTION:STAY & PLAY \n\n\n\n\nMonday’s 10:00am – 11:00am – TERM TIME ONLY \nAt St Andrew’s United Church Rowson Street New Brighton CH45 2LY \nFor more information ring Seacombe Children Centre on:\n0151 666 3506.
URL:https://standrewsunitedchurch.co.uk/event/stay-play-38/
END:VEVENT
BEGIN:VEVENT
DTSTART;TZID=UTC:20231112T103000
DTEND;TZID=UTC:20231112T113000
DTSTAMP:20260422T004547
CREATED:20230810T091217Z
LAST-MODIFIED:20231027T135619Z
UID:2835-1699785000-1699788600@standrewsunitedchurch.co.uk
SUMMARY:Remembrance Service
DESCRIPTION:Sunday morning services starts at 10.30  \nLed by Revd. Lorraine Aizlewood-Threlfall
URL:https://standrewsunitedchurch.co.uk/event/remembrance-service-2/
LOCATION:St Andew’s United Church\, CH45 2LY
END:VEVENT
BEGIN:VEVENT
DTSTART;TZID=UTC:20231111T105500
DTEND;TZID=UTC:20231111T111500
DTSTAMP:20260422T004547
CREATED:20231027T144501Z
LAST-MODIFIED:20231027T144501Z
UID:3034-1699700100-1699701300@standrewsunitedchurch.co.uk
SUMMARY:ACT OF REMEMBRANCE on ARMISTICE DAY
DESCRIPTION:A short service of Remembrance will be held at 11 am when two minute silence will be observed.
URL:https://standrewsunitedchurch.co.uk/event/act-of-remembrance-on-armistice-day/
END:VEVENT
BEGIN:VEVENT
DTSTART;TZID=UTC:20231111T103000
DTEND;TZID=UTC:20231111T120000
DTSTAMP:20260422T004547
CREATED:20231027T141628Z
LAST-MODIFIED:20231027T141628Z
UID:3005-1699698600-1699704000@standrewsunitedchurch.co.uk
SUMMARY:COFFEE MORNING & CAKE SALE
DESCRIPTION:COFFEE MORNING & CAKE SALE \nTime for friendship and refreshments. \n  \nEveryone Welcome
URL:https://standrewsunitedchurch.co.uk/event/coffee-morning-cake-sale/
END:VEVENT
BEGIN:VEVENT
DTSTART;TZID=UTC:20231110T140000
DTEND;TZID=UTC:20231110T160000
DTSTAMP:20260422T004547
CREATED:20231027T135914Z
LAST-MODIFIED:20231027T135914Z
UID:2984-1699624800-1699632000@standrewsunitedchurch.co.uk
SUMMARY:KNIT & NATTER
DESCRIPTION:Knit & Natter\n\nCome and join this friendly group – meet new people\, learn new skills – whether knitting or crochet\, make new friends and join in future projects. The members have made a variety of items supporting various charities over the years – including blankets\, premature baby clothes\, hats\, knitted toys and items for Christmas. There is a stockpile of wool and knitting needles\, so no initial outlay. Bring along something you have started or something you are about to start. So whether you are a beginner or skilled knitter or just want to come along to find out what we are all about – you will be made very welcome. \n\n\n\nItems made supporting various charity projects such as Charles Thompson Mission\, Mission to Seafarers\, Premature Baby Unit at Arrowe Park Hospital\, plus Twiddle Muffs and Blankets for local residential homes. Whether you are a beginner or an accomplished knitter\, you will be made very welcome. \nEvery Friday from 2pm – 4pm – TERM TIME ONLY
URL:https://standrewsunitedchurch.co.uk/event/knit-natter-48/
END:VEVENT
BEGIN:VEVENT
DTSTART;TZID=UTC:20231110T120000
DTEND;TZID=UTC:20231110T140000
DTSTAMP:20260422T004547
CREATED:20231027T125139Z
LAST-MODIFIED:20231027T135310Z
UID:2950-1699617600-1699624800@standrewsunitedchurch.co.uk
SUMMARY:WARM WELCOME - FRIDAYS @ ST. ANDREW'S
DESCRIPTION:From 12 noon until 2 pm Soup & Sandwich plus Tea & Coffee. \nEveryone Welcome
URL:https://standrewsunitedchurch.co.uk/event/warm-welcome-fridays-st-andrews-9/
END:VEVENT
BEGIN:VEVENT
DTSTART;TZID=UTC:20231109T100000
DTEND;TZID=UTC:20231109T113000
DTSTAMP:20260422T004547
CREATED:20231027T145009Z
LAST-MODIFIED:20231027T145009Z
UID:3043-1699524000-1699529400@standrewsunitedchurch.co.uk
SUMMARY:TODDLER GROUP
DESCRIPTION:TODDLER GROUP 10 – 11.30 am Thursdays during Term Time\, for 0-4 year olds with activities including games\, crafts\, play area\, dressing up and much more.
URL:https://standrewsunitedchurch.co.uk/event/toddler-group-69/
END:VEVENT
BEGIN:VEVENT
DTSTART;TZID=UTC:20231108T103000
DTEND;TZID=UTC:20231108T120000
DTSTAMP:20260422T004547
CREATED:20231027T142505Z
LAST-MODIFIED:20231027T142505Z
UID:3010-1699439400-1699444800@standrewsunitedchurch.co.uk
SUMMARY:Midweek Service & Bible Study
DESCRIPTION:
URL:https://standrewsunitedchurch.co.uk/event/midweek-service-bible-study/
END:VEVENT
BEGIN:VEVENT
DTSTART;VALUE=DATE:20231107
DTEND;VALUE=DATE:20231108
DTSTAMP:20260422T004547
CREATED:20230921T073354Z
LAST-MODIFIED:20231027T142205Z
UID:2920-1699315200-1699401599@standrewsunitedchurch.co.uk
SUMMARY:Remember Me & Exhibition
DESCRIPTION:REMEMBER ME & EXHIBITION  is for Primary School Children and visits are arranged with the local Primary Schools.   This is an opportunity for children to understand why we mark Remembrance\, remembering the horrors of WWI & WWII and all conflicts since\, commemorating war not celebrating.  We share local story and emphasise the importance of peace.
URL:https://standrewsunitedchurch.co.uk/event/remember-me-exhibition-5/
LOCATION:St Andew’s United Church\, CH45 2LY
END:VEVENT
BEGIN:VEVENT
DTSTART;TZID=UTC:20231106T100000
DTEND;TZID=UTC:20231106T110000
DTSTAMP:20260422T004547
CREATED:20231204T192234Z
LAST-MODIFIED:20231204T192234Z
UID:3076-1699264800-1699268400@standrewsunitedchurch.co.uk
SUMMARY:STAY & PLAY
DESCRIPTION:STAY & PLAY \n\n\n\n\nMonday’s 10:00am – 11:00am – TERM TIME ONLY \nAt St Andrew’s United Church Rowson Street New Brighton CH45 2LY \nFor more information ring Seacombe Children Centre on:\n0151 666 3506.
URL:https://standrewsunitedchurch.co.uk/event/stay-play-37/
END:VEVENT
BEGIN:VEVENT
DTSTART;VALUE=DATE:20231106
DTEND;VALUE=DATE:20231107
DTSTAMP:20260422T004547
CREATED:20230921T073336Z
LAST-MODIFIED:20231027T142320Z
UID:2918-1699228800-1699315199@standrewsunitedchurch.co.uk
SUMMARY:Remember Me & Exhibition
DESCRIPTION:REMEMBER ME & EXHIBITION  is for Primary School Children and visits are arranged with the local Primary Schools.   This is an opportunity for children to understand why we mark Remembrance\, remembering the horrors of WWI & WWII and all conflicts since\, commemorating war not celebrating.  We share local story and emphasise the importance of peace.
URL:https://standrewsunitedchurch.co.uk/event/remember-me-exhibition-4/
LOCATION:St Andew’s United Church\, CH45 2LY
END:VEVENT
BEGIN:VEVENT
DTSTART;TZID=UTC:20231105T103000
DTEND;TZID=UTC:20231105T113000
DTSTAMP:20260422T004547
CREATED:20230810T091143Z
LAST-MODIFIED:20231027T135720Z
UID:2833-1699180200-1699183800@standrewsunitedchurch.co.uk
SUMMARY:Morning Worship
DESCRIPTION:Sunday morning services starts at 10.30 am \nLed by Mr David Powell
URL:https://standrewsunitedchurch.co.uk/event/holy-communion-3/
LOCATION:St Andew’s United Church\, CH45 2LY
END:VEVENT
BEGIN:VEVENT
DTSTART;TZID=UTC:20231104T110000
DTEND;TZID=UTC:20231104T130000
DTSTAMP:20260422T004547
CREATED:20231027T141331Z
LAST-MODIFIED:20231027T141331Z
UID:3002-1699095600-1699102800@standrewsunitedchurch.co.uk
SUMMARY:AUTUMN FAIR @ Seacombe United Reformed Church
DESCRIPTION:AUTUMN FAIR at Seacombe United Reformed Church\, Brougham Road\, Seacombe CH44 6PW. \nFrom 11 – 1 pm – Cake stall\, Children’s Games\, Gifts\, Tombola\, Christmas Stall\, Raffle and Refreshments.
URL:https://standrewsunitedchurch.co.uk/event/autumn-fair-seacombe-united-reformed-church/
END:VEVENT
BEGIN:VEVENT
DTSTART;TZID=UTC:20231103T140000
DTEND;TZID=UTC:20231103T160000
DTSTAMP:20260422T004547
CREATED:20230714T082006Z
LAST-MODIFIED:20230714T082729Z
UID:2634-1699020000-1699027200@standrewsunitedchurch.co.uk
SUMMARY:KNIT & NATTER
DESCRIPTION:Knit & Natter\n\nCome and join this friendly group – meet new people\, learn new skills – whether knitting or crochet\, make new friends and join in future projects. The members have made a variety of items supporting various charities over the years – including blankets\, premature baby clothes\, hats\, knitted toys and items for Christmas. There is a stockpile of wool and knitting needles\, so no initial outlay. Bring along something you have started or something you are about to start. So whether you are a beginner or skilled knitter or just want to come along to find out what we are all about – you will be made very welcome. \n\n\n\nItems made supporting various charity projects such as Charles Thompson Mission\, Mission to Seafarers\, Premature Baby Unit at Arrowe Park Hospital\, plus Twiddle Muffs and Blankets for local residential homes. Whether you are a beginner or an accomplished knitter\, you will be made very welcome. \nEvery Friday from 2pm – 4pm – TERM TIME ONLY
URL:https://standrewsunitedchurch.co.uk/event/knit-natter-41/
END:VEVENT
END:VCALENDAR