BEGIN:VCALENDAR
VERSION:2.0
PRODID:-// - ECPv6.15.17//NONSGML v1.0//EN
CALSCALE:GREGORIAN
METHOD:PUBLISH
X-ORIGINAL-URL:https://standrewsunitedchurch.co.uk
X-WR-CALDESC:Events for 
REFRESH-INTERVAL;VALUE=DURATION:PT1H
X-Robots-Tag:noindex
X-PUBLISHED-TTL:PT1H
BEGIN:VTIMEZONE
TZID:UTC
BEGIN:STANDARD
TZOFFSETFROM:+0000
TZOFFSETTO:+0000
TZNAME:UTC
DTSTART:20240101T000000
END:STANDARD
END:VTIMEZONE
BEGIN:VEVENT
DTSTART;TZID=UTC:20251212T100000
DTEND;TZID=UTC:20251212T120000
DTSTAMP:20260421T202226
CREATED:20251219T070034Z
LAST-MODIFIED:20251219T070034Z
UID:4995-1765533600-1765540800@standrewsunitedchurch.co.uk
SUMMARY:SANCTUARY DROP-IN.   COFFEE\, CAKE & CHAT
DESCRIPTION:SANCTUARY DROP-IN   \nCoffee\, Cake & Chat – Fridays from 10 – 12 noon\, offering a warm\, welcoming space\, to meet new people and build new friendships. \nDrop-in anytime during the morning\, no need to tell us you are coming – bring a friend. \nPlease contact Lorraine 0151 792 0972 if you require any further information.
URL:https://standrewsunitedchurch.co.uk/event/sanctuary-drop-in-coffee-cake-chat-6/
END:VEVENT
BEGIN:VEVENT
DTSTART;TZID=UTC:20251214T103000
DTEND;TZID=UTC:20251214T103000
DTSTAMP:20260421T202226
CREATED:20251027T094439Z
LAST-MODIFIED:20251027T094759Z
UID:4971-1765708200-1765708200@standrewsunitedchurch.co.uk
SUMMARY:MORNING WORSHIP
DESCRIPTION:MORNING WORSHIP will start at 10.30 am and will be led by Revd. Lorraine Aizlewood-Threlfall
URL:https://standrewsunitedchurch.co.uk/event/christmas-tree-festival-toy-service/
END:VEVENT
BEGIN:VEVENT
DTSTART;TZID=UTC:20251214T160000
DTEND;TZID=UTC:20251214T160000
DTSTAMP:20260421T202226
CREATED:20251027T095031Z
LAST-MODIFIED:20251027T095031Z
UID:4977-1765728000-1765728000@standrewsunitedchurch.co.uk
SUMMARY:COMMUNITY CAROL SERVICE
DESCRIPTION:COMMUNITY CAROL SERVICE will start at 4 pm and will be led by Revd. Lorraine Aizlewood-Threlfall
URL:https://standrewsunitedchurch.co.uk/event/community-carol-service-3/
END:VEVENT
BEGIN:VEVENT
DTSTART;TZID=UTC:20251217T120000
DTEND;TZID=UTC:20251217T140000
DTSTAMP:20260421T202226
CREATED:20251027T092056Z
LAST-MODIFIED:20251027T092056Z
UID:4834-1765972800-1765980000@standrewsunitedchurch.co.uk
SUMMARY:CHRISTMAS CHURCH LUNCH
DESCRIPTION:CHRISTMAS CHURCH LUNCH will start at 12 noon until 2 pm.   Traditional Christmas Lunch will be served.  Cost £5.00. \nPlease be in touch with Lorraine 0151 792 0972\, if you would like to join us for lunch.  It is important we have numbers and any dietary requirements as soon as possible. \n  \nEveryone Welcome
URL:https://standrewsunitedchurch.co.uk/event/christmas-church-lunch-2/
END:VEVENT
BEGIN:VEVENT
DTSTART;TZID=UTC:20251218T100000
DTEND;TZID=UTC:20251218T113000
DTSTAMP:20260421T202226
CREATED:20251027T081709Z
LAST-MODIFIED:20251027T091507Z
UID:4860-1766052000-1766057400@standrewsunitedchurch.co.uk
SUMMARY:TODDLER GROUP
DESCRIPTION:TODDLER GROUP 10 – 11.30 am Thursdays during Term Time\, for 0-4 year olds with activities including games\, crafts\, play area\, dressing up and much more. \nLast meeting before Christmas returning on Thursday 8th January 2026
URL:https://standrewsunitedchurch.co.uk/event/toddler-event/
END:VEVENT
BEGIN:VEVENT
DTSTART;TZID=UTC:20251219T100000
DTEND;TZID=UTC:20251219T120000
DTSTAMP:20260421T202226
CREATED:20251219T070442Z
LAST-MODIFIED:20251219T070442Z
UID:4997-1766138400-1766145600@standrewsunitedchurch.co.uk
SUMMARY:SANCTUARY DROP-IN.     COFFEE\, CAKE & CHAT
DESCRIPTION:SANCTUARY DROP-IN   \nCoffee\, Cake & Chat – Fridays from 10 – 12 noon\, offering a warm\, welcoming space\, to meet new people and build new friendships. \nDrop-in anytime during the morning\, no need to tell us you are coming – bring a friend. \nPlease contact Lorraine 0151 792 0972 if you require any further information. \nTHIS IS THE LAST SANCTUARY DROP-IN AND WILL RESUME FRIDAY 17th APRIL 2026  \nEVERYONE WELCOME TO ATTEND WARM WELCOME WHICH IS HELD ON FRIDAYS UNTIL THE END OF MARCH 2026
URL:https://standrewsunitedchurch.co.uk/event/sanctuary-drop-in-coffee-cake-chat-7/
END:VEVENT
BEGIN:VEVENT
DTSTART;TZID=UTC:20251219T120000
DTEND;TZID=UTC:20251219T140000
DTSTAMP:20260421T202226
CREATED:20251027T083948Z
LAST-MODIFIED:20251027T083948Z
UID:4903-1766145600-1766152800@standrewsunitedchurch.co.uk
SUMMARY:WARM WELCOME FRIDAYS @ ST ANDREW'S
DESCRIPTION:WARM WELCOME from 12 noon until 2 pm Soup & Sandwich plus Tea & Coffee. \nCome and sit in the warmth of the building\, enjoy lunch and make new friends. \nEveryone Welcome
URL:https://standrewsunitedchurch.co.uk/event/warm-welcome-fridays-st-andrews-51/
END:VEVENT
BEGIN:VEVENT
DTSTART;TZID=UTC:20251219T140000
DTEND;TZID=UTC:20251219T160000
DTSTAMP:20260421T202226
CREATED:20251027T090354Z
LAST-MODIFIED:20251027T090354Z
UID:4929-1766152800-1766160000@standrewsunitedchurch.co.uk
SUMMARY:KNIT & NATTER
DESCRIPTION:Knit & Natter\n\nCome and join this friendly group – meet new people\, learn new skills – whether knitting or crochet\, make new friends and join in future projects. The members have made a variety of items supporting various charities over the years – including blankets\, premature baby clothes\, hats\, knitted toys and items for Christmas. There is a stockpile of wool and knitting needles\, so no initial outlay. Bring along something you have started or something you are about to start. So whether you are a beginner or skilled knitter or just want to come along to find out what we are all about – you will be made very welcome. \n\n\n\nItems made supporting various charity projects such as Charles Thompson Mission\, Mission to Seafarers\, Premature Baby Unit at Arrowe Park Hospital\, plus Twiddle Muffs and Blankets for local residential homes. Whether you are a beginner or an accomplished knitter\, you will be made very welcome. \nEvery Friday from 2pm – 4pm – TERM TIME ONLY
URL:https://standrewsunitedchurch.co.uk/event/knit-natter-121/
END:VEVENT
BEGIN:VEVENT
DTSTART;TZID=UTC:20251221T103000
DTEND;TZID=UTC:20251221T103000
DTSTAMP:20260421T202226
CREATED:20251027T095224Z
LAST-MODIFIED:20251027T095224Z
UID:4979-1766313000-1766313000@standrewsunitedchurch.co.uk
SUMMARY:SERVICE OF LESSONS & CAROLS FOR CHRISTMAS
DESCRIPTION:SERVICE OF LESSONS & CAROLS will start at 10.30am  and will be led by the Worship Group
URL:https://standrewsunitedchurch.co.uk/event/service-of-lessons-carols-for-christmas/
END:VEVENT
BEGIN:VEVENT
DTSTART;TZID=UTC:20251221T160000
DTEND;TZID=UTC:20251221T160000
DTSTAMP:20260421T202226
CREATED:20251027T095400Z
LAST-MODIFIED:20251027T095400Z
UID:4981-1766332800-1766332800@standrewsunitedchurch.co.uk
SUMMARY:CHRISTMAS REMEMBRANCE SERVICE
DESCRIPTION:CHRISTMAS REMEMBRANCE SERVICE \nChristmas can be a painful time for some.  It may be the first Christmas without a loved family member who has recently died; it may be a time that has always been difficult. The constant refrains on radio and television\, in shopping centres and churches\, about the happiness of the season\, about getting together with family and friends\, reminds many people of what they have lost. The anguish of the death of a loved one can make us feel alone in the midst of the celebrating and joy.  We need the space and time to acknowledge our sadness; we need to know that we are not alone. We need encouragement to live the days ahead of us. \nWe invite you to a service of comfort\, it is a way we can recognise the depth of the season and help process those negative feelings that might be held within\, during the holidays.  By doing so\, we can all celebrate more fully\, knowing we have acknowledged those who are no longer with us or what we might have left behind. \nThis is a quiet reflective service with an opportunity to remember those loved ones who will be absent at Christmas. \nService starts at 4pm \n  \n 
URL:https://standrewsunitedchurch.co.uk/event/christmas-remembrance-service-5/
END:VEVENT
BEGIN:VEVENT
DTSTART;TZID=UTC:20251224T233000
DTEND;TZID=UTC:20251224T233000
DTSTAMP:20260421T202226
CREATED:20251027T100055Z
LAST-MODIFIED:20251027T100055Z
UID:4983-1766619000-1766619000@standrewsunitedchurch.co.uk
SUMMARY:FIRST COMMUNION OF CHRISTMAS
DESCRIPTION:First Communion of Christmas is a reflective service will be led by the Revd. Lorraine Aizlewood-Threlfall \nThe service will start at 11.30 pm
URL:https://standrewsunitedchurch.co.uk/event/first-communion-of-christmas-3/
END:VEVENT
BEGIN:VEVENT
DTSTART;TZID=UTC:20251225T110000
DTEND;TZID=UTC:20251225T110000
DTSTAMP:20260421T202226
CREATED:20251027T100212Z
LAST-MODIFIED:20251027T100246Z
UID:4985-1766660400-1766660400@standrewsunitedchurch.co.uk
SUMMARY:CHRISTMAS DAY FAMILY SERVICE
DESCRIPTION:CHRISTMAS DAY FAMILY SERVICE will be led by the Revd. Lorraine Aizlewood-Threlfall and will start at 11 am
URL:https://standrewsunitedchurch.co.uk/event/christmas-day-family-service-3/
END:VEVENT
BEGIN:VEVENT
DTSTART;TZID=UTC:20251228T103000
DTEND;TZID=UTC:20251228T103000
DTSTAMP:20260421T202226
CREATED:20251027T100514Z
LAST-MODIFIED:20251027T100514Z
UID:4987-1766917800-1766917800@standrewsunitedchurch.co.uk
SUMMARY:MORNING WORSHIP
DESCRIPTION:MORNING WORSHIP – last service of 2025 giving thanks for many blessings and preparing for 2026 \nService will start at 10.30 am and will be led by Revd. Heather MacLeod
URL:https://standrewsunitedchurch.co.uk/event/morning-worship-71/
END:VEVENT
BEGIN:VEVENT
DTSTART;TZID=UTC:20260104T103000
DTEND;TZID=UTC:20260104T103000
DTSTAMP:20260421T202226
CREATED:20251027T100705Z
LAST-MODIFIED:20251027T100705Z
UID:4990-1767522600-1767522600@standrewsunitedchurch.co.uk
SUMMARY:COVENANT SERVICE  &  HOLY COMMUNION
DESCRIPTION:  \nWelcome to 2026 – Covenant Service with Holy Communion starting at 10.30 am \nService led by Revd. Lorraine Aizlewood-Threlfall
URL:https://standrewsunitedchurch.co.uk/event/covenant-service-holy-communion-2/
END:VEVENT
BEGIN:VEVENT
DTSTART;TZID=UTC:20260105T100000
DTEND;TZID=UTC:20260105T113000
DTSTAMP:20260421T202226
CREATED:20251027T082507Z
LAST-MODIFIED:20251027T082507Z
UID:4876-1767607200-1767612600@standrewsunitedchurch.co.uk
SUMMARY:STAY & PLAY
DESCRIPTION:STAY & PLAY \n\n\n\n\nMonday’s 10:00am – 11:00am – TERM TIME ONLY \nAt St Andrew’s United Church Rowson Street New Brighton CH45 2LY \nFor more information ring Seacombe Children Centre on:\n0151 666 3506.
URL:https://standrewsunitedchurch.co.uk/event/stay-play-108/
END:VEVENT
BEGIN:VEVENT
DTSTART;TZID=UTC:20260111T103000
DTEND;TZID=UTC:20260111T103000
DTSTAMP:20260421T202226
CREATED:20260110T091005Z
LAST-MODIFIED:20260110T091946Z
UID:5047-1768127400-1768127400@standrewsunitedchurch.co.uk
SUMMARY:MORNING WORSHIP
DESCRIPTION:MORNING WORSHIP will be led by Revd. Heather MacLeod and will start at 10.30am. \nEveryone Welcome.
URL:https://standrewsunitedchurch.co.uk/event/morning-worship-72/
END:VEVENT
BEGIN:VEVENT
DTSTART;TZID=UTC:20260112T100000
DTEND;TZID=UTC:20260112T113000
DTSTAMP:20260421T202226
CREATED:20251027T082547Z
LAST-MODIFIED:20251027T082547Z
UID:4878-1768212000-1768217400@standrewsunitedchurch.co.uk
SUMMARY:STAY & PLAY
DESCRIPTION:STAY & PLAY \n\n\n\n\nMonday’s 10:00am – 11:00am – TERM TIME ONLY \nAt St Andrew’s United Church Rowson Street New Brighton CH45 2LY \nFor more information ring Seacombe Children Centre on:\n0151 666 3506.
URL:https://standrewsunitedchurch.co.uk/event/stay-play-109/
END:VEVENT
BEGIN:VEVENT
DTSTART;TZID=UTC:20260114T103000
DTEND;TZID=UTC:20260114T113000
DTSTAMP:20260421T202226
CREATED:20260110T092343Z
LAST-MODIFIED:20260110T092343Z
UID:5061-1768386600-1768390200@standrewsunitedchurch.co.uk
SUMMARY:MIDWEEK BIBLE STUDY
DESCRIPTION:MIDWEEK BIBLE STUDY will be held every Wednesday starting at 10.30 am followed by refreshments. \nEveryone Welcome.
URL:https://standrewsunitedchurch.co.uk/event/midweek-bible-study-12/
END:VEVENT
BEGIN:VEVENT
DTSTART;TZID=UTC:20260115T100000
DTEND;TZID=UTC:20260115T113000
DTSTAMP:20260421T202226
CREATED:20251027T082915Z
LAST-MODIFIED:20251027T082915Z
UID:4884-1768471200-1768476600@standrewsunitedchurch.co.uk
SUMMARY:TODDLER GROUP
DESCRIPTION:TODDLER GROUP 10 – 11.30 am Thursdays during Term Time\, for 0-4 year olds with activities including games\, crafts\, play area\, dressing up and much more.
URL:https://standrewsunitedchurch.co.uk/event/toddler-group-146/
END:VEVENT
BEGIN:VEVENT
DTSTART;TZID=UTC:20260116T120000
DTEND;TZID=UTC:20260116T140000
DTSTAMP:20260421T202226
CREATED:20251027T084130Z
LAST-MODIFIED:20251027T084130Z
UID:4907-1768564800-1768572000@standrewsunitedchurch.co.uk
SUMMARY:WARM WELCOME FRIDAYS @ ST ANDREW'S
DESCRIPTION:WARM WELCOME from 12 noon until 2 pm Soup & Sandwich plus Tea & Coffee. \nCome and sit in the warmth of the building\, enjoy lunch and make new friends. \nEveryone Welcome
URL:https://standrewsunitedchurch.co.uk/event/warm-welcome-fridays-st-andrews-53/
END:VEVENT
BEGIN:VEVENT
DTSTART;TZID=UTC:20260116T140000
DTEND;TZID=UTC:20260116T160000
DTSTAMP:20260421T202226
CREATED:20251027T090548Z
LAST-MODIFIED:20251027T090548Z
UID:4933-1768572000-1768579200@standrewsunitedchurch.co.uk
SUMMARY:KNIT & NATTER
DESCRIPTION:Knit & Natter\n\nCome and join this friendly group – meet new people\, learn new skills – whether knitting or crochet\, make new friends and join in future projects. The members have made a variety of items supporting various charities over the years – including blankets\, premature baby clothes\, hats\, knitted toys and items for Christmas. There is a stockpile of wool and knitting needles\, so no initial outlay. Bring along something you have started or something you are about to start. So whether you are a beginner or skilled knitter or just want to come along to find out what we are all about – you will be made very welcome. \n\n\n\nItems made supporting various charity projects such as Charles Thompson Mission\, Mission to Seafarers\, Premature Baby Unit at Arrowe Park Hospital\, plus Twiddle Muffs and Blankets for local residential homes. Whether you are a beginner or an accomplished knitter\, you will be made very welcome. \nEvery Friday from 2pm – 4pm – TERM TIME ONLY
URL:https://standrewsunitedchurch.co.uk/event/knit-natter-123/
END:VEVENT
BEGIN:VEVENT
DTSTART;TZID=UTC:20260118T103000
DTEND;TZID=UTC:20260118T103000
DTSTAMP:20260421T202226
CREATED:20260110T091103Z
LAST-MODIFIED:20260110T091103Z
UID:5049-1768732200-1768732200@standrewsunitedchurch.co.uk
SUMMARY:MORNING WORSHIP
DESCRIPTION:MORNING WORSHIP will be led by Revd. Lorraine Aizlewood-Threlfall and will start at 10.30am \nEveryone Welcome
URL:https://standrewsunitedchurch.co.uk/event/morning-worship-73/
END:VEVENT
BEGIN:VEVENT
DTSTART;TZID=UTC:20260119T100000
DTEND;TZID=UTC:20260119T113000
DTSTAMP:20260421T202226
CREATED:20251027T082639Z
LAST-MODIFIED:20251027T082639Z
UID:4880-1768816800-1768822200@standrewsunitedchurch.co.uk
SUMMARY:STAY & PLAY
DESCRIPTION:STAY & PLAY \n\n\n\n\nMonday’s 10:00am – 11:00am – TERM TIME ONLY \nAt St Andrew’s United Church Rowson Street New Brighton CH45 2LY \nFor more information ring Seacombe Children Centre on:\n0151 666 3506.
URL:https://standrewsunitedchurch.co.uk/event/stay-play-110/
END:VEVENT
BEGIN:VEVENT
DTSTART;TZID=UTC:20260121T103000
DTEND;TZID=UTC:20260121T113000
DTSTAMP:20260421T202226
CREATED:20260110T092458Z
LAST-MODIFIED:20260110T092458Z
UID:5063-1768991400-1768995000@standrewsunitedchurch.co.uk
SUMMARY:MIDWEEK BIBLE STUDY
DESCRIPTION:MIDWEEK BIBLE STUDY will be held every Wednesday starting at 10.30 am followed by refreshments. \nEveryone Welcome.
URL:https://standrewsunitedchurch.co.uk/event/midweek-bible-study-14/
END:VEVENT
BEGIN:VEVENT
DTSTART;TZID=UTC:20260122T100000
DTEND;TZID=UTC:20260122T113000
DTSTAMP:20260421T202226
CREATED:20251027T082955Z
LAST-MODIFIED:20251027T082955Z
UID:4886-1769076000-1769081400@standrewsunitedchurch.co.uk
SUMMARY:TODDLER GROUP
DESCRIPTION:TODDLER GROUP 10 – 11.30 am Thursdays during Term Time\, for 0-4 year olds with activities including games\, crafts\, play area\, dressing up and much more.
URL:https://standrewsunitedchurch.co.uk/event/toddler-group-147/
END:VEVENT
BEGIN:VEVENT
DTSTART;TZID=UTC:20260123T120000
DTEND;TZID=UTC:20260123T140000
DTSTAMP:20260421T202226
CREATED:20251027T084237Z
LAST-MODIFIED:20251027T084237Z
UID:4909-1769169600-1769176800@standrewsunitedchurch.co.uk
SUMMARY:WARM WELCOME FRIDAYS @ ST ANDREW'S
DESCRIPTION:WARM WELCOME from 12 noon until 2 pm Soup & Sandwich plus Tea & Coffee. \nCome and sit in the warmth of the building\, enjoy lunch and make new friends. \nEveryone Welcome
URL:https://standrewsunitedchurch.co.uk/event/warm-welcome-fridays-st-andrews-54/
END:VEVENT
BEGIN:VEVENT
DTSTART;TZID=UTC:20260123T140000
DTEND;TZID=UTC:20260123T160000
DTSTAMP:20260421T202226
CREATED:20251027T090624Z
LAST-MODIFIED:20251027T090624Z
UID:4935-1769176800-1769184000@standrewsunitedchurch.co.uk
SUMMARY:KNIT & NATTER
DESCRIPTION:Knit & Natter\n\nCome and join this friendly group – meet new people\, learn new skills – whether knitting or crochet\, make new friends and join in future projects. The members have made a variety of items supporting various charities over the years – including blankets\, premature baby clothes\, hats\, knitted toys and items for Christmas. There is a stockpile of wool and knitting needles\, so no initial outlay. Bring along something you have started or something you are about to start. So whether you are a beginner or skilled knitter or just want to come along to find out what we are all about – you will be made very welcome. \n\n\n\nItems made supporting various charity projects such as Charles Thompson Mission\, Mission to Seafarers\, Premature Baby Unit at Arrowe Park Hospital\, plus Twiddle Muffs and Blankets for local residential homes. Whether you are a beginner or an accomplished knitter\, you will be made very welcome. \nEvery Friday from 2pm – 4pm – TERM TIME ONLY
URL:https://standrewsunitedchurch.co.uk/event/knit-natter-124/
END:VEVENT
BEGIN:VEVENT
DTSTART;TZID=UTC:20260124T103000
DTEND;TZID=UTC:20260124T120000
DTSTAMP:20260421T202226
CREATED:20260110T092200Z
LAST-MODIFIED:20260110T092200Z
UID:5059-1769250600-1769256000@standrewsunitedchurch.co.uk
SUMMARY:COFFEE MORNING
DESCRIPTION:COFFEE MORNING will be held in church starting at 10.30am until 12 noon. \nJoin us for a coffee and chat. \nEveryone Welcome.
URL:https://standrewsunitedchurch.co.uk/event/coffee-morning-13/
END:VEVENT
BEGIN:VEVENT
DTSTART;TZID=UTC:20260125T103000
DTEND;TZID=UTC:20260125T103000
DTSTAMP:20260421T202226
CREATED:20260110T091246Z
LAST-MODIFIED:20260110T091246Z
UID:5051-1769337000-1769337000@standrewsunitedchurch.co.uk
SUMMARY:MORNING WORSHIP & BAPTISM
DESCRIPTION:MORNING WORSHIP & BAPTISM servIce will be led by Revd\, Lorraine Aizlewood-Threlfall and \nLay Pastor Stuart Annison Kidd.  The service will start at 10.30 am.
URL:https://standrewsunitedchurch.co.uk/event/morning-worship-baptism/
END:VEVENT
BEGIN:VEVENT
DTSTART;TZID=UTC:20260125T170000
DTEND;TZID=UTC:20260125T170000
DTSTAMP:20260421T202226
CREATED:20260110T091503Z
LAST-MODIFIED:20260110T091622Z
UID:5053-1769360400-1769360400@standrewsunitedchurch.co.uk
SUMMARY:WEEK OF PRAYER FOR CHRISTIAN UNITY SERVICE
DESCRIPTION:Week of Prayer for Christian Unity Service will be held at Wallasey Village URC at 5 pm. \nWallasey Churches Together will join together for this service of Word\, Reflection and Prayer. \nRefreshments will be served following the service.
URL:https://standrewsunitedchurch.co.uk/event/week-of-prayer-for-christian-unity-service/
END:VEVENT
END:VCALENDAR