BEGIN:VCALENDAR
VERSION:2.0
PRODID:-// - ECPv6.15.17//NONSGML v1.0//EN
CALSCALE:GREGORIAN
METHOD:PUBLISH
X-ORIGINAL-URL:https://standrewsunitedchurch.co.uk
X-WR-CALDESC:Events for 
REFRESH-INTERVAL;VALUE=DURATION:PT1H
X-Robots-Tag:noindex
X-PUBLISHED-TTL:PT1H
BEGIN:VTIMEZONE
TZID:UTC
BEGIN:STANDARD
TZOFFSETFROM:+0000
TZOFFSETTO:+0000
TZNAME:UTC
DTSTART:20250101T000000
END:STANDARD
END:VTIMEZONE
BEGIN:VEVENT
DTSTART;TZID=UTC:20260204T103000
DTEND;TZID=UTC:20260204T113000
DTSTAMP:20260422T012004
CREATED:20260110T095130Z
LAST-MODIFIED:20260110T095130Z
UID:5101-1770201000-1770204600@standrewsunitedchurch.co.uk
SUMMARY:MIDWEEK BIBLE STUDY
DESCRIPTION:MIDWEEK BIBLE STUDY will be held every Wednesday starting at 10.30 am followed by refreshments. \nEveryone Welcome.
URL:https://standrewsunitedchurch.co.uk/event/midweek-bible-study-16/
END:VEVENT
BEGIN:VEVENT
DTSTART;TZID=UTC:20260205T100000
DTEND;TZID=UTC:20260205T113000
DTSTAMP:20260422T012004
CREATED:20260221T081139Z
LAST-MODIFIED:20260221T081139Z
UID:5203-1770285600-1770291000@standrewsunitedchurch.co.uk
SUMMARY:TODDLER GROUP
DESCRIPTION:TODDLER GROUP 10 – 11.30 am Thursdays during Term Time\, for 0-4 year olds with activities including games\, crafts\, play area\, dressing up and much more.
URL:https://standrewsunitedchurch.co.uk/event/toddler-group-149/
END:VEVENT
BEGIN:VEVENT
DTSTART;TZID=UTC:20260206T120000
DTEND;TZID=UTC:20260206T140000
DTSTAMP:20260422T012004
CREATED:20260119T081044Z
LAST-MODIFIED:20260119T081044Z
UID:5143-1770379200-1770386400@standrewsunitedchurch.co.uk
SUMMARY:WARM WELCOME FRIDAYS @ ST ANDREW'S
DESCRIPTION:WARM WELCOME from 12 noon until 2 pm Soup & Sandwich plus Tea & Coffee. \nCome and sit in the warmth of the building\, enjoy lunch and make new friends. \nEveryone Welcome
URL:https://standrewsunitedchurch.co.uk/event/warm-welcome-fridays-st-andrews-56/
END:VEVENT
BEGIN:VEVENT
DTSTART;TZID=UTC:20260206T140000
DTEND;TZID=UTC:20260206T160000
DTSTAMP:20260422T012004
CREATED:20260303T153905Z
LAST-MODIFIED:20260303T153905Z
UID:5238-1770386400-1770393600@standrewsunitedchurch.co.uk
SUMMARY:KNIT & NATTER
DESCRIPTION:Knit & Natter\n\nCome and join this friendly group – meet new people\, learn new skills – whether knitting or crochet\, make new friends and join in future projects. The members have made a variety of items supporting various charities over the years – including blankets\, premature baby clothes\, hats\, knitted toys and items for Christmas. There is a stockpile of wool and knitting needles\, so no initial outlay. Bring along something you have started or something you are about to start. So whether you are a beginner or skilled knitter or just want to come along to find out what we are all about – you will be made very welcome. \n\n\n\nItems made supporting various charity projects such as Charles Thompson Mission\, Mission to Seafarers\, Premature Baby Unit at Arrowe Park Hospital\, plus Twiddle Muffs and Blankets for local residential homes. Whether you are a beginner or an accomplished knitter\, you will be made very welcome. \nEvery Friday from 2pm – 4pm – TERM TIME ONLY
URL:https://standrewsunitedchurch.co.uk/event/knit-natter-122/
END:VEVENT
BEGIN:VEVENT
DTSTART;TZID=UTC:20260209T100000
DTEND;TZID=UTC:20260209T110000
DTSTAMP:20260422T012004
CREATED:20260110T093309Z
LAST-MODIFIED:20260110T093309Z
UID:5072-1770631200-1770634800@standrewsunitedchurch.co.uk
SUMMARY:STAY & PLAY
DESCRIPTION:STAY & PLAY \n\n\n\n\nMonday’s 10:00am – 11:00am – TERM TIME ONLY \nAt St Andrew’s United Church Rowson Street New Brighton CH45 2LY \nFor more information ring Seacombe Children Centre on:\n0151 666 3506.
URL:https://standrewsunitedchurch.co.uk/event/stay-play-113/
END:VEVENT
BEGIN:VEVENT
DTSTART;TZID=UTC:20260211T103000
DTEND;TZID=UTC:20260211T113000
DTSTAMP:20260422T012004
CREATED:20260110T103241Z
LAST-MODIFIED:20260110T103241Z
UID:5107-1770805800-1770809400@standrewsunitedchurch.co.uk
SUMMARY:MIDWEEK BIBLE STUDY
DESCRIPTION:MIDWEEK BIBLE STUDY will be held every Wednesday starting at 10.30 am followed by refreshments. \nEveryone Welcome.
URL:https://standrewsunitedchurch.co.uk/event/midweek-bible-study-17/
END:VEVENT
BEGIN:VEVENT
DTSTART;TZID=UTC:20260212T100000
DTEND;TZID=UTC:20260212T113000
DTSTAMP:20260422T012004
CREATED:20260119T080633Z
LAST-MODIFIED:20260119T080633Z
UID:5137-1770890400-1770895800@standrewsunitedchurch.co.uk
SUMMARY:TODDLER GROUP
DESCRIPTION:TODDLER GROUP 10 – 11.30 am Thursdays during Term Time\, for 0-4 year olds with activities including games\, crafts\, play area\, dressing up and much more.
URL:https://standrewsunitedchurch.co.uk/event/toddler-group-11/
END:VEVENT
BEGIN:VEVENT
DTSTART;TZID=UTC:20260213T120000
DTEND;TZID=UTC:20260213T140000
DTSTAMP:20260422T012004
CREATED:20260119T080937Z
LAST-MODIFIED:20260119T080937Z
UID:5141-1770984000-1770991200@standrewsunitedchurch.co.uk
SUMMARY:WARM WELCOME FRIDAYS @ ST ANDREW'S
DESCRIPTION:WARM WELCOME from 12 noon until 2 pm Soup & Sandwich plus Tea & Coffee. \nCome and sit in the warmth of the building\, enjoy lunch and make new friends. \nEveryone Welcome
URL:https://standrewsunitedchurch.co.uk/event/warm-welcome-fridays-st-andrews-52/
END:VEVENT
BEGIN:VEVENT
DTSTART;TZID=UTC:20260213T140000
DTEND;TZID=UTC:20260213T160000
DTSTAMP:20260422T012004
CREATED:20260303T153942Z
LAST-MODIFIED:20260303T153942Z
UID:5240-1770991200-1770998400@standrewsunitedchurch.co.uk
SUMMARY:KNIT & NATTER
DESCRIPTION:Knit & Natter\n\nCome and join this friendly group – meet new people\, learn new skills – whether knitting or crochet\, make new friends and join in future projects. The members have made a variety of items supporting various charities over the years – including blankets\, premature baby clothes\, hats\, knitted toys and items for Christmas. There is a stockpile of wool and knitting needles\, so no initial outlay. Bring along something you have started or something you are about to start. So whether you are a beginner or skilled knitter or just want to come along to find out what we are all about – you will be made very welcome. \n\n\n\nItems made supporting various charity projects such as Charles Thompson Mission\, Mission to Seafarers\, Premature Baby Unit at Arrowe Park Hospital\, plus Twiddle Muffs and Blankets for local residential homes. Whether you are a beginner or an accomplished knitter\, you will be made very welcome. \nEvery Friday from 2pm – 4pm – TERM TIME ONLY
URL:https://standrewsunitedchurch.co.uk/event/knit-natter-126/
END:VEVENT
BEGIN:VEVENT
DTSTART;TZID=UTC:20260214T103000
DTEND;TZID=UTC:20260214T120000
DTSTAMP:20260422T012004
CREATED:20260207T154156Z
LAST-MODIFIED:20260207T154156Z
UID:5188-1771065000-1771070400@standrewsunitedchurch.co.uk
SUMMARY:Coffee and Cake morning
DESCRIPTION:Come and join us for coffee and cake. \nAll are welcome. \n10:30 – 12:00pm
URL:https://standrewsunitedchurch.co.uk/event/coffee-and-cake-morning-2/
LOCATION:St Andew’s United Church\, CH45 2LY
END:VEVENT
BEGIN:VEVENT
DTSTART;VALUE=DATE:20260216
DTEND;VALUE=DATE:20260221
DTSTAMP:20260422T012004
CREATED:20260110T093600Z
LAST-MODIFIED:20260110T093600Z
UID:5076-1771200000-1771631999@standrewsunitedchurch.co.uk
SUMMARY:HALF TERM
DESCRIPTION:
URL:https://standrewsunitedchurch.co.uk/event/half-term-6/
END:VEVENT
BEGIN:VEVENT
DTSTART;TZID=UTC:20260218T103000
DTEND;TZID=UTC:20260218T103000
DTSTAMP:20260422T012004
CREATED:20260110T103053Z
LAST-MODIFIED:20260110T103053Z
UID:5105-1771410600-1771410600@standrewsunitedchurch.co.uk
SUMMARY:ASH WEDNESDAY COMMUNION SERVICE
DESCRIPTION:ASH WEDNESDAY COMMUNION SERVICE will be led by Revd. Lorraine Aizlewood-Threlfall and will start at 10.30am. \n  \nEveryone Welcome.
URL:https://standrewsunitedchurch.co.uk/event/ash-wednesday-communion-service/
END:VEVENT
BEGIN:VEVENT
DTSTART;TZID=UTC:20260223T100000
DTEND;TZID=UTC:20260223T110000
DTSTAMP:20260422T012004
CREATED:20260110T093509Z
LAST-MODIFIED:20260110T093509Z
UID:5074-1771840800-1771844400@standrewsunitedchurch.co.uk
SUMMARY:STAY & PLAY
DESCRIPTION:STAY & PLAY \n\n\n\n\nMonday’s 10:00am – 11:00am – TERM TIME ONLY \nAt St Andrew’s United Church Rowson Street New Brighton CH45 2LY \nFor more information ring Seacombe Children Centre on:\n0151 666 3506.
URL:https://standrewsunitedchurch.co.uk/event/stay-play-114/
END:VEVENT
BEGIN:VEVENT
DTSTART;TZID=UTC:20260225T103000
DTEND;TZID=UTC:20260225T113000
DTSTAMP:20260422T012004
CREATED:20260110T103603Z
LAST-MODIFIED:20260110T103603Z
UID:5109-1772015400-1772019000@standrewsunitedchurch.co.uk
SUMMARY:LENT BIBLE STUDY
DESCRIPTION:LENT BIBLE STUDY will be held every Wednesday starting at 10.30 am followed by refreshments. \nEveryone Welcome.
URL:https://standrewsunitedchurch.co.uk/event/lent-bible-study/
END:VEVENT
BEGIN:VEVENT
DTSTART;TZID=UTC:20260225T120000
DTEND;TZID=UTC:20260225T140000
DTSTAMP:20260422T012004
CREATED:20260119T075910Z
LAST-MODIFIED:20260119T075910Z
UID:5125-1772020800-1772028000@standrewsunitedchurch.co.uk
SUMMARY:CHURCH LUNCH
DESCRIPTION:CHURCH LUNCH is held once a month starting promptly at 12 noon until 2 pm.  Hot meal\, plus dessert –  £5.00. \nPlease be in touch with Lorraine 0151 792 0972\, if you would like to come along and join us for lunch. \nNumbers are essential. \nEveryone Welcome
URL:https://standrewsunitedchurch.co.uk/event/church-lunch-24/
END:VEVENT
BEGIN:VEVENT
DTSTART;TZID=UTC:20260226T100000
DTEND;TZID=UTC:20260226T140000
DTSTAMP:20260422T012004
CREATED:20260119T080708Z
LAST-MODIFIED:20260119T080708Z
UID:5139-1772100000-1772114400@standrewsunitedchurch.co.uk
SUMMARY:TODDLER GROUP
DESCRIPTION:TODDLER GROUP 10 – 11.30 am Thursdays during Term Time\, for 0-4 year olds with activities including games\, crafts\, play area\, dressing up and much more.
URL:https://standrewsunitedchurch.co.uk/event/toddler-group-12/
END:VEVENT
BEGIN:VEVENT
DTSTART;TZID=UTC:20260227T120000
DTEND;TZID=UTC:20260227T140000
DTSTAMP:20260422T012004
CREATED:20260119T081126Z
LAST-MODIFIED:20260119T081126Z
UID:5145-1772193600-1772200800@standrewsunitedchurch.co.uk
SUMMARY:WARM WELCOME FRIDAYS @ ST ANDREW'S
DESCRIPTION:WARM WELCOME from 12 noon until 2 pm Soup & Sandwich plus Tea & Coffee. \nCome and sit in the warmth of the building\, enjoy lunch and make new friends. \nEveryone Welcome
URL:https://standrewsunitedchurch.co.uk/event/warm-welcome-fridays-st-andrews-57/
END:VEVENT
BEGIN:VEVENT
DTSTART;TZID=UTC:20260227T140000
DTEND;TZID=UTC:20260227T160000
DTSTAMP:20260422T012004
CREATED:20260303T154203Z
LAST-MODIFIED:20260303T154203Z
UID:5246-1772200800-1772208000@standrewsunitedchurch.co.uk
SUMMARY:KNIT & NATTER
DESCRIPTION:Knit & Natter\n\nCome and join this friendly group – meet new people\, learn new skills – whether knitting or crochet\, make new friends and join in future projects. The members have made a variety of items supporting various charities over the years – including blankets\, premature baby clothes\, hats\, knitted toys and items for Christmas. There is a stockpile of wool and knitting needles\, so no initial outlay. Bring along something you have started or something you are about to start. So whether you are a beginner or skilled knitter or just want to come along to find out what we are all about – you will be made very welcome. \n\n\n\nItems made supporting various charity projects such as Charles Thompson Mission\, Mission to Seafarers\, Premature Baby Unit at Arrowe Park Hospital\, plus Twiddle Muffs and Blankets for local residential homes. Whether you are a beginner or an accomplished knitter\, you will be made very welcome. \nEvery Friday from 2pm – 4pm – TERM TIME ONLY
URL:https://standrewsunitedchurch.co.uk/event/knit-natter-129/
END:VEVENT
BEGIN:VEVENT
DTSTART;TZID=UTC:20260228T100000
DTEND;TZID=UTC:20260228T130000
DTSTAMP:20260422T012004
CREATED:20260131T203605Z
LAST-MODIFIED:20260131T203605Z
UID:5159-1772272800-1772283600@standrewsunitedchurch.co.uk
SUMMARY:TABLE TOP SALE
DESCRIPTION:SATURDAY\, 28 FEBRUARY 2026 \nOPEN TO ALL 10.00AM—1.00PM—FREE ENTRANCE \nTABLE SELLERS OPEN FROM 9AM | £10 per table and must be booked in advance by emailing Debbie\nstandrewsunitedchurch1@gmail.com \n 
URL:https://standrewsunitedchurch.co.uk/event/table-top-sale/
LOCATION:St Andew’s United Church\, CH45 2LY
END:VEVENT
BEGIN:VEVENT
DTSTART;TZID=UTC:20260301T103000
DTEND;TZID=UTC:20260301T113000
DTSTAMP:20260422T012004
CREATED:20260303T152610Z
LAST-MODIFIED:20260303T153133Z
UID:5227-1772361000-1772364600@standrewsunitedchurch.co.uk
SUMMARY:HOLY COMMUNION
DESCRIPTION:HOLY COMMUNION will start at 10.30am and will be led by Revd. Lorraine Aizlewood-Threlfall
URL:https://standrewsunitedchurch.co.uk/event/holy-communion-23/
END:VEVENT
BEGIN:VEVENT
DTSTART;TZID=UTC:20260302T100000
DTEND;TZID=UTC:20260302T110000
DTSTAMP:20260422T012004
CREATED:20260110T093704Z
LAST-MODIFIED:20260110T093704Z
UID:5078-1772445600-1772449200@standrewsunitedchurch.co.uk
SUMMARY:STAY & PLAY
DESCRIPTION:STAY & PLAY \n\n\n\n\nMonday’s 10:00am – 11:00am – TERM TIME ONLY \nAt St Andrew’s United Church Rowson Street New Brighton CH45 2LY \nFor more information ring Seacombe Children Centre on:\n0151 666 3506.
URL:https://standrewsunitedchurch.co.uk/event/stay-play-115/
END:VEVENT
BEGIN:VEVENT
DTSTART;TZID=UTC:20260304T103000
DTEND;TZID=UTC:20260304T113000
DTSTAMP:20260422T012004
CREATED:20260110T103708Z
LAST-MODIFIED:20260110T103708Z
UID:5111-1772620200-1772623800@standrewsunitedchurch.co.uk
SUMMARY:LENT BIBLE STUDY
DESCRIPTION:LENT BIBLE STUDY will be held every Wednesday starting at 10.30 am followed by refreshments. \nEveryone Welcome.
URL:https://standrewsunitedchurch.co.uk/event/lent-bible-study-2/
END:VEVENT
BEGIN:VEVENT
DTSTART;TZID=UTC:20260305T100000
DTEND;TZID=UTC:20260305T113000
DTSTAMP:20260422T012004
CREATED:20260221T081033Z
LAST-MODIFIED:20260221T081033Z
UID:5201-1772704800-1772710200@standrewsunitedchurch.co.uk
SUMMARY:TODDLER GROUP
DESCRIPTION:TODDLER GROUP 10 – 11.30 am Thursdays during Term Time\, for 0-4 year olds with activities including games\, crafts\, play area\, dressing up and much more.
URL:https://standrewsunitedchurch.co.uk/event/toddler-group-145/
END:VEVENT
BEGIN:VEVENT
DTSTART;TZID=UTC:20260306T120000
DTEND;TZID=UTC:20260306T140000
DTSTAMP:20260422T012004
CREATED:20260119T081231Z
LAST-MODIFIED:20260119T081231Z
UID:5147-1772798400-1772805600@standrewsunitedchurch.co.uk
SUMMARY:WARM WELCOME FRIDAYS @ ST ANDREW'S
DESCRIPTION:WARM WELCOME from 12 noon until 2 pm Soup & Sandwich plus Tea & Coffee. \nCome and sit in the warmth of the building\, enjoy lunch and make new friends. \nEveryone Welcome
URL:https://standrewsunitedchurch.co.uk/event/warm-welcome-fridays-st-andrews-58/
END:VEVENT
BEGIN:VEVENT
DTSTART;TZID=UTC:20260306T140000
DTEND;TZID=UTC:20260306T160000
DTSTAMP:20260422T012004
CREATED:20260303T155556Z
LAST-MODIFIED:20260303T160534Z
UID:5262-1772805600-1772812800@standrewsunitedchurch.co.uk
SUMMARY:KNIT & NATTER
DESCRIPTION:Knit & Natter\n\nCome and join this friendly group – meet new people\, learn new skills – whether knitting or crochet\, make new friends and join in future projects. The members have made a variety of items supporting various charities over the years – including blankets\, premature baby clothes\, hats\, knitted toys and items for Christmas. There is a stockpile of wool and knitting needles\, so no initial outlay. Bring along something you have started or something you are about to start. So whether you are a beginner or skilled knitter or just want to come along to find out what we are all about – you will be made very welcome. \n\n\n\nItems made supporting various charity projects such as Charles Thompson Mission\, Mission to Seafarers\, Premature Baby Unit at Arrowe Park Hospital\, plus Twiddle Muffs and Blankets for local residential homes. Whether you are a beginner or an accomplished knitter\, you will be made very welcome. \nEvery Friday from 2pm – 4pm – TERM TIME ONLY
URL:https://standrewsunitedchurch.co.uk/event/knit-natter-134/
END:VEVENT
BEGIN:VEVENT
DTSTART;TZID=UTC:20260308T103000
DTEND;TZID=UTC:20260308T113000
DTSTAMP:20260422T012004
CREATED:20260303T151823Z
LAST-MODIFIED:20260303T153045Z
UID:5218-1772965800-1772969400@standrewsunitedchurch.co.uk
SUMMARY:MORNING WORSHIP
DESCRIPTION:MORNING WORSHIP starts at 10.30 am and will be led by Revd. Heather MacLeod
URL:https://standrewsunitedchurch.co.uk/event/holy-communion-22/
END:VEVENT
BEGIN:VEVENT
DTSTART;TZID=UTC:20260309T100000
DTEND;TZID=UTC:20260309T110000
DTSTAMP:20260422T012004
CREATED:20260110T093741Z
LAST-MODIFIED:20260110T093741Z
UID:5080-1773050400-1773054000@standrewsunitedchurch.co.uk
SUMMARY:STAY & PLAY
DESCRIPTION:STAY & PLAY \n\n\n\n\nMonday’s 10:00am – 11:00am – TERM TIME ONLY \nAt St Andrew’s United Church Rowson Street New Brighton CH45 2LY \nFor more information ring Seacombe Children Centre on:\n0151 666 3506.
URL:https://standrewsunitedchurch.co.uk/event/stay-play-116/
END:VEVENT
BEGIN:VEVENT
DTSTART;TZID=UTC:20260311T103000
DTEND;TZID=UTC:20260311T113000
DTSTAMP:20260422T012004
CREATED:20260110T103750Z
LAST-MODIFIED:20260110T103750Z
UID:5113-1773225000-1773228600@standrewsunitedchurch.co.uk
SUMMARY:LENT STUDY EVENT
DESCRIPTION:LENT BIBLE STUDY will be held every Wednesday starting at 10.30 am followed by refreshments. \nEveryone Welcome.
URL:https://standrewsunitedchurch.co.uk/event/lent-study-event/
END:VEVENT
BEGIN:VEVENT
DTSTART;TZID=UTC:20260312T100000
DTEND;TZID=UTC:20260312T113000
DTSTAMP:20260422T012004
CREATED:20260221T081222Z
LAST-MODIFIED:20260221T081222Z
UID:5205-1773309600-1773315000@standrewsunitedchurch.co.uk
SUMMARY:TODDLER GROUP
DESCRIPTION:TODDLER GROUP 10 – 11.30 am Thursdays during Term Time\, for 0-4 year olds with activities including games\, crafts\, play area\, dressing up and much more.
URL:https://standrewsunitedchurch.co.uk/event/toddler-group-150/
END:VEVENT
BEGIN:VEVENT
DTSTART;TZID=UTC:20260313T120000
DTEND;TZID=UTC:20260313T140000
DTSTAMP:20260422T012004
CREATED:20260119T081315Z
LAST-MODIFIED:20260119T081315Z
UID:5149-1773403200-1773410400@standrewsunitedchurch.co.uk
SUMMARY:WARM WELCOME FRIDAYS @ ST ANDREW'S
DESCRIPTION:WARM WELCOME from 12 noon until 2 pm Soup & Sandwich plus Tea & Coffee. \nCome and sit in the warmth of the building\, enjoy lunch and make new friends. \nEveryone Welcome
URL:https://standrewsunitedchurch.co.uk/event/warm-welcome-fridays-st-andrews-59/
END:VEVENT
END:VCALENDAR