BEGIN:VCALENDAR
VERSION:2.0
PRODID:-// - ECPv6.15.17//NONSGML v1.0//EN
CALSCALE:GREGORIAN
METHOD:PUBLISH
X-ORIGINAL-URL:https://standrewsunitedchurch.co.uk
X-WR-CALDESC:Events for 
REFRESH-INTERVAL;VALUE=DURATION:PT1H
X-Robots-Tag:noindex
X-PUBLISHED-TTL:PT1H
BEGIN:VTIMEZONE
TZID:UTC
BEGIN:STANDARD
TZOFFSETFROM:+0000
TZOFFSETTO:+0000
TZNAME:UTC
DTSTART:20250101T000000
END:STANDARD
END:VTIMEZONE
BEGIN:VEVENT
DTSTART;TZID=UTC:20260316T100000
DTEND;TZID=UTC:20260316T110000
DTSTAMP:20260422T023004
CREATED:20260110T093815Z
LAST-MODIFIED:20260110T093815Z
UID:5082-1773655200-1773658800@standrewsunitedchurch.co.uk
SUMMARY:STAY & PLAY
DESCRIPTION:STAY & PLAY \n\n\n\n\nMonday’s 10:00am – 11:00am – TERM TIME ONLY \nAt St Andrew’s United Church Rowson Street New Brighton CH45 2LY \nFor more information ring Seacombe Children Centre on:\n0151 666 3506.
URL:https://standrewsunitedchurch.co.uk/event/stay-play-117/
END:VEVENT
BEGIN:VEVENT
DTSTART;VALUE=DATE:20260317
DTEND;VALUE=DATE:20260319
DTSTAMP:20260422T023004
CREATED:20260110T104055Z
LAST-MODIFIED:20260110T104055Z
UID:5119-1773705600-1773878399@standrewsunitedchurch.co.uk
SUMMARY:EXPERIENCE EASTER
DESCRIPTION:EXPERIENCE EASTER – an opportunity for Primary School Children to hear afresh The Easter Story.
URL:https://standrewsunitedchurch.co.uk/event/experience-easter-5/
END:VEVENT
BEGIN:VEVENT
DTSTART;TZID=UTC:20260318T150000
DTEND;TZID=UTC:20260318T163000
DTSTAMP:20260422T023004
CREATED:20260110T103854Z
LAST-MODIFIED:20260110T103854Z
UID:5115-1773846000-1773851400@standrewsunitedchurch.co.uk
SUMMARY:LENT BIBLE STUDY
DESCRIPTION:LENT BIBLE STUDY will be held every Wednesday starting at 10.30 am followed by refreshments. \nEveryone Welcome.
URL:https://standrewsunitedchurch.co.uk/event/lent-bible-study-3/
END:VEVENT
BEGIN:VEVENT
DTSTART;TZID=UTC:20260319T100000
DTEND;TZID=UTC:20260319T113000
DTSTAMP:20260422T023004
CREATED:20260221T081302Z
LAST-MODIFIED:20260221T081302Z
UID:5207-1773914400-1773919800@standrewsunitedchurch.co.uk
SUMMARY:TODDLER GROUP
DESCRIPTION:TODDLER GROUP 10 – 11.30 am Thursdays during Term Time\, for 0-4 year olds with activities including games\, crafts\, play area\, dressing up and much more.
URL:https://standrewsunitedchurch.co.uk/event/toddler-group-151/
END:VEVENT
BEGIN:VEVENT
DTSTART;TZID=UTC:20260320T120000
DTEND;TZID=UTC:20260320T140000
DTSTAMP:20260422T023004
CREATED:20260119T081357Z
LAST-MODIFIED:20260119T081357Z
UID:5151-1774008000-1774015200@standrewsunitedchurch.co.uk
SUMMARY:WARM WELCOME FRIDAYS @ ST ANDREW'S
DESCRIPTION:WARM WELCOME from 12 noon until 2 pm Soup & Sandwich plus Tea & Coffee. \nCome and sit in the warmth of the building\, enjoy lunch and make new friends. \nEveryone Welcome
URL:https://standrewsunitedchurch.co.uk/event/warm-welcome-fridays-st-andrews-60/
END:VEVENT
BEGIN:VEVENT
DTSTART;TZID=UTC:20260320T140000
DTEND;TZID=UTC:20260320T160000
DTSTAMP:20260422T023004
CREATED:20260303T154030Z
LAST-MODIFIED:20260303T154030Z
UID:5242-1774015200-1774022400@standrewsunitedchurch.co.uk
SUMMARY:KNIT & NATTER
DESCRIPTION:Knit & Natter\n\nCome and join this friendly group – meet new people\, learn new skills – whether knitting or crochet\, make new friends and join in future projects. The members have made a variety of items supporting various charities over the years – including blankets\, premature baby clothes\, hats\, knitted toys and items for Christmas. There is a stockpile of wool and knitting needles\, so no initial outlay. Bring along something you have started or something you are about to start. So whether you are a beginner or skilled knitter or just want to come along to find out what we are all about – you will be made very welcome. \n\n\n\nItems made supporting various charity projects such as Charles Thompson Mission\, Mission to Seafarers\, Premature Baby Unit at Arrowe Park Hospital\, plus Twiddle Muffs and Blankets for local residential homes. Whether you are a beginner or an accomplished knitter\, you will be made very welcome. \nEvery Friday from 2pm – 4pm – TERM TIME ONLY
URL:https://standrewsunitedchurch.co.uk/event/knit-natter-127/
END:VEVENT
BEGIN:VEVENT
DTSTART;TZID=UTC:20260322T103000
DTEND;TZID=UTC:20260322T113000
DTSTAMP:20260422T023004
CREATED:20260303T153318Z
LAST-MODIFIED:20260303T153318Z
UID:5230-1774175400-1774179000@standrewsunitedchurch.co.uk
SUMMARY:MORNING WORSHIP
DESCRIPTION:MORNING WORSHIP will start at 10.30 am and will be led by Revd. Lorraine Aizlewood-Threlfall
URL:https://standrewsunitedchurch.co.uk/event/morning-worship-76/
END:VEVENT
BEGIN:VEVENT
DTSTART;VALUE=DATE:20260323
DTEND;VALUE=DATE:20260328
DTSTAMP:20260422T023004
CREATED:20260221T081609Z
LAST-MODIFIED:20260221T081609Z
UID:5211-1774224000-1774655999@standrewsunitedchurch.co.uk
SUMMARY:EXPERIENCE EASTER
DESCRIPTION:EXPERIENCE EASTER – an opportunity for Primary School Children to hear afresh The Easter Story.
URL:https://standrewsunitedchurch.co.uk/event/experience-easter-6/
END:VEVENT
BEGIN:VEVENT
DTSTART;TZID=UTC:20260323T100000
DTEND;TZID=UTC:20260323T110000
DTSTAMP:20260422T023004
CREATED:20260110T093858Z
LAST-MODIFIED:20260110T093858Z
UID:5084-1774260000-1774263600@standrewsunitedchurch.co.uk
SUMMARY:STAY & PLAY
DESCRIPTION:STAY & PLAY \n\n\n\n\nMonday’s 10:00am – 11:00am – TERM TIME ONLY \nAt St Andrew’s United Church Rowson Street New Brighton CH45 2LY \nFor more information ring Seacombe Children Centre on:\n0151 666 3506.
URL:https://standrewsunitedchurch.co.uk/event/stay-play-118/
END:VEVENT
BEGIN:VEVENT
DTSTART;TZID=UTC:20260325T103000
DTEND;TZID=UTC:20260325T113000
DTSTAMP:20260422T023004
CREATED:20260110T103936Z
LAST-MODIFIED:20260110T103936Z
UID:5117-1774434600-1774438200@standrewsunitedchurch.co.uk
SUMMARY:LENT BIBLE STUDY
DESCRIPTION:LENT BIBLE STUDY will be held every Wednesday starting at 10.30 am followed by refreshments. \nEveryone Welcome.
URL:https://standrewsunitedchurch.co.uk/event/lent-bible-study-4/
END:VEVENT
BEGIN:VEVENT
DTSTART;TZID=UTC:20260325T120000
DTEND;TZID=UTC:20260325T140000
DTSTAMP:20260422T023004
CREATED:20260119T075957Z
LAST-MODIFIED:20260119T075957Z
UID:5127-1774440000-1774447200@standrewsunitedchurch.co.uk
SUMMARY:CHURCH LUNCH
DESCRIPTION:CHURCH LUNCH is held once a month starting promptly at 12 noon until 2 pm.  Hot meal\, plus dessert –  £5.00. \nPlease be in touch with Lorraine 0151 792 0972\, if you would like to come along and join us for lunch. \nNumbers are essential. \nEveryone Welcome
URL:https://standrewsunitedchurch.co.uk/event/church-lunch-25/
END:VEVENT
BEGIN:VEVENT
DTSTART;TZID=UTC:20260326T100000
DTEND;TZID=UTC:20260326T113000
DTSTAMP:20260422T023004
CREATED:20260221T081346Z
LAST-MODIFIED:20260221T081346Z
UID:5209-1774519200-1774524600@standrewsunitedchurch.co.uk
SUMMARY:TODDLER GROUP
DESCRIPTION:TODDLER GROUP 10 – 11.30 am Thursdays during Term Time\, for 0-4 year olds with activities including games\, crafts\, play area\, dressing up and much more.
URL:https://standrewsunitedchurch.co.uk/event/toddler-group-152/
END:VEVENT
BEGIN:VEVENT
DTSTART;TZID=UTC:20260327T120000
DTEND;TZID=UTC:20260327T140000
DTSTAMP:20260422T023004
CREATED:20260119T081434Z
LAST-MODIFIED:20260119T081434Z
UID:5153-1774612800-1774620000@standrewsunitedchurch.co.uk
SUMMARY:WARM WELCOME FRIDAYS @ ST ANDREW'S
DESCRIPTION:WARM WELCOME from 12 noon until 2 pm Soup & Sandwich plus Tea & Coffee. \nCome and sit in the warmth of the building\, enjoy lunch and make new friends. \nEveryone Welcome
URL:https://standrewsunitedchurch.co.uk/event/warm-welcome-fridays-st-andrews-61/
END:VEVENT
BEGIN:VEVENT
DTSTART;TZID=UTC:20260327T140000
DTEND;TZID=UTC:20260327T160000
DTSTAMP:20260422T023004
CREATED:20260303T154554Z
LAST-MODIFIED:20260303T154554Z
UID:5252-1774620000-1774627200@standrewsunitedchurch.co.uk
SUMMARY:KNIT & NATTER
DESCRIPTION:Knit & Natter\n\nCome and join this friendly group – meet new people\, learn new skills – whether knitting or crochet\, make new friends and join in future projects. The members have made a variety of items supporting various charities over the years – including blankets\, premature baby clothes\, hats\, knitted toys and items for Christmas. There is a stockpile of wool and knitting needles\, so no initial outlay. Bring along something you have started or something you are about to start. So whether you are a beginner or skilled knitter or just want to come along to find out what we are all about – you will be made very welcome. \n\n\n\nItems made supporting various charity projects such as Charles Thompson Mission\, Mission to Seafarers\, Premature Baby Unit at Arrowe Park Hospital\, plus Twiddle Muffs and Blankets for local residential homes. Whether you are a beginner or an accomplished knitter\, you will be made very welcome. \nEvery Friday from 2pm – 4pm – TERM TIME ONLY
URL:https://standrewsunitedchurch.co.uk/event/knit-natter-131/
END:VEVENT
BEGIN:VEVENT
DTSTART;TZID=UTC:20260328T110000
DTEND;TZID=UTC:20260328T130000
DTSTAMP:20260422T023004
CREATED:20260221T081959Z
LAST-MODIFIED:20260221T082027Z
UID:5213-1774695600-1774702800@standrewsunitedchurch.co.uk
SUMMARY:SPRING FAIR
DESCRIPTION:SPRING FAIR will be held from 11am – 1 pm. \nRefreshments\, Cake Stall\, Crafts\, Gifts Stall\, Games and much more. \nEveryone Welcome.
URL:https://standrewsunitedchurch.co.uk/event/spring-fair-4/
END:VEVENT
BEGIN:VEVENT
DTSTART;VALUE=DATE:20260329
DTEND;VALUE=DATE:20260330
DTSTAMP:20260422T023004
CREATED:20260303T153351Z
LAST-MODIFIED:20260303T153351Z
UID:5232-1774742400-1774828799@standrewsunitedchurch.co.uk
SUMMARY:PALM SUNDAY
DESCRIPTION:
URL:https://standrewsunitedchurch.co.uk/event/palm-sunday-3/
END:VEVENT
BEGIN:VEVENT
DTSTART;TZID=UTC:20260329T103000
DTEND;TZID=UTC:20260329T113000
DTSTAMP:20260422T023004
CREATED:20260303T153511Z
LAST-MODIFIED:20260303T153511Z
UID:5234-1774780200-1774783800@standrewsunitedchurch.co.uk
SUMMARY:PALM SUNDAY Service
DESCRIPTION:Palm Sunday Worship Service will start at 10.30 am and will be led by Lay Pastor Stuart Annison-Kidd
URL:https://standrewsunitedchurch.co.uk/event/palm-sunday-service/
END:VEVENT
BEGIN:VEVENT
DTSTART;TZID=UTC:20260329T160000
DTEND;TZID=UTC:20260329T170000
DTSTAMP:20260422T023004
CREATED:20260303T153627Z
LAST-MODIFIED:20260303T153627Z
UID:5236-1774800000-1774803600@standrewsunitedchurch.co.uk
SUMMARY:PALM SUNDAY AFTERNOON SERVICE & TEA
DESCRIPTION:PALM SUNDAY AFTERNOON SERVICE & TEA will start at 4 pm and will be led by \nRevd. Lorraine Aizlewood-Threlfall
URL:https://standrewsunitedchurch.co.uk/event/palm-sunday-afternoon-service-tea/
END:VEVENT
BEGIN:VEVENT
DTSTART;VALUE=DATE:20260330
DTEND;VALUE=DATE:20260405
DTSTAMP:20260422T023004
CREATED:20260110T094329Z
LAST-MODIFIED:20260110T094329Z
UID:5090-1774828800-1775347199@standrewsunitedchurch.co.uk
SUMMARY:HOLY WEEK
DESCRIPTION:
URL:https://standrewsunitedchurch.co.uk/event/holy-week-3/
END:VEVENT
BEGIN:VEVENT
DTSTART;VALUE=DATE:20260405
DTEND;VALUE=DATE:20260406
DTSTAMP:20260422T023004
CREATED:20260110T094426Z
LAST-MODIFIED:20260110T094426Z
UID:5093-1775347200-1775433599@standrewsunitedchurch.co.uk
SUMMARY:EASTER DAY
DESCRIPTION:
URL:https://standrewsunitedchurch.co.uk/event/easter-day-3/
END:VEVENT
BEGIN:VEVENT
DTSTART;TZID=UTC:20260405T063000
DTEND;TZID=UTC:20260405T073000
DTSTAMP:20260422T023004
CREATED:20260303T154837Z
LAST-MODIFIED:20260303T154837Z
UID:5254-1775370600-1775374200@standrewsunitedchurch.co.uk
SUMMARY:EASTER DAY SUNRISE SERVICE
DESCRIPTION:SUNRISE SERVICE will be held at Seacombe Ferry promenade – access via car park on Birkenhead Road at 6.30 am. \nEveryone Welcome
URL:https://standrewsunitedchurch.co.uk/event/easter-day-sunrise-service/
END:VEVENT
BEGIN:VEVENT
DTSTART;TZID=UTC:20260405T103000
DTEND;TZID=UTC:20260405T113000
DTSTAMP:20260422T023004
CREATED:20260303T155237Z
LAST-MODIFIED:20260303T155237Z
UID:5256-1775385000-1775388600@standrewsunitedchurch.co.uk
SUMMARY:EASTER DAY FAMILY COMMUNION SERVICE
DESCRIPTION:EASTER DAY FAMILY COMMUNION SERVICE will start at 10.30 am and will be led by \nRevd. Heather MacLeod assisted by Lay Pastor Stuart Annison-Kidd
URL:https://standrewsunitedchurch.co.uk/event/easter-day-family-communion-service-2/
END:VEVENT
BEGIN:VEVENT
DTSTART;VALUE=DATE:20260406
DTEND;VALUE=DATE:20260411
DTSTAMP:20260422T023004
CREATED:20260110T094853Z
LAST-MODIFIED:20260110T094853Z
UID:5099-1775433600-1775865599@standrewsunitedchurch.co.uk
SUMMARY:EASTER SPRING BREAK
DESCRIPTION:
URL:https://standrewsunitedchurch.co.uk/event/easter-spring-break/
END:VEVENT
BEGIN:VEVENT
DTSTART;TZID=UTC:20260412T103000
DTEND;TZID=UTC:20260412T113000
DTSTAMP:20260422T023004
CREATED:20260414T061641Z
LAST-MODIFIED:20260414T061641Z
UID:5334-1775989800-1775993400@standrewsunitedchurch.co.uk
SUMMARY:MORNING WORSHIP
DESCRIPTION:MORNING WORSHIP will start at 10.30 am and will be led by Stuart Annison-Kidd\, \nEVERYONE WELCOME
URL:https://standrewsunitedchurch.co.uk/event/morning-worship-80/
END:VEVENT
BEGIN:VEVENT
DTSTART;TZID=UTC:20260413T100000
DTEND;TZID=UTC:20260413T110000
DTSTAMP:20260422T023004
CREATED:20260110T094708Z
LAST-MODIFIED:20260110T094708Z
UID:5095-1776074400-1776078000@standrewsunitedchurch.co.uk
SUMMARY:STAY & PLAY
DESCRIPTION:STAY & PLAY \n\n\n\n\nMonday’s 10:00am – 11:00am – TERM TIME ONLY \nAt St Andrew’s United Church Rowson Street New Brighton CH45 2LY \nFor more information ring Seacombe Children Centre on:\n0151 666 3506.
URL:https://standrewsunitedchurch.co.uk/event/stay-play-121/
END:VEVENT
BEGIN:VEVENT
DTSTART;TZID=UTC:20260415T103000
DTEND;TZID=UTC:20260415T113000
DTSTAMP:20260422T023004
CREATED:20260414T074129Z
LAST-MODIFIED:20260414T074129Z
UID:5392-1776249000-1776252600@standrewsunitedchurch.co.uk
SUMMARY:MIDWEEK BIBLE STUDY
DESCRIPTION:MIDWEEK BIBLE STUDY will be held every Wednesday starting at 10.30 am followed by refreshments. \nEveryone Welcome.
URL:https://standrewsunitedchurch.co.uk/event/midweek-bible-study-18/
END:VEVENT
BEGIN:VEVENT
DTSTART;TZID=UTC:20260416T100000
DTEND;TZID=UTC:20260416T113000
DTSTAMP:20260422T023004
CREATED:20260414T062212Z
LAST-MODIFIED:20260414T062212Z
UID:5339-1776333600-1776339000@standrewsunitedchurch.co.uk
SUMMARY:TODDLER GROUP
DESCRIPTION:TODDLER GROUP 10 – 11.30 am Thursdays during Term Time\, for 0-4 year olds with activities including games\, crafts\, play area\, dressing up and much more.
URL:https://standrewsunitedchurch.co.uk/event/toddler-group-153/
END:VEVENT
BEGIN:VEVENT
DTSTART;TZID=UTC:20260417T140000
DTEND;TZID=UTC:20260417T160000
DTSTAMP:20260422T023004
CREATED:20260303T155421Z
LAST-MODIFIED:20260303T155421Z
UID:5258-1776434400-1776441600@standrewsunitedchurch.co.uk
SUMMARY:KNIT & NATTER
DESCRIPTION:Knit & Natter\n\nCome and join this friendly group – meet new people\, learn new skills – whether knitting or crochet\, make new friends and join in future projects. The members have made a variety of items supporting various charities over the years – including blankets\, premature baby clothes\, hats\, knitted toys and items for Christmas. There is a stockpile of wool and knitting needles\, so no initial outlay. Bring along something you have started or something you are about to start. So whether you are a beginner or skilled knitter or just want to come along to find out what we are all about – you will be made very welcome. \n\n\n\nItems made supporting various charity projects such as Charles Thompson Mission\, Mission to Seafarers\, Premature Baby Unit at Arrowe Park Hospital\, plus Twiddle Muffs and Blankets for local residential homes. Whether you are a beginner or an accomplished knitter\, you will be made very welcome. \nEvery Friday from 2pm – 4pm – TERM TIME ONLY
URL:https://standrewsunitedchurch.co.uk/event/knit-natter-132/
END:VEVENT
BEGIN:VEVENT
DTSTART;TZID=UTC:20260418T130000
DTEND;TZID=UTC:20260418T160000
DTSTAMP:20260422T023004
CREATED:20260414T071004Z
LAST-MODIFIED:20260414T071138Z
UID:5357-1776517200-1776528000@standrewsunitedchurch.co.uk
SUMMARY:WEDDING DRESS EXHIBITION
DESCRIPTION:WEDDING DRESS EXHIBITION – Saturday 18th April  \nJoin us for a beautiful afternoon celebrating love\, craftsmanship\, and bridal style.  Discover an exquisite collection of vintage wedding dresses from classic elegance to modern romance.               From the 1930’s to present day. Former brides will display their dresses\, together with photographs of their special day — all in a stunning church setting.  Everyone is welcome — brides-to-be may be inspired\, followers of fashion will be impressed\, and for the simply curious come and celebrate love and marriage!  Exhibition & Cream Tea from 1 – 4 pm.
URL:https://standrewsunitedchurch.co.uk/event/wedding-dress-exhibition/
END:VEVENT
BEGIN:VEVENT
DTSTART;TZID=UTC:20260419T103000
DTEND;TZID=UTC:20260419T113000
DTSTAMP:20260422T023004
CREATED:20260414T061517Z
LAST-MODIFIED:20260414T061935Z
UID:5332-1776594600-1776598200@standrewsunitedchurch.co.uk
SUMMARY:MORNING WORSHIP - ALL YOU NEED IS LOVE
DESCRIPTION:MORNING WORSHIP will start at 10.30 am and will be led by Revd. Lorraine Aizlewood-Threlfall. \nALL YOU NEED IS LOVE – following the Wedding Dress Exhibition the theme of this service is LOVE. \nEVERYONE WELCOME
URL:https://standrewsunitedchurch.co.uk/event/morning-worship-79/
END:VEVENT
END:VCALENDAR