BEGIN:VCALENDAR
VERSION:2.0
PRODID:-// - ECPv6.15.17//NONSGML v1.0//EN
CALSCALE:GREGORIAN
METHOD:PUBLISH
X-ORIGINAL-URL:https://standrewsunitedchurch.co.uk
X-WR-CALDESC:Events for 
REFRESH-INTERVAL;VALUE=DURATION:PT1H
X-Robots-Tag:noindex
X-PUBLISHED-TTL:PT1H
BEGIN:VTIMEZONE
TZID:UTC
BEGIN:STANDARD
TZOFFSETFROM:+0000
TZOFFSETTO:+0000
TZNAME:UTC
DTSTART:20250101T000000
END:STANDARD
END:VTIMEZONE
BEGIN:VEVENT
DTSTART;TZID=UTC:20260329T160000
DTEND;TZID=UTC:20260329T170000
DTSTAMP:20260422T223117
CREATED:20260303T153627Z
LAST-MODIFIED:20260303T153627Z
UID:5236-1774800000-1774803600@standrewsunitedchurch.co.uk
SUMMARY:PALM SUNDAY AFTERNOON SERVICE & TEA
DESCRIPTION:PALM SUNDAY AFTERNOON SERVICE & TEA will start at 4 pm and will be led by \nRevd. Lorraine Aizlewood-Threlfall
URL:https://standrewsunitedchurch.co.uk/event/palm-sunday-afternoon-service-tea/
END:VEVENT
BEGIN:VEVENT
DTSTART;VALUE=DATE:20260330
DTEND;VALUE=DATE:20260405
DTSTAMP:20260422T223117
CREATED:20260110T094329Z
LAST-MODIFIED:20260110T094329Z
UID:5090-1774828800-1775347199@standrewsunitedchurch.co.uk
SUMMARY:HOLY WEEK
DESCRIPTION:
URL:https://standrewsunitedchurch.co.uk/event/holy-week-3/
END:VEVENT
BEGIN:VEVENT
DTSTART;VALUE=DATE:20260405
DTEND;VALUE=DATE:20260406
DTSTAMP:20260422T223117
CREATED:20260110T094426Z
LAST-MODIFIED:20260110T094426Z
UID:5093-1775347200-1775433599@standrewsunitedchurch.co.uk
SUMMARY:EASTER DAY
DESCRIPTION:
URL:https://standrewsunitedchurch.co.uk/event/easter-day-3/
END:VEVENT
BEGIN:VEVENT
DTSTART;TZID=UTC:20260405T063000
DTEND;TZID=UTC:20260405T073000
DTSTAMP:20260422T223117
CREATED:20260303T154837Z
LAST-MODIFIED:20260303T154837Z
UID:5254-1775370600-1775374200@standrewsunitedchurch.co.uk
SUMMARY:EASTER DAY SUNRISE SERVICE
DESCRIPTION:SUNRISE SERVICE will be held at Seacombe Ferry promenade – access via car park on Birkenhead Road at 6.30 am. \nEveryone Welcome
URL:https://standrewsunitedchurch.co.uk/event/easter-day-sunrise-service/
END:VEVENT
BEGIN:VEVENT
DTSTART;TZID=UTC:20260405T103000
DTEND;TZID=UTC:20260405T113000
DTSTAMP:20260422T223117
CREATED:20260303T155237Z
LAST-MODIFIED:20260303T155237Z
UID:5256-1775385000-1775388600@standrewsunitedchurch.co.uk
SUMMARY:EASTER DAY FAMILY COMMUNION SERVICE
DESCRIPTION:EASTER DAY FAMILY COMMUNION SERVICE will start at 10.30 am and will be led by \nRevd. Heather MacLeod assisted by Lay Pastor Stuart Annison-Kidd
URL:https://standrewsunitedchurch.co.uk/event/easter-day-family-communion-service-2/
END:VEVENT
BEGIN:VEVENT
DTSTART;VALUE=DATE:20260406
DTEND;VALUE=DATE:20260411
DTSTAMP:20260422T223117
CREATED:20260110T094853Z
LAST-MODIFIED:20260110T094853Z
UID:5099-1775433600-1775865599@standrewsunitedchurch.co.uk
SUMMARY:EASTER SPRING BREAK
DESCRIPTION:
URL:https://standrewsunitedchurch.co.uk/event/easter-spring-break/
END:VEVENT
BEGIN:VEVENT
DTSTART;TZID=UTC:20260412T103000
DTEND;TZID=UTC:20260412T113000
DTSTAMP:20260422T223117
CREATED:20260414T061641Z
LAST-MODIFIED:20260414T061641Z
UID:5334-1775989800-1775993400@standrewsunitedchurch.co.uk
SUMMARY:MORNING WORSHIP
DESCRIPTION:MORNING WORSHIP will start at 10.30 am and will be led by Stuart Annison-Kidd\, \nEVERYONE WELCOME
URL:https://standrewsunitedchurch.co.uk/event/morning-worship-80/
END:VEVENT
BEGIN:VEVENT
DTSTART;TZID=UTC:20260413T100000
DTEND;TZID=UTC:20260413T110000
DTSTAMP:20260422T223117
CREATED:20260110T094708Z
LAST-MODIFIED:20260110T094708Z
UID:5095-1776074400-1776078000@standrewsunitedchurch.co.uk
SUMMARY:STAY & PLAY
DESCRIPTION:STAY & PLAY \n\n\n\n\nMonday’s 10:00am – 11:00am – TERM TIME ONLY \nAt St Andrew’s United Church Rowson Street New Brighton CH45 2LY \nFor more information ring Seacombe Children Centre on:\n0151 666 3506.
URL:https://standrewsunitedchurch.co.uk/event/stay-play-121/
END:VEVENT
BEGIN:VEVENT
DTSTART;TZID=UTC:20260415T103000
DTEND;TZID=UTC:20260415T113000
DTSTAMP:20260422T223117
CREATED:20260414T074129Z
LAST-MODIFIED:20260414T074129Z
UID:5392-1776249000-1776252600@standrewsunitedchurch.co.uk
SUMMARY:MIDWEEK BIBLE STUDY
DESCRIPTION:MIDWEEK BIBLE STUDY will be held every Wednesday starting at 10.30 am followed by refreshments. \nEveryone Welcome.
URL:https://standrewsunitedchurch.co.uk/event/midweek-bible-study-18/
END:VEVENT
BEGIN:VEVENT
DTSTART;TZID=UTC:20260416T100000
DTEND;TZID=UTC:20260416T113000
DTSTAMP:20260422T223117
CREATED:20260414T062212Z
LAST-MODIFIED:20260414T062212Z
UID:5339-1776333600-1776339000@standrewsunitedchurch.co.uk
SUMMARY:TODDLER GROUP
DESCRIPTION:TODDLER GROUP 10 – 11.30 am Thursdays during Term Time\, for 0-4 year olds with activities including games\, crafts\, play area\, dressing up and much more.
URL:https://standrewsunitedchurch.co.uk/event/toddler-group-153/
END:VEVENT
BEGIN:VEVENT
DTSTART;TZID=UTC:20260417T140000
DTEND;TZID=UTC:20260417T160000
DTSTAMP:20260422T223117
CREATED:20260303T155421Z
LAST-MODIFIED:20260303T155421Z
UID:5258-1776434400-1776441600@standrewsunitedchurch.co.uk
SUMMARY:KNIT & NATTER
DESCRIPTION:Knit & Natter\n\nCome and join this friendly group – meet new people\, learn new skills – whether knitting or crochet\, make new friends and join in future projects. The members have made a variety of items supporting various charities over the years – including blankets\, premature baby clothes\, hats\, knitted toys and items for Christmas. There is a stockpile of wool and knitting needles\, so no initial outlay. Bring along something you have started or something you are about to start. So whether you are a beginner or skilled knitter or just want to come along to find out what we are all about – you will be made very welcome. \n\n\n\nItems made supporting various charity projects such as Charles Thompson Mission\, Mission to Seafarers\, Premature Baby Unit at Arrowe Park Hospital\, plus Twiddle Muffs and Blankets for local residential homes. Whether you are a beginner or an accomplished knitter\, you will be made very welcome. \nEvery Friday from 2pm – 4pm – TERM TIME ONLY
URL:https://standrewsunitedchurch.co.uk/event/knit-natter-132/
END:VEVENT
BEGIN:VEVENT
DTSTART;TZID=UTC:20260418T130000
DTEND;TZID=UTC:20260418T160000
DTSTAMP:20260422T223117
CREATED:20260414T071004Z
LAST-MODIFIED:20260414T071138Z
UID:5357-1776517200-1776528000@standrewsunitedchurch.co.uk
SUMMARY:WEDDING DRESS EXHIBITION
DESCRIPTION:WEDDING DRESS EXHIBITION – Saturday 18th April  \nJoin us for a beautiful afternoon celebrating love\, craftsmanship\, and bridal style.  Discover an exquisite collection of vintage wedding dresses from classic elegance to modern romance.               From the 1930’s to present day. Former brides will display their dresses\, together with photographs of their special day — all in a stunning church setting.  Everyone is welcome — brides-to-be may be inspired\, followers of fashion will be impressed\, and for the simply curious come and celebrate love and marriage!  Exhibition & Cream Tea from 1 – 4 pm.
URL:https://standrewsunitedchurch.co.uk/event/wedding-dress-exhibition/
END:VEVENT
BEGIN:VEVENT
DTSTART;TZID=UTC:20260419T103000
DTEND;TZID=UTC:20260419T113000
DTSTAMP:20260422T223117
CREATED:20260414T061517Z
LAST-MODIFIED:20260414T061935Z
UID:5332-1776594600-1776598200@standrewsunitedchurch.co.uk
SUMMARY:MORNING WORSHIP - ALL YOU NEED IS LOVE
DESCRIPTION:MORNING WORSHIP will start at 10.30 am and will be led by Revd. Lorraine Aizlewood-Threlfall. \nALL YOU NEED IS LOVE – following the Wedding Dress Exhibition the theme of this service is LOVE. \nEVERYONE WELCOME
URL:https://standrewsunitedchurch.co.uk/event/morning-worship-79/
END:VEVENT
BEGIN:VEVENT
DTSTART;TZID=UTC:20260420T100000
DTEND;TZID=UTC:20260420T110000
DTSTAMP:20260422T223117
CREATED:20260110T094020Z
LAST-MODIFIED:20260110T094020Z
UID:5088-1776679200-1776682800@standrewsunitedchurch.co.uk
SUMMARY:STAY & PLAY
DESCRIPTION:STAY & PLAY \n\n\n\n\nMonday’s 10:00am – 11:00am – TERM TIME ONLY \nAt St Andrew’s United Church Rowson Street New Brighton CH45 2LY \nFor more information ring Seacombe Children Centre on:\n0151 666 3506.
URL:https://standrewsunitedchurch.co.uk/event/stay-play-120/
END:VEVENT
BEGIN:VEVENT
DTSTART;TZID=UTC:20260422T103000
DTEND;TZID=UTC:20260422T113000
DTSTAMP:20260422T223117
CREATED:20260414T074212Z
LAST-MODIFIED:20260414T074212Z
UID:5394-1776853800-1776857400@standrewsunitedchurch.co.uk
SUMMARY:MIDWEEK BIBLE STUDY
DESCRIPTION:MIDWEEK BIBLE STUDY will be held every Wednesday starting at 10.30 am followed by refreshments. \nEveryone Welcome.
URL:https://standrewsunitedchurch.co.uk/event/midweek-bible-study-19/
END:VEVENT
BEGIN:VEVENT
DTSTART;TZID=UTC:20260422T120000
DTEND;TZID=UTC:20260422T140000
DTSTAMP:20260422T223117
CREATED:20260119T080102Z
LAST-MODIFIED:20260119T080102Z
UID:5129-1776859200-1776866400@standrewsunitedchurch.co.uk
SUMMARY:CHURCH LUNCH
DESCRIPTION:CHURCH LUNCH is held once a month starting promptly at 12 noon until 2 pm.  Hot meal\, plus dessert –  £5.00. \nPlease be in touch with Lorraine 0151 792 0972\, if you would like to come along and join us for lunch. \nNumbers are essential. \nEveryone Welcome
URL:https://standrewsunitedchurch.co.uk/event/church-lunch-26/
END:VEVENT
BEGIN:VEVENT
DTSTART;TZID=UTC:20260423T100000
DTEND;TZID=UTC:20260423T113000
DTSTAMP:20260422T223117
CREATED:20260414T062312Z
LAST-MODIFIED:20260414T062312Z
UID:5341-1776938400-1776943800@standrewsunitedchurch.co.uk
SUMMARY:TODDLER GROUP
DESCRIPTION:TODDLER GROUP 10 – 11.30 am Thursdays during Term Time\, for 0-4 year olds with activities including games\, crafts\, play area\, dressing up and much more.
URL:https://standrewsunitedchurch.co.uk/event/toddler-group-154/
END:VEVENT
BEGIN:VEVENT
DTSTART;TZID=UTC:20260424T140000
DTEND;TZID=UTC:20260424T160000
DTSTAMP:20260422T223117
CREATED:20260303T155501Z
LAST-MODIFIED:20260303T155501Z
UID:5260-1777039200-1777046400@standrewsunitedchurch.co.uk
SUMMARY:KNIT & NATTER
DESCRIPTION:Knit & Natter\n\nCome and join this friendly group – meet new people\, learn new skills – whether knitting or crochet\, make new friends and join in future projects. The members have made a variety of items supporting various charities over the years – including blankets\, premature baby clothes\, hats\, knitted toys and items for Christmas. There is a stockpile of wool and knitting needles\, so no initial outlay. Bring along something you have started or something you are about to start. So whether you are a beginner or skilled knitter or just want to come along to find out what we are all about – you will be made very welcome. \n\n\n\nItems made supporting various charity projects such as Charles Thompson Mission\, Mission to Seafarers\, Premature Baby Unit at Arrowe Park Hospital\, plus Twiddle Muffs and Blankets for local residential homes. Whether you are a beginner or an accomplished knitter\, you will be made very welcome. \nEvery Friday from 2pm – 4pm – TERM TIME ONLY
URL:https://standrewsunitedchurch.co.uk/event/knit-natter-133/
END:VEVENT
BEGIN:VEVENT
DTSTART;TZID=UTC:20260426T103000
DTEND;TZID=UTC:20260426T113000
DTSTAMP:20260422T223117
CREATED:20260414T061808Z
LAST-MODIFIED:20260414T061808Z
UID:5336-1777199400-1777203000@standrewsunitedchurch.co.uk
SUMMARY:MORNING WORSHIP
DESCRIPTION:MORNING WORSHIP will start at 10.30 am and will be led by Revd. Lorraine Aizlewood-Threlfall. \nEVERYONE WELCOME
URL:https://standrewsunitedchurch.co.uk/event/morning-worship-81/
END:VEVENT
BEGIN:VEVENT
DTSTART;TZID=UTC:20260427T100000
DTEND;TZID=UTC:20260427T110000
DTSTAMP:20260422T223117
CREATED:20260110T094746Z
LAST-MODIFIED:20260110T094746Z
UID:5097-1777284000-1777287600@standrewsunitedchurch.co.uk
SUMMARY:STAY & PLAY
DESCRIPTION:STAY & PLAY \n\n\n\n\nMonday’s 10:00am – 11:00am – TERM TIME ONLY \nAt St Andrew’s United Church Rowson Street New Brighton CH45 2LY \nFor more information ring Seacombe Children Centre on:\n0151 666 3506.
URL:https://standrewsunitedchurch.co.uk/event/stay-play-122/
END:VEVENT
BEGIN:VEVENT
DTSTART;TZID=UTC:20260429T103000
DTEND;TZID=UTC:20260429T113000
DTSTAMP:20260422T223117
CREATED:20260414T074254Z
LAST-MODIFIED:20260414T074254Z
UID:5396-1777458600-1777462200@standrewsunitedchurch.co.uk
SUMMARY:MIDWEEK BIBLE STUDY
DESCRIPTION:MIDWEEK BIBLE STUDY will be held every Wednesday starting at 10.30 am followed by refreshments. \nEveryone Welcome.
URL:https://standrewsunitedchurch.co.uk/event/midweek-bible-study-20/
END:VEVENT
BEGIN:VEVENT
DTSTART;TZID=UTC:20260430T100000
DTEND;TZID=UTC:20260430T113000
DTSTAMP:20260422T223117
CREATED:20260414T062350Z
LAST-MODIFIED:20260414T062350Z
UID:5343-1777543200-1777548600@standrewsunitedchurch.co.uk
SUMMARY:TODDLER GROUP
DESCRIPTION:TODDLER GROUP 10 – 11.30 am Thursdays during Term Time\, for 0-4 year olds with activities including games\, crafts\, play area\, dressing up and much more.
URL:https://standrewsunitedchurch.co.uk/event/toddler-group-155/
END:VEVENT
BEGIN:VEVENT
DTSTART;TZID=UTC:20260501T140000
DTEND;TZID=UTC:20260501T160000
DTSTAMP:20260422T223117
CREATED:20260303T161949Z
LAST-MODIFIED:20260303T161949Z
UID:5280-1777644000-1777651200@standrewsunitedchurch.co.uk
SUMMARY:KNIT & NATTER
DESCRIPTION:Knit & Natter\n\nCome and join this friendly group – meet new people\, learn new skills – whether knitting or crochet\, make new friends and join in future projects. The members have made a variety of items supporting various charities over the years – including blankets\, premature baby clothes\, hats\, knitted toys and items for Christmas. There is a stockpile of wool and knitting needles\, so no initial outlay. Bring along something you have started or something you are about to start. So whether you are a beginner or skilled knitter or just want to come along to find out what we are all about – you will be made very welcome. \n\n\n\nItems made supporting various charity projects such as Charles Thompson Mission\, Mission to Seafarers\, Premature Baby Unit at Arrowe Park Hospital\, plus Twiddle Muffs and Blankets for local residential homes. Whether you are a beginner or an accomplished knitter\, you will be made very welcome. \nEvery Friday from 2pm – 4pm – TERM TIME ONLY
URL:https://standrewsunitedchurch.co.uk/event/knit-natter-138/
END:VEVENT
BEGIN:VEVENT
DTSTART;VALUE=DATE:20260504
DTEND;VALUE=DATE:20260505
DTSTAMP:20260422T223117
CREATED:20260414T075035Z
LAST-MODIFIED:20260414T075035Z
UID:5412-1777852800-1777939199@standrewsunitedchurch.co.uk
SUMMARY:BANK HOLIDAY
DESCRIPTION:
URL:https://standrewsunitedchurch.co.uk/event/bank-holiday-8/
END:VEVENT
BEGIN:VEVENT
DTSTART;TZID=UTC:20260506T103000
DTEND;TZID=UTC:20260506T113000
DTSTAMP:20260422T223117
CREATED:20260414T074412Z
LAST-MODIFIED:20260414T074412Z
UID:5398-1778063400-1778067000@standrewsunitedchurch.co.uk
SUMMARY:MIDWEEK BIBLE STUDY
DESCRIPTION:MIDWEEK BIBLE STUDY will be held every Wednesday starting at 10.30 am followed by refreshments. \nEveryone Welcome.
URL:https://standrewsunitedchurch.co.uk/event/midweek-bible-study-21/
END:VEVENT
BEGIN:VEVENT
DTSTART;TZID=UTC:20260507T100000
DTEND;TZID=UTC:20260507T113000
DTSTAMP:20260422T223117
CREATED:20260414T062427Z
LAST-MODIFIED:20260414T062427Z
UID:5345-1778148000-1778153400@standrewsunitedchurch.co.uk
SUMMARY:TODDLER GROUP
DESCRIPTION:TODDLER GROUP 10 – 11.30 am Thursdays during Term Time\, for 0-4 year olds with activities including games\, crafts\, play area\, dressing up and much more.
URL:https://standrewsunitedchurch.co.uk/event/toddler-group-156/
END:VEVENT
BEGIN:VEVENT
DTSTART;TZID=UTC:20260508T140000
DTEND;TZID=UTC:20260508T160000
DTSTAMP:20260422T223117
CREATED:20260303T155636Z
LAST-MODIFIED:20260303T155636Z
UID:5264-1778248800-1778256000@standrewsunitedchurch.co.uk
SUMMARY:KNIT & NATTER
DESCRIPTION:Knit & Natter\n\nCome and join this friendly group – meet new people\, learn new skills – whether knitting or crochet\, make new friends and join in future projects. The members have made a variety of items supporting various charities over the years – including blankets\, premature baby clothes\, hats\, knitted toys and items for Christmas. There is a stockpile of wool and knitting needles\, so no initial outlay. Bring along something you have started or something you are about to start. So whether you are a beginner or skilled knitter or just want to come along to find out what we are all about – you will be made very welcome. \n\n\n\nItems made supporting various charity projects such as Charles Thompson Mission\, Mission to Seafarers\, Premature Baby Unit at Arrowe Park Hospital\, plus Twiddle Muffs and Blankets for local residential homes. Whether you are a beginner or an accomplished knitter\, you will be made very welcome. \nEvery Friday from 2pm – 4pm – TERM TIME ONLY
URL:https://standrewsunitedchurch.co.uk/event/knit-natter-135/
END:VEVENT
BEGIN:VEVENT
DTSTART;TZID=UTC:20260511T100000
DTEND;TZID=UTC:20260511T110000
DTSTAMP:20260422T223117
CREATED:20260414T074756Z
LAST-MODIFIED:20260414T074756Z
UID:5406-1778493600-1778497200@standrewsunitedchurch.co.uk
SUMMARY:STAY & PLAY
DESCRIPTION:STAY & PLAY \n\n\n\n\nMonday’s 10:00am – 11:00am – TERM TIME ONLY \nAt St Andrew’s United Church Rowson Street New Brighton CH45 2LY \nFor more information ring Seacombe Children Centre on:\n0151 666 3506.
URL:https://standrewsunitedchurch.co.uk/event/stay-play-119/
END:VEVENT
BEGIN:VEVENT
DTSTART;TZID=UTC:20260513T103000
DTEND;TZID=UTC:20260513T113000
DTSTAMP:20260422T223117
CREATED:20260414T074454Z
LAST-MODIFIED:20260414T074454Z
UID:5400-1778668200-1778671800@standrewsunitedchurch.co.uk
SUMMARY:MIDWEEK BIBLE STUDY
DESCRIPTION:MIDWEEK BIBLE STUDY will be held every Wednesday starting at 10.30 am followed by refreshments. \nEveryone Welcome.
URL:https://standrewsunitedchurch.co.uk/event/midweek-bible-study-22/
END:VEVENT
BEGIN:VEVENT
DTSTART;TZID=UTC:20260514T100000
DTEND;TZID=UTC:20260514T113000
DTSTAMP:20260422T223117
CREATED:20260414T062508Z
LAST-MODIFIED:20260414T062508Z
UID:5347-1778752800-1778758200@standrewsunitedchurch.co.uk
SUMMARY:TODDLER GROUP
DESCRIPTION:TODDLER GROUP 10 – 11.30 am Thursdays during Term Time\, for 0-4 year olds with activities including games\, crafts\, play area\, dressing up and much more.
URL:https://standrewsunitedchurch.co.uk/event/toddler-group-157/
END:VEVENT
END:VCALENDAR