BEGIN:VCALENDAR
VERSION:2.0
PRODID:-// - ECPv6.15.17//NONSGML v1.0//EN
CALSCALE:GREGORIAN
METHOD:PUBLISH
X-ORIGINAL-URL:https://standrewsunitedchurch.co.uk
X-WR-CALDESC:Events for 
REFRESH-INTERVAL;VALUE=DURATION:PT1H
X-Robots-Tag:noindex
X-PUBLISHED-TTL:PT1H
BEGIN:VTIMEZONE
TZID:UTC
BEGIN:STANDARD
TZOFFSETFROM:+0000
TZOFFSETTO:+0000
TZNAME:UTC
DTSTART:20220101T000000
END:STANDARD
END:VTIMEZONE
BEGIN:VEVENT
DTSTART;TZID=UTC:20231011T103000
DTEND;TZID=UTC:20231011T120000
DTSTAMP:20260422T114450
CREATED:20230921T072103Z
LAST-MODIFIED:20230921T072103Z
UID:2908-1697020200-1697025600@standrewsunitedchurch.co.uk
SUMMARY:Midweek service and Bible study
DESCRIPTION:Every Wednesday (term time only) from 10.30am\nAll our welcome
URL:https://standrewsunitedchurch.co.uk/event/midweek-service-and-bible-study-2/
LOCATION:St Andew’s United Church\, CH45 2LY
END:VEVENT
BEGIN:VEVENT
DTSTART;TZID=UTC:20231009T100000
DTEND;TZID=UTC:20231009T110000
DTSTAMP:20260422T114450
CREATED:20230825T061954Z
LAST-MODIFIED:20230825T061954Z
UID:2863-1696845600-1696849200@standrewsunitedchurch.co.uk
SUMMARY:STAY & PLAY
DESCRIPTION:STAY & PLAY \n\n\n\n\nMonday’s 10:00am – 11:00am – TERM TIME ONLY \nAt St Andrew’s United Church Rowson Street New Brighton CH45 2LY \nFor more information ring Seacombe Children Centre on:\n0151 666 3506.
URL:https://standrewsunitedchurch.co.uk/event/stay-play-34/
END:VEVENT
BEGIN:VEVENT
DTSTART;TZID=UTC:20231008T103000
DTEND;TZID=UTC:20231008T113000
DTSTAMP:20260422T114450
CREATED:20230810T090751Z
LAST-MODIFIED:20230910T064959Z
UID:2824-1696761000-1696764600@standrewsunitedchurch.co.uk
SUMMARY:Morning Worship
DESCRIPTION:Sunday morning services starts at 10.30  \nLed by Mr David Powell
URL:https://standrewsunitedchurch.co.uk/event/morning-worship-10/
LOCATION:St Andew’s United Church\, CH45 2LY
END:VEVENT
BEGIN:VEVENT
DTSTART;TZID=UTC:20231007T103000
DTEND;TZID=UTC:20231007T123000
DTSTAMP:20260422T114450
CREATED:20231002T140013Z
LAST-MODIFIED:20231002T140117Z
UID:2937-1696674600-1696681800@standrewsunitedchurch.co.uk
SUMMARY:Coffee morning & craft stall
DESCRIPTION:Saturday 7 October \n10.30am – 12 noon \nKnitting\, wool\, yarns\, cross-stitch & craft books for the beginner and those with more experience. \nEveryone welcome
URL:https://standrewsunitedchurch.co.uk/event/coffee-morning-craft-stall/
LOCATION:St Andew’s United Church\, CH45 2LY
END:VEVENT
BEGIN:VEVENT
DTSTART;TZID=UTC:20231006T140000
DTEND;TZID=UTC:20231006T160000
DTSTAMP:20260422T114450
CREATED:20230714T081737Z
LAST-MODIFIED:20230714T081737Z
UID:2628-1696600800-1696608000@standrewsunitedchurch.co.uk
SUMMARY:KNIT & NATTER
DESCRIPTION:Knit & Natter\n\nCome and join this friendly group – meet new people\, learn new skills – whether knitting or crochet\, make new friends and join in future projects. The members have made a variety of items supporting various charities over the years – including blankets\, premature baby clothes\, hats\, knitted toys and items for Christmas. There is a stockpile of wool and knitting needles\, so no initial outlay. Bring along something you have started or something you are about to start. So whether you are a beginner or skilled knitter or just want to come along to find out what we are all about – you will be made very welcome. \n\n\n\nItems made supporting various charity projects such as Charles Thompson Mission\, Mission to Seafarers\, Premature Baby Unit at Arrowe Park Hospital\, plus Twiddle Muffs and Blankets for local residential homes. Whether you are a beginner or an accomplished knitter\, you will be made very welcome. \nEvery Friday from 2pm – 4pm – TERM TIME ONLY
URL:https://standrewsunitedchurch.co.uk/event/knit-natter-38/
END:VEVENT
BEGIN:VEVENT
DTSTART;TZID=UTC:20231005T100000
DTEND;TZID=UTC:20231005T113000
DTSTAMP:20260422T114450
CREATED:20230714T073507Z
LAST-MODIFIED:20230714T073507Z
UID:2574-1696500000-1696505400@standrewsunitedchurch.co.uk
SUMMARY:TODDLER GROUP
DESCRIPTION:TODDLER GROUP 10 – 11.30 am Thursdays during Term Time\, for 0-4 year olds with activities including games\, crafts\, play area\, dressing up and much more.
URL:https://standrewsunitedchurch.co.uk/event/toddler-group-58/
END:VEVENT
BEGIN:VEVENT
DTSTART;TZID=UTC:20231004T103000
DTEND;TZID=UTC:20231004T120000
DTSTAMP:20260422T114450
CREATED:20230921T072027Z
LAST-MODIFIED:20230921T072027Z
UID:2906-1696415400-1696420800@standrewsunitedchurch.co.uk
SUMMARY:Midweek service and Bible study
DESCRIPTION:Every Wednesday (term time only) from 10.30am \nAll our welcome
URL:https://standrewsunitedchurch.co.uk/event/midweek-service-and-bible-study/
LOCATION:St Andew’s United Church\, CH45 2LY
END:VEVENT
BEGIN:VEVENT
DTSTART;TZID=UTC:20231002T100000
DTEND;TZID=UTC:20231002T110000
DTSTAMP:20260422T114450
CREATED:20230825T061854Z
LAST-MODIFIED:20230825T061854Z
UID:2861-1696240800-1696244400@standrewsunitedchurch.co.uk
SUMMARY:STAY & PLAY
DESCRIPTION:STAY & PLAY \n\n\n\n\nMonday’s 10:00am – 11:00am – TERM TIME ONLY \nAt St Andrew’s United Church Rowson Street New Brighton CH45 2LY \nFor more information ring Seacombe Children Centre on:\n0151 666 3506.
URL:https://standrewsunitedchurch.co.uk/event/stay-play-33/
END:VEVENT
BEGIN:VEVENT
DTSTART;TZID=UTC:20231001T103000
DTEND;TZID=UTC:20231001T113000
DTSTAMP:20260422T114450
CREATED:20230810T090634Z
LAST-MODIFIED:20230810T090634Z
UID:2822-1696156200-1696159800@standrewsunitedchurch.co.uk
SUMMARY:Holy Communion
DESCRIPTION:Sunday morning services starts at 10.30  \nLed by Revd. Lorraine Aizlewood-Threlfall
URL:https://standrewsunitedchurch.co.uk/event/holy-communion/
LOCATION:St Andew’s United Church\, CH45 2LY
END:VEVENT
BEGIN:VEVENT
DTSTART;TZID=UTC:20230929T140000
DTEND;TZID=UTC:20230929T160000
DTSTAMP:20260422T114450
CREATED:20230714T081611Z
LAST-MODIFIED:20230714T081653Z
UID:2626-1695996000-1696003200@standrewsunitedchurch.co.uk
SUMMARY:KNIT & NATTER
DESCRIPTION:Knit & Natter\n\nCome and join this friendly group – meet new people\, learn new skills – whether knitting or crochet\, make new friends and join in future projects. The members have made a variety of items supporting various charities over the years – including blankets\, premature baby clothes\, hats\, knitted toys and items for Christmas. There is a stockpile of wool and knitting needles\, so no initial outlay. Bring along something you have started or something you are about to start. So whether you are a beginner or skilled knitter or just want to come along to find out what we are all about – you will be made very welcome. \n\n\n\nItems made supporting various charity projects such as Charles Thompson Mission\, Mission to Seafarers\, Premature Baby Unit at Arrowe Park Hospital\, plus Twiddle Muffs and Blankets for local residential homes. Whether you are a beginner or an accomplished knitter\, you will be made very welcome. \nEvery Friday from 2pm – 4pm – TERM TIME ONLY
URL:https://standrewsunitedchurch.co.uk/event/knit-natter-37/
END:VEVENT
BEGIN:VEVENT
DTSTART;TZID=UTC:20230928T100000
DTEND;TZID=UTC:20230928T120000
DTSTAMP:20260422T114450
CREATED:20230825T061005Z
LAST-MODIFIED:20230825T061005Z
UID:2852-1695895200-1695902400@standrewsunitedchurch.co.uk
SUMMARY:MACMILLAN COFFEE MORNING
DESCRIPTION:MACMILLAN COFFEE MORNING – St. Andrew’s will be fundraising for Macmillan Cancer Support. \nPlease support this event.
URL:https://standrewsunitedchurch.co.uk/event/macmillan-coffee-morning/
END:VEVENT
BEGIN:VEVENT
DTSTART;TZID=UTC:20230928T100000
DTEND;TZID=UTC:20230928T113000
DTSTAMP:20260422T114450
CREATED:20230714T073415Z
LAST-MODIFIED:20230714T073415Z
UID:2571-1695895200-1695900600@standrewsunitedchurch.co.uk
SUMMARY:TODDLER GROUP
DESCRIPTION:TODDLER GROUP 10 – 11.30 am Thursdays during Term Time\, for 0-4 year olds with activities including games\, crafts\, play area\, dressing up and much more.
URL:https://standrewsunitedchurch.co.uk/event/toddler-group-57/
END:VEVENT
BEGIN:VEVENT
DTSTART;TZID=UTC:20230927T120000
DTEND;TZID=UTC:20230927T140000
DTSTAMP:20260422T114450
CREATED:20230904T071244Z
LAST-MODIFIED:20230904T071244Z
UID:2874-1695816000-1695823200@standrewsunitedchurch.co.uk
SUMMARY:Church lunch
DESCRIPTION:Church lunch is on Wednesday 27th September at 12 noon. Lunch will be a hot meal\, plus dessert and will costs £5.00. \nPlease add your name to the list. \nPlease also add if you have any dietary requirements.
URL:https://standrewsunitedchurch.co.uk/event/church-lunch-5/
LOCATION:St Andew’s United Church\, CH45 2LY
END:VEVENT
BEGIN:VEVENT
DTSTART;TZID=UTC:20230925T100000
DTEND;TZID=UTC:20230925T110000
DTSTAMP:20260422T114450
CREATED:20230825T061636Z
LAST-MODIFIED:20230825T061636Z
UID:2859-1695636000-1695639600@standrewsunitedchurch.co.uk
SUMMARY:STAY & PLAY
DESCRIPTION:STAY & PLAY \n\n\n\n\nMonday’s 10:00am – 11:00am – TERM TIME ONLY \nAt St Andrew’s United Church Rowson Street New Brighton CH45 2LY \nFor more information ring Seacombe Children Centre on:\n0151 666 3506.
URL:https://standrewsunitedchurch.co.uk/event/stay-play-32/
END:VEVENT
BEGIN:VEVENT
DTSTART;TZID=UTC:20230924T103000
DTEND;TZID=UTC:20230924T113000
DTSTAMP:20260422T114450
CREATED:20230810T090352Z
LAST-MODIFIED:20230810T090352Z
UID:2820-1695551400-1695555000@standrewsunitedchurch.co.uk
SUMMARY:Morning worship & Harvest Afternoon tea
DESCRIPTION:Sunday morning services starts at 10.30  \nHarvest afternoon service and tea starts at 16.00 \nLed by Revd. Lorraine Aizlewood-Threlfall
URL:https://standrewsunitedchurch.co.uk/event/morning-worship-harvest-afternoon-tea/
LOCATION:St Andew’s United Church\, CH45 2LY
END:VEVENT
BEGIN:VEVENT
DTSTART;TZID=UTC:20230922T190000
DTEND;TZID=UTC:20230922T210000
DTSTAMP:20260422T114450
CREATED:20230904T071436Z
LAST-MODIFIED:20230904T071436Z
UID:2878-1695409200-1695416400@standrewsunitedchurch.co.uk
SUMMARY:Harvest Supper
DESCRIPTION:Harvest supper \n7pm
URL:https://standrewsunitedchurch.co.uk/event/harvest-supper/
LOCATION:St Andew’s United Church\, CH45 2LY
END:VEVENT
BEGIN:VEVENT
DTSTART;TZID=UTC:20230922T140000
DTEND;TZID=UTC:20230922T160000
DTSTAMP:20260422T114450
CREATED:20230714T081528Z
LAST-MODIFIED:20230714T081528Z
UID:2624-1695391200-1695398400@standrewsunitedchurch.co.uk
SUMMARY:KNIT & NATTER
DESCRIPTION:Knit & Natter\n\nCome and join this friendly group – meet new people\, learn new skills – whether knitting or crochet\, make new friends and join in future projects. The members have made a variety of items supporting various charities over the years – including blankets\, premature baby clothes\, hats\, knitted toys and items for Christmas. There is a stockpile of wool and knitting needles\, so no initial outlay. Bring along something you have started or something you are about to start. So whether you are a beginner or skilled knitter or just want to come along to find out what we are all about – you will be made very welcome. \n\n\n\nItems made supporting various charity projects such as Charles Thompson Mission\, Mission to Seafarers\, Premature Baby Unit at Arrowe Park Hospital\, plus Twiddle Muffs and Blankets for local residential homes. Whether you are a beginner or an accomplished knitter\, you will be made very welcome. \nEvery Friday from 2pm – 4pm – TERM TIME ONLY
URL:https://standrewsunitedchurch.co.uk/event/knit-natter-36/
END:VEVENT
BEGIN:VEVENT
DTSTART;TZID=UTC:20230921T100000
DTEND;TZID=UTC:20230921T113000
DTSTAMP:20260422T114450
CREATED:20230714T073334Z
LAST-MODIFIED:20230714T073334Z
UID:2569-1695290400-1695295800@standrewsunitedchurch.co.uk
SUMMARY:TODDLER GROUP
DESCRIPTION:TODDLER GROUP 10 – 11.30 am Thursdays during Term Time\, for 0-4 year olds with activities including games\, crafts\, play area\, dressing up and much more.
URL:https://standrewsunitedchurch.co.uk/event/toddler-group-56/
END:VEVENT
BEGIN:VEVENT
DTSTART;TZID=UTC:20230918T100000
DTEND;TZID=UTC:20230918T110000
DTSTAMP:20260422T114450
CREATED:20230825T061510Z
LAST-MODIFIED:20230825T061510Z
UID:2857-1695031200-1695034800@standrewsunitedchurch.co.uk
SUMMARY:STAY & PLAY
DESCRIPTION:STAY & PLAY \n\n\n\n\nMonday’s 10:00am – 11:00am – TERM TIME ONLY \nAt St Andrew’s United Church Rowson Street New Brighton CH45 2LY \nFor more information ring Seacombe Children Centre on:\n0151 666 3506.
URL:https://standrewsunitedchurch.co.uk/event/stay-play-31/
END:VEVENT
BEGIN:VEVENT
DTSTART;TZID=UTC:20230917T103000
DTEND;TZID=UTC:20230917T113000
DTSTAMP:20260422T114450
CREATED:20230810T090241Z
LAST-MODIFIED:20230810T090241Z
UID:2818-1694946600-1694950200@standrewsunitedchurch.co.uk
SUMMARY:Morning worship
DESCRIPTION:Sunday morning services starts at 10.30  \nLed by Revd. Lorraine Aizlewood-Threlfall
URL:https://standrewsunitedchurch.co.uk/event/morning-worship-7/
LOCATION:St Andew’s United Church\, CH45 2LY
END:VEVENT
BEGIN:VEVENT
DTSTART;TZID=UTC:20230916T103000
DTEND;TZID=UTC:20230916T120000
DTSTAMP:20260422T114450
CREATED:20230904T071357Z
LAST-MODIFIED:20230904T071357Z
UID:2876-1694860200-1694865600@standrewsunitedchurch.co.uk
SUMMARY:Coffee morning and book sale
DESCRIPTION:Coffee morning and book sale \n10.30am – 12 noon.
URL:https://standrewsunitedchurch.co.uk/event/coffee-morning-and-book-sale-2/
LOCATION:St Andew’s United Church\, CH45 2LY
END:VEVENT
BEGIN:VEVENT
DTSTART;TZID=UTC:20230915T140000
DTEND;TZID=UTC:20230915T160000
DTSTAMP:20260422T114450
CREATED:20230714T081353Z
LAST-MODIFIED:20230714T081353Z
UID:2620-1694786400-1694793600@standrewsunitedchurch.co.uk
SUMMARY:KNIT & NATTER
DESCRIPTION:Knit & Natter\n\nCome and join this friendly group – meet new people\, learn new skills – whether knitting or crochet\, make new friends and join in future projects. The members have made a variety of items supporting various charities over the years – including blankets\, premature baby clothes\, hats\, knitted toys and items for Christmas. There is a stockpile of wool and knitting needles\, so no initial outlay. Bring along something you have started or something you are about to start. So whether you are a beginner or skilled knitter or just want to come along to find out what we are all about – you will be made very welcome. \n\n\n\nItems made supporting various charity projects such as Charles Thompson Mission\, Mission to Seafarers\, Premature Baby Unit at Arrowe Park Hospital\, plus Twiddle Muffs and Blankets for local residential homes. Whether you are a beginner or an accomplished knitter\, you will be made very welcome. \nEvery Friday from 2pm – 4pm – TERM TIME ONLY
URL:https://standrewsunitedchurch.co.uk/event/knit-natter-34/
END:VEVENT
BEGIN:VEVENT
DTSTART;TZID=UTC:20230914T100000
DTEND;TZID=UTC:20230914T113000
DTSTAMP:20260422T114450
CREATED:20230714T073249Z
LAST-MODIFIED:20230714T073249Z
UID:2567-1694685600-1694691000@standrewsunitedchurch.co.uk
SUMMARY:TODDLER GROUP
DESCRIPTION:TODDLER GROUP 10 – 11.30 am Thursdays during Term Time\, for 0-4 year olds with activities including games\, crafts\, play area\, dressing up and much more.
URL:https://standrewsunitedchurch.co.uk/event/toddler-group-55/
END:VEVENT
BEGIN:VEVENT
DTSTART;TZID=UTC:20230911T100000
DTEND;TZID=UTC:20230911T110000
DTSTAMP:20260422T114450
CREATED:20230825T061422Z
LAST-MODIFIED:20230825T061422Z
UID:2855-1694426400-1694430000@standrewsunitedchurch.co.uk
SUMMARY:STAY & PLAY
DESCRIPTION:STAY & PLAY \n\n\n\n\nMonday’s 10:00am – 11:00am – TERM TIME ONLY \nAt St Andrew’s United Church Rowson Street New Brighton CH45 2LY \nFor more information ring Seacombe Children Centre on:\n0151 666 3506.
URL:https://standrewsunitedchurch.co.uk/event/stay-play-30/
END:VEVENT
BEGIN:VEVENT
DTSTART;TZID=UTC:20230910T103000
DTEND;TZID=UTC:20230910T113000
DTSTAMP:20260422T114450
CREATED:20230810T085712Z
LAST-MODIFIED:20230910T064704Z
UID:2813-1694341800-1694345400@standrewsunitedchurch.co.uk
SUMMARY:Morning Worship
DESCRIPTION:Revd. George Palmer
URL:https://standrewsunitedchurch.co.uk/event/morning-worship-6/
LOCATION:St Andew’s United Church\, CH45 2LY
END:VEVENT
BEGIN:VEVENT
DTSTART;TZID=UTC:20230908T140000
DTEND;TZID=UTC:20230908T160000
DTSTAMP:20260422T114450
CREATED:20230714T081306Z
LAST-MODIFIED:20230714T081306Z
UID:2618-1694181600-1694188800@standrewsunitedchurch.co.uk
SUMMARY:KNIT & NATTER
DESCRIPTION:Knit & Natter\n\nCome and join this friendly group – meet new people\, learn new skills – whether knitting or crochet\, make new friends and join in future projects. The members have made a variety of items supporting various charities over the years – including blankets\, premature baby clothes\, hats\, knitted toys and items for Christmas. There is a stockpile of wool and knitting needles\, so no initial outlay. Bring along something you have started or something you are about to start. So whether you are a beginner or skilled knitter or just want to come along to find out what we are all about – you will be made very welcome. \n\n\n\nItems made supporting various charity projects such as Charles Thompson Mission\, Mission to Seafarers\, Premature Baby Unit at Arrowe Park Hospital\, plus Twiddle Muffs and Blankets for local residential homes. Whether you are a beginner or an accomplished knitter\, you will be made very welcome. \nEvery Friday from 2pm – 4pm – TERM TIME ONLY
URL:https://standrewsunitedchurch.co.uk/event/knit-natter-27/
END:VEVENT
BEGIN:VEVENT
DTSTART;TZID=UTC:20230907T100000
DTEND;TZID=UTC:20230907T113000
DTSTAMP:20260422T114450
CREATED:20230714T073211Z
LAST-MODIFIED:20230714T073211Z
UID:2565-1694080800-1694086200@standrewsunitedchurch.co.uk
SUMMARY:TODDLER GROUP
DESCRIPTION:TODDLER GROUP 10 – 11.30 am Thursdays during Term Time\, for 0-4 year olds with activities including games\, crafts\, play area\, dressing up and much more.
URL:https://standrewsunitedchurch.co.uk/event/toddler-group-54/
END:VEVENT
BEGIN:VEVENT
DTSTART;TZID=UTC:20230903T103000
DTEND;TZID=UTC:20230903T113000
DTSTAMP:20260422T114450
CREATED:20230810T090121Z
LAST-MODIFIED:20230825T063049Z
UID:2816-1693737000-1693740600@standrewsunitedchurch.co.uk
SUMMARY:Holy Communion
DESCRIPTION:Sunday morning services starts at 10.30  \nLed by Revd. George Palmer
URL:https://standrewsunitedchurch.co.uk/event/holy-communion-2/
LOCATION:St Andew’s United Church\, CH45 2LY
END:VEVENT
BEGIN:VEVENT
DTSTART;TZID=UTC:20230901T190000
DTEND;TZID=UTC:20230901T210000
DTSTAMP:20260422T114450
CREATED:20230810T072251Z
LAST-MODIFIED:20230825T061205Z
UID:2805-1693594800-1693602000@standrewsunitedchurch.co.uk
SUMMARY:A celebration of 10 years
DESCRIPTION:A Celebration of 10 years of Ministry – A social evening to mark Revd. Lorraine’s ministry serving St. Andrew’s United Church & Seacombe United Reformed Church on Friday 1st September 2023 at Seacombe URC from 7pm – 9 pm. An evening of fun\, food and fellowship. \n 
URL:https://standrewsunitedchurch.co.uk/event/a-celebration-of-10-years/
LOCATION:Seacombe United Reformed Church\, Brougham Road\, Seacombe\, CH44 6PW\, United Kingdom
END:VEVENT
BEGIN:VEVENT
DTSTART;TZID=UTC:20230831T103000
DTEND;TZID=UTC:20230831T140000
DTSTAMP:20260422T114450
CREATED:20230803T082312Z
LAST-MODIFIED:20230810T071743Z
UID:2795-1693477800-1693490400@standrewsunitedchurch.co.uk
SUMMARY:Summer Programme: On The spot
DESCRIPTION:Morning Activity\nLunch – in house\nAfternoon – On the Spot – games\, activities\, quiz\, entertainment and afternoon tea
URL:https://standrewsunitedchurch.co.uk/event/summer-programme-on-the-spot/
LOCATION:St Andew’s United Church\, CH45 2LY
END:VEVENT
END:VCALENDAR