BEGIN:VCALENDAR
VERSION:2.0
PRODID:-// - ECPv6.15.17//NONSGML v1.0//EN
CALSCALE:GREGORIAN
METHOD:PUBLISH
X-ORIGINAL-URL:https://standrewsunitedchurch.co.uk
X-WR-CALDESC:Events for 
REFRESH-INTERVAL;VALUE=DURATION:PT1H
X-Robots-Tag:noindex
X-PUBLISHED-TTL:PT1H
BEGIN:VTIMEZONE
TZID:UTC
BEGIN:STANDARD
TZOFFSETFROM:+0000
TZOFFSETTO:+0000
TZNAME:UTC
DTSTART:20250101T000000
END:STANDARD
END:VTIMEZONE
BEGIN:VEVENT
DTSTART;TZID=UTC:20260601T100000
DTEND;TZID=UTC:20260601T110000
DTSTAMP:20260423T060045
CREATED:20260414T074927Z
LAST-MODIFIED:20260414T074927Z
UID:5410-1780308000-1780311600@standrewsunitedchurch.co.uk
SUMMARY:STAY & PLAY
DESCRIPTION:STAY & PLAY \n\n\n\n\nMonday’s 10:00am – 11:00am – TERM TIME ONLY \nAt St Andrew’s United Church Rowson Street New Brighton CH45 2LY \nFor more information ring Seacombe Children Centre on:\n0151 666 3506.
URL:https://standrewsunitedchurch.co.uk/event/stay-play-124/
END:VEVENT
BEGIN:VEVENT
DTSTART;TZID=UTC:20260605T140000
DTEND;TZID=UTC:20260605T160000
DTSTAMP:20260423T060045
CREATED:20260303T162236Z
LAST-MODIFIED:20260303T162236Z
UID:5283-1780668000-1780675200@standrewsunitedchurch.co.uk
SUMMARY:KNIT & NATTER
DESCRIPTION:Knit & Natter\n\nCome and join this friendly group – meet new people\, learn new skills – whether knitting or crochet\, make new friends and join in future projects. The members have made a variety of items supporting various charities over the years – including blankets\, premature baby clothes\, hats\, knitted toys and items for Christmas. There is a stockpile of wool and knitting needles\, so no initial outlay. Bring along something you have started or something you are about to start. So whether you are a beginner or skilled knitter or just want to come along to find out what we are all about – you will be made very welcome. \n\n\n\nItems made supporting various charity projects such as Charles Thompson Mission\, Mission to Seafarers\, Premature Baby Unit at Arrowe Park Hospital\, plus Twiddle Muffs and Blankets for local residential homes. Whether you are a beginner or an accomplished knitter\, you will be made very welcome. \nEvery Friday from 2pm – 4pm – TERM TIME ONLY
URL:https://standrewsunitedchurch.co.uk/event/knit-natter-130/
END:VEVENT
BEGIN:VEVENT
DTSTART;TZID=UTC:20260624T120000
DTEND;TZID=UTC:20260624T140000
DTSTAMP:20260423T060045
CREATED:20260119T080403Z
LAST-MODIFIED:20260119T080403Z
UID:5133-1782302400-1782309600@standrewsunitedchurch.co.uk
SUMMARY:CHURCH LUNCH
DESCRIPTION:CHURCH LUNCH is held once a month starting promptly at 12 noon until 2 pm.  Hot meal\, plus dessert –  £5.00. \nPlease be in touch with Lorraine 0151 792 0972\, if you would like to come along and join us for lunch. \nNumbers are essential. \nEveryone Welcome
URL:https://standrewsunitedchurch.co.uk/event/church-lunch-28/
END:VEVENT
BEGIN:VEVENT
DTSTART;TZID=UTC:20260722T120000
DTEND;TZID=UTC:20260722T140000
DTSTAMP:20260423T060045
CREATED:20260119T080439Z
LAST-MODIFIED:20260119T080439Z
UID:5135-1784721600-1784728800@standrewsunitedchurch.co.uk
SUMMARY:CHURCH LUNCH
DESCRIPTION:CHURCH LUNCH is held once a month starting promptly at 12 noon until 2 pm.  Hot meal\, plus dessert –  £5.00. \nPlease be in touch with Lorraine 0151 792 0972\, if you would like to come along and join us for lunch. \nNumbers are essential. \nEveryone Welcome
URL:https://standrewsunitedchurch.co.uk/event/church-lunch-29/
END:VEVENT
END:VCALENDAR