BEGIN:VCALENDAR
VERSION:2.0
PRODID:-// - ECPv6.15.17//NONSGML v1.0//EN
CALSCALE:GREGORIAN
METHOD:PUBLISH
X-ORIGINAL-URL:https://standrewsunitedchurch.co.uk
X-WR-CALDESC:Events for 
REFRESH-INTERVAL;VALUE=DURATION:PT1H
X-Robots-Tag:noindex
X-PUBLISHED-TTL:PT1H
BEGIN:VTIMEZONE
TZID:UTC
BEGIN:STANDARD
TZOFFSETFROM:+0000
TZOFFSETTO:+0000
TZNAME:UTC
DTSTART:20220101T000000
END:STANDARD
END:VTIMEZONE
BEGIN:VEVENT
DTSTART;TZID=UTC:20230827T103000
DTEND;TZID=UTC:20230827T113000
DTSTAMP:20260422T165304
CREATED:20230810T085532Z
LAST-MODIFIED:20230810T090007Z
UID:2809-1693132200-1693135800@standrewsunitedchurch.co.uk
SUMMARY:Morning worship
DESCRIPTION:Sunday morning services starts at 10.30  \nLed by David Powell
URL:https://standrewsunitedchurch.co.uk/event/morning-worship-5/
LOCATION:St Andew’s United Church\, CH45 2LY
END:VEVENT
BEGIN:VEVENT
DTSTART;TZID=UTC:20230825T103000
DTEND;TZID=UTC:20230825T160000
DTSTAMP:20260422T165304
CREATED:20230825T060326Z
LAST-MODIFIED:20230825T060326Z
UID:2850-1692959400-1692979200@standrewsunitedchurch.co.uk
SUMMARY:Summer Programme
DESCRIPTION:Morning activities\, in-house lunch followed by Mystery Drive
URL:https://standrewsunitedchurch.co.uk/event/summer-programme/
END:VEVENT
BEGIN:VEVENT
DTSTART;TZID=UTC:20230823T120000
DTEND;TZID=UTC:20230823T140000
DTSTAMP:20260422T165304
CREATED:20230714T095239Z
LAST-MODIFIED:20230714T095239Z
UID:2786-1692792000-1692799200@standrewsunitedchurch.co.uk
SUMMARY:CHURCH LUNCH
DESCRIPTION:Wednesday 23rd August starting at 12 noon. Hot meal\, plus dessert – £5.00.  Please add your name to the list in the narthex – this is for catering purposes.  Please also add include if you have any dietary requirements. Alternatively please contact by church email. \nEveryone Welcome
URL:https://standrewsunitedchurch.co.uk/event/church-lunch-4/
END:VEVENT
BEGIN:VEVENT
DTSTART;TZID=UTC:20230820T103000
DTEND;TZID=UTC:20230820T110000
DTSTAMP:20260422T165304
CREATED:20230810T071628Z
LAST-MODIFIED:20230810T071628Z
UID:2803-1692527400-1692529200@standrewsunitedchurch.co.uk
SUMMARY:St. Andrews Songs of Praise
DESCRIPTION:On Sunday 20th August the Worship Group will be leading St. Andrew’s Songs of Praise.
URL:https://standrewsunitedchurch.co.uk/event/st-andrews-songs-of-praise/
LOCATION:St Andew’s United Church\, CH45 2LY
END:VEVENT
BEGIN:VEVENT
DTSTART;TZID=UTC:20230816T103000
DTEND;TZID=UTC:20230816T170000
DTSTAMP:20260422T165304
CREATED:20230803T082126Z
LAST-MODIFIED:20230803T082452Z
UID:2791-1692181800-1692205200@standrewsunitedchurch.co.uk
SUMMARY:Summer Programme: Burleydam Cafe
DESCRIPTION:Morning Activity\nLunch – Burleydam Café or in house\nOuting – Burleydam Garden Centre.
URL:https://standrewsunitedchurch.co.uk/event/summer-programme-burleydam-cafe/
LOCATION:St Andew’s United Church\, CH45 2LY
END:VEVENT
BEGIN:VEVENT
DTSTART;TZID=UTC:20230813T103000
DTEND;TZID=UTC:20230813T113000
DTSTAMP:20260422T165304
CREATED:20230810T085457Z
LAST-MODIFIED:20230810T085843Z
UID:2807-1691922600-1691926200@standrewsunitedchurch.co.uk
SUMMARY:Morning worship
DESCRIPTION:Revd. Lorraine Aizlewood-Threlfall
URL:https://standrewsunitedchurch.co.uk/event/morning-worship-4/
LOCATION:St Andew’s United Church\, CH45 2LY
END:VEVENT
BEGIN:VEVENT
DTSTART;TZID=UTC:20230809T103000
DTEND;TZID=UTC:20230809T170000
DTSTAMP:20260422T165304
CREATED:20230803T082028Z
LAST-MODIFIED:20230803T082437Z
UID:2789-1691577000-1691600400@standrewsunitedchurch.co.uk
SUMMARY:Summer Programme: Birkenhead Priory
DESCRIPTION:Morning Activity\nLunch – in house\nOuting – Birkenhead Priory – Open 1 – 5. Guided Tours 1.30 and 2.30pm
URL:https://standrewsunitedchurch.co.uk/event/summer-programme-birkenhead-priory/
LOCATION:St Andew’s United Church\, CH45 2LY
END:VEVENT
BEGIN:VEVENT
DTSTART;TZID=UTC:20230726T120000
DTEND;TZID=UTC:20230726T140000
DTSTAMP:20260422T165304
CREATED:20230714T070246Z
LAST-MODIFIED:20230714T070246Z
UID:2535-1690372800-1690380000@standrewsunitedchurch.co.uk
SUMMARY:CHURCH LUNCH
DESCRIPTION:Wednesday 26th July starting at 12 noon. Hot meal\, plus dessert – £5.00. Please add your name to the list in the narthex – this is for catering purposes. Please also add include if\nyou have any dietary requirements. \nNext Church Lunch: Wednesday 23rd August at 12noon. \nEveryone Welcome
URL:https://standrewsunitedchurch.co.uk/event/church-lunch-6/
END:VEVENT
BEGIN:VEVENT
DTSTART;TZID=UTC:20230722T103000
DTEND;TZID=UTC:20230722T120000
DTSTAMP:20260422T165304
CREATED:20230713T123241Z
LAST-MODIFIED:20230714T070609Z
UID:2532-1690021800-1690027200@standrewsunitedchurch.co.uk
SUMMARY:Bacon Buttie & Coffee Morning
DESCRIPTION:Bacon Buttie & Coffee Morning\nSaturday 22nd July 10.30 am – 12 noon\nSeacombe United Reformed Church
URL:https://standrewsunitedchurch.co.uk/event/bacon-buttie-coffee-morning/
LOCATION:Seacombe United Reformed Church\, Brougham Road\, Seacombe\, CH44 6PW\, United Kingdom
END:VEVENT
BEGIN:VEVENT
DTSTART;TZID=UTC:20230722T100000
DTEND;TZID=UTC:20230722T123000
DTSTAMP:20260422T165304
CREATED:20230222T082553Z
LAST-MODIFIED:20230222T082553Z
UID:2381-1690020000-1690029000@standrewsunitedchurch.co.uk
SUMMARY:Church Tapestry Group
DESCRIPTION:If you haven’t tried needlepoint before and would like to try\, please come along as there are plenty of folk who will help you\, provide you with materials and frames etc. \n 
URL:https://standrewsunitedchurch.co.uk/event/church-tapestry-group-6/
LOCATION:St Andew’s United Church\, CH45 2LY
END:VEVENT
BEGIN:VEVENT
DTSTART;TZID=UTC:20230721T140000
DTEND;TZID=UTC:20230721T160000
DTSTAMP:20260422T165304
CREATED:20230714T080521Z
LAST-MODIFIED:20230714T080521Z
UID:2616-1689948000-1689955200@standrewsunitedchurch.co.uk
SUMMARY:KNIT & NATTER
DESCRIPTION:Knit & Natter\n\nCome and join this friendly group – meet new people\, learn new skills – whether knitting or crochet\, make new friends and join in future projects. The members have made a variety of items supporting various charities over the years – including blankets\, premature baby clothes\, hats\, knitted toys and items for Christmas. There is a stockpile of wool and knitting needles\, so no initial outlay. Bring along something you have started or something you are about to start. So whether you are a beginner or skilled knitter or just want to come along to find out what we are all about – you will be made very welcome. \n\n\n\nItems made supporting various charity projects such as Charles Thompson Mission\, Mission to Seafarers\, Premature Baby Unit at Arrowe Park Hospital\, plus Twiddle Muffs and Blankets for local residential homes. Whether you are a beginner or an accomplished knitter\, you will be made very welcome. \nEvery Friday from 2pm – 4pm – TERM TIME ONLY
URL:https://standrewsunitedchurch.co.uk/event/knit-natter-33/
END:VEVENT
BEGIN:VEVENT
DTSTART;TZID=UTC:20230721T120000
DTEND;TZID=UTC:20230721T140000
DTSTAMP:20260422T165304
CREATED:20230531T065429Z
LAST-MODIFIED:20230714T071146Z
UID:2517-1689940800-1689948000@standrewsunitedchurch.co.uk
SUMMARY:Warm Welcome
DESCRIPTION:Warm Welcome on Fridays during Term Time from 12 noon until 2 pm. \nSoup and Sandwich plus Tea or Coffee will be available. \nEveryone is welcome. Please do come along\, help provide a warm welcome and make new friendships
URL:https://standrewsunitedchurch.co.uk/event/warm-welcome-7/
LOCATION:St Andew’s United Church\, CH45 2LY
END:VEVENT
BEGIN:VEVENT
DTSTART;TZID=UTC:20230719T103000
DTEND;TZID=UTC:20230719T120000
DTSTAMP:20260422T165304
CREATED:20230714T094918Z
LAST-MODIFIED:20230714T094918Z
UID:2784-1689762600-1689768000@standrewsunitedchurch.co.uk
SUMMARY:MIDWEEK BIBLE STUDY
DESCRIPTION:Midweek Bible Study & Refreshments\n10:30 am – 12:00 pm\n\nFriendly group discovering more about Scripture and how to apply it in everyday life.\n\nAll are welcome.
URL:https://standrewsunitedchurch.co.uk/event/midweek-bible-study-13/
END:VEVENT
BEGIN:VEVENT
DTSTART;TZID=UTC:20230715T140000
DTEND;TZID=UTC:20230715T160000
DTSTAMP:20260422T165304
CREATED:20230531T065057Z
LAST-MODIFIED:20230531T065057Z
UID:2503-1689429600-1689436800@standrewsunitedchurch.co.uk
SUMMARY:Afternoon cream tea
DESCRIPTION:Saturday 15 July \n2pm – 4pm
URL:https://standrewsunitedchurch.co.uk/event/afternoon-cream-tea/
END:VEVENT
BEGIN:VEVENT
DTSTART;TZID=UTC:20230714T140000
DTEND;TZID=UTC:20230714T160000
DTSTAMP:20260422T165304
CREATED:20230714T070844Z
LAST-MODIFIED:20230714T070844Z
UID:2539-1689343200-1689350400@standrewsunitedchurch.co.uk
SUMMARY:KNIT & NATTER
DESCRIPTION:Knit & Natter\n\nCome and join this friendly group – meet new people\, learn new skills – whether knitting or crochet\, make new friends and join in future projects. The members have made a variety of items supporting various charities over the years – including blankets\, premature baby clothes\, hats\, knitted toys and items for Christmas. There is a stockpile of wool and knitting needles\, so no initial outlay. Bring along something you have started or something you are about to start. So whether you are a beginner or skilled knitter or just want to come along to find out what we are all about – you will be made very welcome. \n\n\n\nItems made supporting various charity projects such as Charles Thompson Mission\, Mission to Seafarers\, Premature Baby Unit at Arrowe Park Hospital\, plus Twiddle Muffs and Blankets for local residential homes. Whether you are a beginner or an accomplished knitter\, you will be made very welcome. \nEvery Friday from 2pm – 4pm – TERM TIME ONLY
URL:https://standrewsunitedchurch.co.uk/event/knit-natter-17/
END:VEVENT
BEGIN:VEVENT
DTSTART;TZID=UTC:20230714T120000
DTEND;TZID=UTC:20230714T140000
DTSTAMP:20260422T165304
CREATED:20230714T074320Z
LAST-MODIFIED:20230714T074320Z
UID:2584-1689336000-1689343200@standrewsunitedchurch.co.uk
SUMMARY:WARM WELCOME
DESCRIPTION:Warm Welcome on Fridays during Term Time from 12 noon until 2 pm. \nSoup and Sandwich plus Tea or Coffee will be available. \nEveryone is welcome. Please do come along\, help provide a warm welcome and make new friendships
URL:https://standrewsunitedchurch.co.uk/event/warm-welcome-9/
END:VEVENT
BEGIN:VEVENT
DTSTART;TZID=UTC:20230713T100000
DTEND;TZID=UTC:20230713T113000
DTSTAMP:20260422T165304
CREATED:20230714T073113Z
LAST-MODIFIED:20230714T073911Z
UID:2563-1689242400-1689247800@standrewsunitedchurch.co.uk
SUMMARY:TODDLER GROUP
DESCRIPTION:TODDLER GROUP 10 – 11.30 am Thursdays during Term Time\, for 0-4 year olds with activities including games\, crafts\, play area\, dressing up and much more. \n  \nLast meeting before summer break.  Toddler Group resumes on Thursday 7th September 2023.
URL:https://standrewsunitedchurch.co.uk/event/toddler-group-53/
END:VEVENT
BEGIN:VEVENT
DTSTART;TZID=UTC:20230712T103000
DTEND;TZID=UTC:20230712T120000
DTSTAMP:20260422T165304
CREATED:20230714T094809Z
LAST-MODIFIED:20230714T094809Z
UID:2780-1689157800-1689163200@standrewsunitedchurch.co.uk
SUMMARY:MIDWEEK BIBLE STUDY
DESCRIPTION:Midweek Bible Study & Refreshments\n10:30 am – 12:00 pm\n\nFriendly group discovering more about Scripture and how to apply it in everyday life.\n\nAll are welcome.
URL:https://standrewsunitedchurch.co.uk/event/midweek-bible-study-11/
END:VEVENT
BEGIN:VEVENT
DTSTART;TZID=UTC:20230710T100000
DTEND;TZID=UTC:20230710T110000
DTSTAMP:20260422T165304
CREATED:20230714T083546Z
LAST-MODIFIED:20230714T083546Z
UID:2647-1688983200-1688986800@standrewsunitedchurch.co.uk
SUMMARY:STAY & PLAY
DESCRIPTION:STAY & PLAY \n\n\n\n\nMonday’s 10:00am – 11:00am – TERM TIME ONLY \nAt St Andrew’s United Church Rowson Street New Brighton CH45 2LY \nFor more information ring Seacombe Children Centre on:\n0151 666 3506.
URL:https://standrewsunitedchurch.co.uk/event/stay-play/
END:VEVENT
BEGIN:VEVENT
DTSTART;TZID=UTC:20230707T140000
DTEND;TZID=UTC:20230707T160000
DTSTAMP:20260422T165304
CREATED:20230714T080437Z
LAST-MODIFIED:20230714T080437Z
UID:2614-1688738400-1688745600@standrewsunitedchurch.co.uk
SUMMARY:KNIT & NATTER
DESCRIPTION:Knit & Natter\n\nCome and join this friendly group – meet new people\, learn new skills – whether knitting or crochet\, make new friends and join in future projects. The members have made a variety of items supporting various charities over the years – including blankets\, premature baby clothes\, hats\, knitted toys and items for Christmas. There is a stockpile of wool and knitting needles\, so no initial outlay. Bring along something you have started or something you are about to start. So whether you are a beginner or skilled knitter or just want to come along to find out what we are all about – you will be made very welcome. \n\n\n\nItems made supporting various charity projects such as Charles Thompson Mission\, Mission to Seafarers\, Premature Baby Unit at Arrowe Park Hospital\, plus Twiddle Muffs and Blankets for local residential homes. Whether you are a beginner or an accomplished knitter\, you will be made very welcome. \nEvery Friday from 2pm – 4pm – TERM TIME ONLY
URL:https://standrewsunitedchurch.co.uk/event/knit-natter-32/
END:VEVENT
BEGIN:VEVENT
DTSTART;TZID=UTC:20230707T120000
DTEND;TZID=UTC:20230707T140000
DTSTAMP:20260422T165304
CREATED:20230531T065345Z
LAST-MODIFIED:20230714T071305Z
UID:2513-1688731200-1688738400@standrewsunitedchurch.co.uk
SUMMARY:Warm Welcome
DESCRIPTION:Warm Welcome on Fridays during Term Time from 12 noon until 2 pm. \nSoup and Sandwich plus Tea or Coffee will be available. \nEveryone is welcome. Please do come along\, help provide a warm welcome and make new friendships
URL:https://standrewsunitedchurch.co.uk/event/warm-welcome-5/
LOCATION:St Andew’s United Church\, CH45 2LY
END:VEVENT
BEGIN:VEVENT
DTSTART;TZID=UTC:20230706T100000
DTEND;TZID=UTC:20230706T113000
DTSTAMP:20260422T165304
CREATED:20230714T072936Z
LAST-MODIFIED:20230714T072936Z
UID:2561-1688637600-1688643000@standrewsunitedchurch.co.uk
SUMMARY:TODDLER GROUP
DESCRIPTION:TODDLER GROUP 10 – 11.30 am Thursdays during Term Time\, for 0-4 year olds with activities including games\, crafts\, play area\, dressing up and much more.
URL:https://standrewsunitedchurch.co.uk/event/toddler-group-52/
END:VEVENT
BEGIN:VEVENT
DTSTART;TZID=UTC:20230705T103000
DTEND;TZID=UTC:20230705T120000
DTSTAMP:20260422T165304
CREATED:20230714T094733Z
LAST-MODIFIED:20230714T094733Z
UID:2778-1688553000-1688558400@standrewsunitedchurch.co.uk
SUMMARY:MIDWEEK BIBLE STUDY
DESCRIPTION:Midweek Bible Study & Refreshments \n10:30 am – 12:00 pm \nFriendly group discovering more about Scripture and how to apply it in everyday life. \nAll are welcome.
URL:https://standrewsunitedchurch.co.uk/event/midweek-bible-study-10/
END:VEVENT
BEGIN:VEVENT
DTSTART;TZID=UTC:20230703T100000
DTEND;TZID=UTC:20230703T110000
DTSTAMP:20260422T165304
CREATED:20230714T083619Z
LAST-MODIFIED:20230714T083619Z
UID:2649-1688378400-1688382000@standrewsunitedchurch.co.uk
SUMMARY:STAY & PLAY
DESCRIPTION:STAY & PLAY \n\n\n\n\nMonday’s 10:00am – 11:00am – TERM TIME ONLY \nAt St Andrew’s United Church Rowson Street New Brighton CH45 2LY \nFor more information ring Seacombe Children Centre on:\n0151 666 3506.
URL:https://standrewsunitedchurch.co.uk/event/stay-play-2/
END:VEVENT
BEGIN:VEVENT
DTSTART;TZID=UTC:20230630T140000
DTEND;TZID=UTC:20230630T160000
DTSTAMP:20260422T165304
CREATED:20230714T080348Z
LAST-MODIFIED:20230714T080348Z
UID:2612-1688133600-1688140800@standrewsunitedchurch.co.uk
SUMMARY:KNIT & NATTER
DESCRIPTION:Knit & Natter\n\nCome and join this friendly group – meet new people\, learn new skills – whether knitting or crochet\, make new friends and join in future projects. The members have made a variety of items supporting various charities over the years – including blankets\, premature baby clothes\, hats\, knitted toys and items for Christmas. There is a stockpile of wool and knitting needles\, so no initial outlay. Bring along something you have started or something you are about to start. So whether you are a beginner or skilled knitter or just want to come along to find out what we are all about – you will be made very welcome. \n\n\n\nItems made supporting various charity projects such as Charles Thompson Mission\, Mission to Seafarers\, Premature Baby Unit at Arrowe Park Hospital\, plus Twiddle Muffs and Blankets for local residential homes. Whether you are a beginner or an accomplished knitter\, you will be made very welcome. \nEvery Friday from 2pm – 4pm – TERM TIME ONLY
URL:https://standrewsunitedchurch.co.uk/event/knit-natter-31/
END:VEVENT
BEGIN:VEVENT
DTSTART;TZID=UTC:20230630T120000
DTEND;TZID=UTC:20230630T140000
DTSTAMP:20260422T165304
CREATED:20230531T065309Z
LAST-MODIFIED:20230714T071340Z
UID:2511-1688126400-1688133600@standrewsunitedchurch.co.uk
SUMMARY:Warm Welcome
DESCRIPTION:Warm Welcome on Fridays during Term Time from 12 noon until 2 pm. \nSoup and Sandwich plus Tea or Coffee will be available. \nEveryone is welcome. Please do come along\, help provide a warm welcome and make new friendships
URL:https://standrewsunitedchurch.co.uk/event/warm-welcome-4/
LOCATION:St Andew’s United Church\, CH45 2LY
END:VEVENT
BEGIN:VEVENT
DTSTART;TZID=UTC:20230629T100000
DTEND;TZID=UTC:20230629T113000
DTSTAMP:20260422T165304
CREATED:20230714T072833Z
LAST-MODIFIED:20230714T072833Z
UID:2559-1688032800-1688038200@standrewsunitedchurch.co.uk
SUMMARY:TODDLER GROUP
DESCRIPTION:TODDLER GROUP 10 – 11.30 am Thursdays during Term Time\, for 0-4 year olds with activities including games\, crafts\, play area\, dressing up and much more.
URL:https://standrewsunitedchurch.co.uk/event/toddler-group-51/
END:VEVENT
BEGIN:VEVENT
DTSTART;TZID=UTC:20230628T120000
DTEND;TZID=UTC:20230628T140000
DTSTAMP:20260422T165304
CREATED:20230523T074528Z
LAST-MODIFIED:20230523T074528Z
UID:2481-1687953600-1687960800@standrewsunitedchurch.co.uk
SUMMARY:Church lunch
DESCRIPTION:Wednesday 28 June starting at 12 noon. Hot meal\, plus dessert – £5.00. Please add your name to the list in the narthex – this is for catering purposes. Please also add include if\nyou have any dietary requirements. \nFuture Church Lunch dates are as follows:\n• 26th July\n• 23rd August \nEveryone Welcome
URL:https://standrewsunitedchurch.co.uk/event/church-lunch-3/
LOCATION:St Andew’s United Church\, CH45 2LY
END:VEVENT
BEGIN:VEVENT
DTSTART;TZID=UTC:20230628T103000
DTEND;TZID=UTC:20230628T120000
DTSTAMP:20260422T165304
CREATED:20230714T094633Z
LAST-MODIFIED:20230714T094633Z
UID:2776-1687948200-1687953600@standrewsunitedchurch.co.uk
SUMMARY:MIDWEEK BIBLE STUDY
DESCRIPTION:Midweek Bible Study & Refreshments\n10:30 am – 12:00 pm\n\nFriendly group discovering more about Scripture and how to apply it in everyday life.\n\nAll are welcome.
URL:https://standrewsunitedchurch.co.uk/event/midweek-bible-study-9/
END:VEVENT
BEGIN:VEVENT
DTSTART;TZID=UTC:20230626T100000
DTEND;TZID=UTC:20230626T110000
DTSTAMP:20260422T165304
CREATED:20230714T083918Z
LAST-MODIFIED:20230714T083918Z
UID:2657-1687773600-1687777200@standrewsunitedchurch.co.uk
SUMMARY:STAY & PLAY
DESCRIPTION:STAY & PLAY \n\n\n\n\nMonday’s 10:00am – 11:00am – TERM TIME ONLY \nAt St Andrew’s United Church Rowson Street New Brighton CH45 2LY \nFor more information ring Seacombe Children Centre on:\n0151 666 3506.
URL:https://standrewsunitedchurch.co.uk/event/stay-play-6/
END:VEVENT
END:VCALENDAR