BEGIN:VCALENDAR
VERSION:2.0
PRODID:-// - ECPv6.15.17//NONSGML v1.0//EN
CALSCALE:GREGORIAN
METHOD:PUBLISH
X-ORIGINAL-URL:https://standrewsunitedchurch.co.uk
X-WR-CALDESC:Events for 
REFRESH-INTERVAL;VALUE=DURATION:PT1H
X-Robots-Tag:noindex
X-PUBLISHED-TTL:PT1H
BEGIN:VTIMEZONE
TZID:UTC
BEGIN:STANDARD
TZOFFSETFROM:+0000
TZOFFSETTO:+0000
TZNAME:UTC
DTSTART:20220101T000000
END:STANDARD
END:VTIMEZONE
BEGIN:VEVENT
DTSTART;TZID=UTC:20230624T100000
DTEND;TZID=UTC:20230624T123000
DTSTAMP:20260422T223305
CREATED:20230222T082519Z
LAST-MODIFIED:20230222T082519Z
UID:2379-1687600800-1687609800@standrewsunitedchurch.co.uk
SUMMARY:Church Tapestry Group
DESCRIPTION:If you haven’t tried needlepoint before and would like to try\, please come along as there are plenty of folk who will help you\, provide you with materials and frames etc. \n(Future dates: 24th June & 22nd July).
URL:https://standrewsunitedchurch.co.uk/event/church-tapestry-group-5/
LOCATION:St Andew’s United Church\, CH45 2LY
END:VEVENT
BEGIN:VEVENT
DTSTART;TZID=UTC:20230623T140000
DTEND;TZID=UTC:20230623T160000
DTSTAMP:20260422T223305
CREATED:20230714T080304Z
LAST-MODIFIED:20230714T080304Z
UID:2610-1687528800-1687536000@standrewsunitedchurch.co.uk
SUMMARY:KNIT & NATTER
DESCRIPTION:Knit & Natter\n\nCome and join this friendly group – meet new people\, learn new skills – whether knitting or crochet\, make new friends and join in future projects. The members have made a variety of items supporting various charities over the years – including blankets\, premature baby clothes\, hats\, knitted toys and items for Christmas. There is a stockpile of wool and knitting needles\, so no initial outlay. Bring along something you have started or something you are about to start. So whether you are a beginner or skilled knitter or just want to come along to find out what we are all about – you will be made very welcome. \n\n\n\nItems made supporting various charity projects such as Charles Thompson Mission\, Mission to Seafarers\, Premature Baby Unit at Arrowe Park Hospital\, plus Twiddle Muffs and Blankets for local residential homes. Whether you are a beginner or an accomplished knitter\, you will be made very welcome. \nEvery Friday from 2pm – 4pm – TERM TIME ONLY
URL:https://standrewsunitedchurch.co.uk/event/knit-natter-30/
END:VEVENT
BEGIN:VEVENT
DTSTART;TZID=UTC:20230623T120000
DTEND;TZID=UTC:20230623T140000
DTSTAMP:20260422T223305
CREATED:20230531T065243Z
LAST-MODIFIED:20230714T071615Z
UID:2509-1687521600-1687528800@standrewsunitedchurch.co.uk
SUMMARY:Warm Welcome
DESCRIPTION:Warm Welcome on Fridays during Term Time from 12 noon until 2 pm. \nSoup and Sandwich plus Tea or Coffee will be available. \nEveryone is welcome. Please do come along\, help provide a warm welcome and make new friendships
URL:https://standrewsunitedchurch.co.uk/event/warm-welcome-3/
LOCATION:St Andew’s United Church\, CH45 2LY
END:VEVENT
BEGIN:VEVENT
DTSTART;TZID=UTC:20230622T100000
DTEND;TZID=UTC:20230622T113000
DTSTAMP:20260422T223305
CREATED:20230714T072752Z
LAST-MODIFIED:20230714T072752Z
UID:2557-1687428000-1687433400@standrewsunitedchurch.co.uk
SUMMARY:TODDLER GROUP
DESCRIPTION:TODDLER GROUP 10 – 11.30 am Thursdays during Term Time\, for 0-4 year olds with activities including games\, crafts\, play area\, dressing up and much more.
URL:https://standrewsunitedchurch.co.uk/event/toddler-group-50/
END:VEVENT
BEGIN:VEVENT
DTSTART;TZID=UTC:20230621T103000
DTEND;TZID=UTC:20230621T120000
DTSTAMP:20260422T223305
CREATED:20230714T094554Z
LAST-MODIFIED:20230714T094554Z
UID:2774-1687343400-1687348800@standrewsunitedchurch.co.uk
SUMMARY:MIDWEEK BIBLE STUDY
DESCRIPTION:Midweek Bible Study & Refreshments\n10:30 am – 12:00 pm\n\nFriendly group discovering more about Scripture and how to apply it in everyday life.\n\nAll are welcome.
URL:https://standrewsunitedchurch.co.uk/event/midweek-bible-study-8/
END:VEVENT
BEGIN:VEVENT
DTSTART;TZID=UTC:20230619T100000
DTEND;TZID=UTC:20230619T110000
DTSTAMP:20260422T223305
CREATED:20230714T083821Z
LAST-MODIFIED:20230714T083821Z
UID:2655-1687168800-1687172400@standrewsunitedchurch.co.uk
SUMMARY:STAY & PLAY
DESCRIPTION:STAY & PLAY \n\n\n\n\nMonday’s 10:00am – 11:00am – TERM TIME ONLY \nAt St Andrew’s United Church Rowson Street New Brighton CH45 2LY \nFor more information ring Seacombe Children Centre on:\n0151 666 3506.
URL:https://standrewsunitedchurch.co.uk/event/stay-play-5/
END:VEVENT
BEGIN:VEVENT
DTSTART;TZID=UTC:20230616T140000
DTEND;TZID=UTC:20230616T160000
DTSTAMP:20260422T223305
CREATED:20230714T080141Z
LAST-MODIFIED:20230714T080141Z
UID:2608-1686924000-1686931200@standrewsunitedchurch.co.uk
SUMMARY:KNIT & NATTER
DESCRIPTION:Knit & Natter\n\nCome and join this friendly group – meet new people\, learn new skills – whether knitting or crochet\, make new friends and join in future projects. The members have made a variety of items supporting various charities over the years – including blankets\, premature baby clothes\, hats\, knitted toys and items for Christmas. There is a stockpile of wool and knitting needles\, so no initial outlay. Bring along something you have started or something you are about to start. So whether you are a beginner or skilled knitter or just want to come along to find out what we are all about – you will be made very welcome. \n\n\n\nItems made supporting various charity projects such as Charles Thompson Mission\, Mission to Seafarers\, Premature Baby Unit at Arrowe Park Hospital\, plus Twiddle Muffs and Blankets for local residential homes. Whether you are a beginner or an accomplished knitter\, you will be made very welcome. \nEvery Friday from 2pm – 4pm – TERM TIME ONLY
URL:https://standrewsunitedchurch.co.uk/event/knit-natter-29/
END:VEVENT
BEGIN:VEVENT
DTSTART;TZID=UTC:20230616T120000
DTEND;TZID=UTC:20230616T140000
DTSTAMP:20260422T223305
CREATED:20230531T065219Z
LAST-MODIFIED:20230714T071645Z
UID:2507-1686916800-1686924000@standrewsunitedchurch.co.uk
SUMMARY:Warm Welcome
DESCRIPTION:Warm Welcome on Fridays during Term Time from 12 noon until 2 pm. \nSoup and Sandwich plus Tea or Coffee will be available. \nEveryone is welcome. Please do come along\, help provide a warm welcome and make new friendships
URL:https://standrewsunitedchurch.co.uk/event/warm-welcome-2/
LOCATION:St Andew’s United Church\, CH45 2LY
END:VEVENT
BEGIN:VEVENT
DTSTART;TZID=UTC:20230615T100000
DTEND;TZID=UTC:20230615T113000
DTSTAMP:20260422T223305
CREATED:20230714T072710Z
LAST-MODIFIED:20230714T072710Z
UID:2555-1686823200-1686828600@standrewsunitedchurch.co.uk
SUMMARY:TODDLER GROUP
DESCRIPTION:TODDLER GROUP 10 – 11.30 am Thursdays during Term Time\, for 0-4 year olds with activities including games\, crafts\, play area\, dressing up and much more.
URL:https://standrewsunitedchurch.co.uk/event/toddler-group-49/
END:VEVENT
BEGIN:VEVENT
DTSTART;TZID=UTC:20230614T103000
DTEND;TZID=UTC:20230614T120000
DTSTAMP:20260422T223305
CREATED:20230714T094505Z
LAST-MODIFIED:20230714T094505Z
UID:2772-1686738600-1686744000@standrewsunitedchurch.co.uk
SUMMARY:MIDWEEK BIBLE STUDY
DESCRIPTION:Midweek Bible Study & Refreshments\n10:30 am – 12:00 pm\n\nFriendly group discovering more about Scripture and how to apply it in everyday life.\n\nAll are welcome.
URL:https://standrewsunitedchurch.co.uk/event/midweek-bible-study-7/
END:VEVENT
BEGIN:VEVENT
DTSTART;TZID=UTC:20230612T100000
DTEND;TZID=UTC:20230612T110000
DTSTAMP:20260422T223305
CREATED:20230714T083743Z
LAST-MODIFIED:20230714T083743Z
UID:2653-1686564000-1686567600@standrewsunitedchurch.co.uk
SUMMARY:STAY & PLAY
DESCRIPTION:STAY & PLAY \n\n\n\n\nMonday’s 10:00am – 11:00am – TERM TIME ONLY \nAt St Andrew’s United Church Rowson Street New Brighton CH45 2LY \nFor more information ring Seacombe Children Centre on:\n0151 666 3506.
URL:https://standrewsunitedchurch.co.uk/event/stay-play-4/
END:VEVENT
BEGIN:VEVENT
DTSTART;TZID=UTC:20230610T100000
DTEND;TZID=UTC:20230610T120000
DTSTAMP:20260422T223305
CREATED:20230531T065019Z
LAST-MODIFIED:20230531T065019Z
UID:2501-1686391200-1686398400@standrewsunitedchurch.co.uk
SUMMARY:Coffee morning and cake sale
DESCRIPTION:Saturday 10 June \n10.30 – 12 noon
URL:https://standrewsunitedchurch.co.uk/event/coffee-morning-and-cake-sale/
LOCATION:St Andew’s United Church\, CH45 2LY
END:VEVENT
BEGIN:VEVENT
DTSTART;TZID=UTC:20230609T193000
DTEND;TZID=UTC:20230609T213000
DTSTAMP:20260422T223305
CREATED:20230427T072645Z
LAST-MODIFIED:20230427T072645Z
UID:2466-1686339000-1686346200@standrewsunitedchurch.co.uk
SUMMARY:Pistols\, Passion & Pasta
DESCRIPTION:SEACOMBE PLAYERS present PISTOLS\, PASSION & PASTA\nMurder Mystery on Friday 9th June 2023 at 7.30 pm.\nSeacombe United Reformed Church\, Brougham Road\, CH44 6PW\nTickets from Anne 0151 638 1004 or Sue Powell 0151 639 5693.\nTickets £5.
URL:https://standrewsunitedchurch.co.uk/event/pistols-passion-pasta/
LOCATION:Seacombe United Reformed Church\, Brougham Road\, Seacombe\, CH44 6PW\, United Kingdom
END:VEVENT
BEGIN:VEVENT
DTSTART;TZID=UTC:20230609T140000
DTEND;TZID=UTC:20230609T160000
DTSTAMP:20260422T223305
CREATED:20230714T075900Z
LAST-MODIFIED:20230714T075900Z
UID:2606-1686319200-1686326400@standrewsunitedchurch.co.uk
SUMMARY:KNIT & NATTER
DESCRIPTION:Knit & Natter\n\nCome and join this friendly group – meet new people\, learn new skills – whether knitting or crochet\, make new friends and join in future projects. The members have made a variety of items supporting various charities over the years – including blankets\, premature baby clothes\, hats\, knitted toys and items for Christmas. There is a stockpile of wool and knitting needles\, so no initial outlay. Bring along something you have started or something you are about to start. So whether you are a beginner or skilled knitter or just want to come along to find out what we are all about – you will be made very welcome. \n\n\n\nItems made supporting various charity projects such as Charles Thompson Mission\, Mission to Seafarers\, Premature Baby Unit at Arrowe Park Hospital\, plus Twiddle Muffs and Blankets for local residential homes. Whether you are a beginner or an accomplished knitter\, you will be made very welcome. \nEvery Friday from 2pm – 4pm – TERM TIME ONLY
URL:https://standrewsunitedchurch.co.uk/event/knit-natter-28/
END:VEVENT
BEGIN:VEVENT
DTSTART;TZID=UTC:20230609T000000
DTEND;TZID=UTC:20230609T140000
DTSTAMP:20260422T223305
CREATED:20230714T074557Z
LAST-MODIFIED:20230714T074557Z
UID:2590-1686268800-1686319200@standrewsunitedchurch.co.uk
SUMMARY:WARM WELCOME
DESCRIPTION:Warm Welcome on Fridays during Term Time from 12 noon until 2 pm. \nSoup and Sandwich plus Tea or Coffee will be available. \nEveryone is welcome. Please do come along\, help provide a warm welcome and make new friendships
URL:https://standrewsunitedchurch.co.uk/event/warm-welcome-12/
END:VEVENT
BEGIN:VEVENT
DTSTART;TZID=UTC:20230608T100000
DTEND;TZID=UTC:20230608T113000
DTSTAMP:20260422T223305
CREATED:20230714T072627Z
LAST-MODIFIED:20230714T072627Z
UID:2553-1686218400-1686223800@standrewsunitedchurch.co.uk
SUMMARY:TODDLER GROUP
DESCRIPTION:TODDLER GROUP 10 – 11.30 am Thursdays during Term Time\, for 0-4 year olds with activities including games\, crafts\, play area\, dressing up and much more.
URL:https://standrewsunitedchurch.co.uk/event/toddler-group-48/
END:VEVENT
BEGIN:VEVENT
DTSTART;TZID=UTC:20230607T103000
DTEND;TZID=UTC:20230607T120000
DTSTAMP:20260422T223305
CREATED:20230714T094427Z
LAST-MODIFIED:20230714T094427Z
UID:2770-1686133800-1686139200@standrewsunitedchurch.co.uk
SUMMARY:MIDWEEK BIBLE STUDY
DESCRIPTION:Midweek Bible Study & Refreshments\n10:30 am – 12:00 pm\n\nFriendly group discovering more about Scripture and how to apply it in everyday life.\n\nAll are welcome.
URL:https://standrewsunitedchurch.co.uk/event/midweek-bible-study-6/
END:VEVENT
BEGIN:VEVENT
DTSTART;TZID=UTC:20230605T100000
DTEND;TZID=UTC:20230605T110000
DTSTAMP:20260422T223305
CREATED:20230714T083702Z
LAST-MODIFIED:20230714T083702Z
UID:2651-1685959200-1685962800@standrewsunitedchurch.co.uk
SUMMARY:STAY & PLAY
DESCRIPTION:STAY & PLAY \n\n\n\n\nMonday’s 10:00am – 11:00am – TERM TIME ONLY \nAt St Andrew’s United Church Rowson Street New Brighton CH45 2LY \nFor more information ring Seacombe Children Centre on:\n0151 666 3506.
URL:https://standrewsunitedchurch.co.uk/event/stay-play-3/
END:VEVENT
BEGIN:VEVENT
DTSTART;TZID=UTC:20230603T100000
DTEND;TZID=UTC:20230603T160000
DTSTAMP:20260422T223305
CREATED:20230523T074224Z
LAST-MODIFIED:20230714T084414Z
UID:2476-1685786400-1685808000@standrewsunitedchurch.co.uk
SUMMARY:Car wash and plant sale
DESCRIPTION:ST PAUL’S CHURCH\, SEACOMBE\nSaturday\, 3 June\n10.00am – 4.00pm\nMinimum Donation for car wash £3.00
URL:https://standrewsunitedchurch.co.uk/event/car-wash-and-plant-sale/
END:VEVENT
BEGIN:VEVENT
DTSTART;TZID=UTC:20230531T120000
DTEND;TZID=UTC:20230531T140000
DTSTAMP:20260422T223305
CREATED:20230523T074401Z
LAST-MODIFIED:20230523T074401Z
UID:2479-1685534400-1685541600@standrewsunitedchurch.co.uk
SUMMARY:Church lunch
DESCRIPTION:Wednesday 31st May starting at 12 noon. Hot meal\, plus dessert – £5.00. Please add your name to the list in the narthex – this is for catering purposes. Please also add include if\nyou have any dietary requirements. \nFuture Church Lunch dates are as follows:\n• 28th June\n• 26th July\n• 23rd August \nEveryone Welcome
URL:https://standrewsunitedchurch.co.uk/event/church-lunch-2/
LOCATION:St Andew’s United Church\, CH45 2LY
END:VEVENT
BEGIN:VEVENT
DTSTART;TZID=UTC:20230531T103000
DTEND;TZID=UTC:20230531T120000
DTSTAMP:20260422T223305
CREATED:20230714T094354Z
LAST-MODIFIED:20230714T094354Z
UID:2768-1685529000-1685534400@standrewsunitedchurch.co.uk
SUMMARY:MIDWEEK BIBLE STUDY
DESCRIPTION:Midweek Bible Study & Refreshments\n10:30 am – 12:00 pm\n\nFriendly group discovering more about Scripture and how to apply it in everyday life.\n\nAll are welcome.
URL:https://standrewsunitedchurch.co.uk/event/midweek-bible-study-5/
END:VEVENT
BEGIN:VEVENT
DTSTART;VALUE=DATE:20230529
DTEND;VALUE=DATE:20230530
DTSTAMP:20260422T223305
CREATED:20230714T084218Z
LAST-MODIFIED:20230714T084218Z
UID:2667-1685318400-1685404799@standrewsunitedchurch.co.uk
SUMMARY:BANK HOLIDAY
DESCRIPTION:
URL:https://standrewsunitedchurch.co.uk/event/bank-holiday-3/
END:VEVENT
BEGIN:VEVENT
DTSTART;TZID=UTC:20230528T103000
DTEND;TZID=UTC:20230528T113000
DTSTAMP:20260422T223305
CREATED:20230113T102015Z
LAST-MODIFIED:20230113T102015Z
UID:2321-1685269800-1685273400@standrewsunitedchurch.co.uk
SUMMARY:United morning service
DESCRIPTION:Sunday morning services starts at 10.30 a.m. \nPentecost \nRevd. Lorraine Aizlewood-Threlfall \nUnited service with St. James with Emmanuel @ St. Andrew’s
URL:https://standrewsunitedchurch.co.uk/event/united-morning-service/
LOCATION:St Andew’s United Church\, CH45 2LY
END:VEVENT
BEGIN:VEVENT
DTSTART;TZID=UTC:20230526T140000
DTEND;TZID=UTC:20230526T160000
DTSTAMP:20260422T223305
CREATED:20230714T075717Z
LAST-MODIFIED:20230714T075717Z
UID:2602-1685109600-1685116800@standrewsunitedchurch.co.uk
SUMMARY:KNIT & NATTER
DESCRIPTION:Knit & Natter\n\nCome and join this friendly group – meet new people\, learn new skills – whether knitting or crochet\, make new friends and join in future projects. The members have made a variety of items supporting various charities over the years – including blankets\, premature baby clothes\, hats\, knitted toys and items for Christmas. There is a stockpile of wool and knitting needles\, so no initial outlay. Bring along something you have started or something you are about to start. So whether you are a beginner or skilled knitter or just want to come along to find out what we are all about – you will be made very welcome. \n\n\n\nItems made supporting various charity projects such as Charles Thompson Mission\, Mission to Seafarers\, Premature Baby Unit at Arrowe Park Hospital\, plus Twiddle Muffs and Blankets for local residential homes. Whether you are a beginner or an accomplished knitter\, you will be made very welcome. \nEvery Friday from 2pm – 4pm – TERM TIME ONLY
URL:https://standrewsunitedchurch.co.uk/event/knit-natter-26/
END:VEVENT
BEGIN:VEVENT
DTSTART;TZID=UTC:20230526T120000
DTEND;TZID=UTC:20230526T140000
DTSTAMP:20260422T223305
CREATED:20230714T074444Z
LAST-MODIFIED:20230714T074444Z
UID:2588-1685102400-1685109600@standrewsunitedchurch.co.uk
SUMMARY:WARM WELCOME
DESCRIPTION:Warm Welcome on Fridays during Term Time from 12 noon until 2 pm. \nSoup and Sandwich plus Tea or Coffee will be available. \nEveryone is welcome. Please do come along\, help provide a warm welcome and make new friendships
URL:https://standrewsunitedchurch.co.uk/event/warm-welcome-11/
END:VEVENT
BEGIN:VEVENT
DTSTART;TZID=UTC:20230525T100000
DTEND;TZID=UTC:20230525T113000
DTSTAMP:20260422T223305
CREATED:20230714T072533Z
LAST-MODIFIED:20230714T072533Z
UID:2551-1685008800-1685014200@standrewsunitedchurch.co.uk
SUMMARY:TODDLER GROUP
DESCRIPTION:TODDLER GROUP 10 – 11.30 am Thursdays during Term Time\, for 0-4 year olds with activities including games\, crafts\, play area\, dressing up and much more.
URL:https://standrewsunitedchurch.co.uk/event/toddler-group-47/
END:VEVENT
BEGIN:VEVENT
DTSTART;TZID=UTC:20230524T103000
DTEND;TZID=UTC:20230524T120000
DTSTAMP:20260422T223305
CREATED:20230714T094311Z
LAST-MODIFIED:20230714T094311Z
UID:2766-1684924200-1684929600@standrewsunitedchurch.co.uk
SUMMARY:MIDWEEK BIBLE STUDY
DESCRIPTION:Midweek Bible Study & Refreshments\n10:30 am – 12:00 pm\n\nFriendly group discovering more about Scripture and how to apply it in everyday life.\n\nAll are welcome.
URL:https://standrewsunitedchurch.co.uk/event/midweek-bible-study-4/
END:VEVENT
BEGIN:VEVENT
DTSTART;TZID=UTC:20230522T100000
DTEND;TZID=UTC:20230522T100000
DTSTAMP:20260422T223305
CREATED:20230714T084052Z
LAST-MODIFIED:20230714T084052Z
UID:2661-1684749600-1684749600@standrewsunitedchurch.co.uk
SUMMARY:STAY & PLAY
DESCRIPTION:STAY & PLAY \n\n\n\n\nMonday’s 10:00am – 11:00am – TERM TIME ONLY \nAt St Andrew’s United Church Rowson Street New Brighton CH45 2LY \nFor more information ring Seacombe Children Centre on:\n0151 666 3506.
URL:https://standrewsunitedchurch.co.uk/event/stay-play-8/
END:VEVENT
BEGIN:VEVENT
DTSTART;TZID=UTC:20230521T103000
DTEND;TZID=UTC:20230521T113000
DTSTAMP:20260422T223305
CREATED:20230113T101923Z
LAST-MODIFIED:20230113T101923Z
UID:2319-1684665000-1684668600@standrewsunitedchurch.co.uk
SUMMARY:Morning service
DESCRIPTION:Sunday morning services starts at 10.30 a.m. \nRevd. Heather MacLeod \nMorning Worship
URL:https://standrewsunitedchurch.co.uk/event/morning-service-51/
LOCATION:St Andew’s United Church\, CH45 2LY
END:VEVENT
BEGIN:VEVENT
DTSTART;TZID=UTC:20230520T100000
DTEND;TZID=UTC:20230520T123000
DTSTAMP:20260422T223305
CREATED:20230222T082449Z
LAST-MODIFIED:20230222T082449Z
UID:2377-1684576800-1684585800@standrewsunitedchurch.co.uk
SUMMARY:Church Tapestry Group
DESCRIPTION:If you haven’t tried needlepoint before and would like to try\, please come along as there are plenty of folk who will help you\, provide you with materials and frames etc. \n(Future dates: 20th May; 24th June & 22nd July).
URL:https://standrewsunitedchurch.co.uk/event/church-tapestry-group-4/
LOCATION:St Andew’s United Church\, CH45 2LY
END:VEVENT
END:VCALENDAR