BEGIN:VCALENDAR
VERSION:2.0
PRODID:-// - ECPv6.15.17//NONSGML v1.0//EN
CALSCALE:GREGORIAN
METHOD:PUBLISH
X-ORIGINAL-URL:https://standrewsunitedchurch.co.uk
X-WR-CALDESC:Events for 
REFRESH-INTERVAL;VALUE=DURATION:PT1H
X-Robots-Tag:noindex
X-PUBLISHED-TTL:PT1H
BEGIN:VTIMEZONE
TZID:UTC
BEGIN:STANDARD
TZOFFSETFROM:+0000
TZOFFSETTO:+0000
TZNAME:UTC
DTSTART:20250101T000000
END:STANDARD
END:VTIMEZONE
BEGIN:VEVENT
DTSTART;TZID=UTC:20260522T140000
DTEND;TZID=UTC:20260522T160000
DTSTAMP:20260423T051658
CREATED:20260303T155746Z
LAST-MODIFIED:20260303T155746Z
UID:5268-1779458400-1779465600@standrewsunitedchurch.co.uk
SUMMARY:KNIT & NATTER
DESCRIPTION:Knit & Natter\n\nCome and join this friendly group – meet new people\, learn new skills – whether knitting or crochet\, make new friends and join in future projects. The members have made a variety of items supporting various charities over the years – including blankets\, premature baby clothes\, hats\, knitted toys and items for Christmas. There is a stockpile of wool and knitting needles\, so no initial outlay. Bring along something you have started or something you are about to start. So whether you are a beginner or skilled knitter or just want to come along to find out what we are all about – you will be made very welcome. \n\n\n\nItems made supporting various charity projects such as Charles Thompson Mission\, Mission to Seafarers\, Premature Baby Unit at Arrowe Park Hospital\, plus Twiddle Muffs and Blankets for local residential homes. Whether you are a beginner or an accomplished knitter\, you will be made very welcome. \nEvery Friday from 2pm – 4pm – TERM TIME ONLY
URL:https://standrewsunitedchurch.co.uk/event/knit-natter-137/
END:VEVENT
BEGIN:VEVENT
DTSTART;VALUE=DATE:20260525
DTEND;VALUE=DATE:20260530
DTSTAMP:20260423T051658
CREATED:20260303T160149Z
LAST-MODIFIED:20260303T160149Z
UID:5270-1779667200-1780099199@standrewsunitedchurch.co.uk
SUMMARY:HALF TERM
DESCRIPTION:
URL:https://standrewsunitedchurch.co.uk/event/half-term-8/
END:VEVENT
BEGIN:VEVENT
DTSTART;TZID=UTC:20260527T120000
DTEND;TZID=UTC:20260527T140000
DTSTAMP:20260423T051658
CREATED:20260119T080307Z
LAST-MODIFIED:20260119T080307Z
UID:5131-1779883200-1779890400@standrewsunitedchurch.co.uk
SUMMARY:CHURCH LUNCH
DESCRIPTION:CHURCH LUNCH is held once a month starting promptly at 12 noon until 2 pm.  Hot meal\, plus dessert –  £5.00. \nPlease be in touch with Lorraine 0151 792 0972\, if you would like to come along and join us for lunch. \nNumbers are essential. \nEveryone Welcome
URL:https://standrewsunitedchurch.co.uk/event/church-lunch-27/
END:VEVENT
BEGIN:VEVENT
DTSTART;TZID=UTC:20260529T193000
DTEND;TZID=UTC:20260529T213000
DTSTAMP:20260423T051658
CREATED:20260303T161142Z
LAST-MODIFIED:20260303T161142Z
UID:5272-1780083000-1780090200@standrewsunitedchurch.co.uk
SUMMARY:Summer Pantomime - "CHARMING" - a new twist on the classic fairy-tale!
DESCRIPTION:SUMMER PANTOMIME @ SEACOMBE UNITED REFORMED CHURCH Brougham Road\, Wallasey\, CH44 6PW. \nStep into a world of magic\, mayhem and fun in “Charming” — a new twist on the classic fairy-tale!\nFollow Prince Charming\, his fabulous sidekick Dandini\, and the larger‑than‑life Dame Dolly Donut as they battle royal chaos\, an evil Queen with attitude\, and a love story that refuses to behave. Will true love win the day? Will Dolly finally get her big moment? And will the Prince ever work out what’s right in front of him?\nWith songs\, slapstick silliness\, audience participation and a fairy godmother who’s just about keeping it together\, this pantomime has everything you need for brilliant family fun. \nJoin us for a magical\, musical adventure full of fun\, surprises\, and the biggest happy ending! \n 
URL:https://standrewsunitedchurch.co.uk/event/summer-pantomime-charming-a-new-twist-on-the-classic-fairy-tale/
END:VEVENT
BEGIN:VEVENT
DTSTART;TZID=UTC:20260530T143000
DTEND;TZID=UTC:20260530T163000
DTSTAMP:20260423T051658
CREATED:20260303T161357Z
LAST-MODIFIED:20260303T161357Z
UID:5274-1780151400-1780158600@standrewsunitedchurch.co.uk
SUMMARY:SUMMER PANTOMIME - "CHARMING" Matinee Performance
DESCRIPTION:SUMMER PANTOMIME at SEACOMBE UNITED REFORMED CHURCH\, Brougham Road\, CH44 6PW \nStep into a world of magic\, mayhem and fun in “Charming” — a new twist on the classic fairy-tale!\nFollow Prince Charming\, his fabulous sidekick Dandini\, and the larger‑than‑life Dame Dolly Donut as they battle royal chaos\, an evil Queen with attitude\, and a love story that refuses to behave. Will true love win the day? Will Dolly finally get her big moment? And will the Prince ever work out what’s right in front of him?\nWith songs\, slapstick silliness\, audience participation and a fairy godmother who’s just about keeping it together\, this pantomime has everything you need for brilliant family fun. \nJoin us for a magical\, musical adventure full of fun\, surprises\, and the biggest happy ending ever!
URL:https://standrewsunitedchurch.co.uk/event/summer-pantomime-charming-matinee-performance/
END:VEVENT
BEGIN:VEVENT
DTSTART;TZID=UTC:20260531T143000
DTEND;TZID=UTC:20260531T163000
DTSTAMP:20260423T051658
CREATED:20260303T161608Z
LAST-MODIFIED:20260303T161734Z
UID:5276-1780237800-1780245000@standrewsunitedchurch.co.uk
SUMMARY:SUMMER PANTOMIME - "CHARMING" Matinee Performance
DESCRIPTION:SUMMER PANTOMIME at Seacombe United Reformed Church\, Brougham Road\,  CH44 6PW \nStep into a world of magic\, mayhem and fun in “Charming” — a new twist on the classic fairy-tale!\nFollow Prince Charming\, his fabulous sidekick Dandini\, and the larger‑than‑life Dame Dolly Donut as they battle royal chaos\, an evil Queen with attitude\, and a love story that refuses to behave. Will true love win the day? Will Dolly finally get her big moment? And will the Prince ever work out what’s right in front of him?\nWith songs\, slapstick silliness\, audience participation and a fairy godmother who’s just about keeping it together\, this pantomime has everything you need for brilliant family fun. \nJoin us for a magical\, musical adventure full of fun\, surprises\, and the biggest happy ending ever!
URL:https://standrewsunitedchurch.co.uk/event/summer-pantomime-charming-matinee-performance-2/
END:VEVENT
BEGIN:VEVENT
DTSTART;TZID=UTC:20260601T100000
DTEND;TZID=UTC:20260601T110000
DTSTAMP:20260423T051658
CREATED:20260414T074927Z
LAST-MODIFIED:20260414T074927Z
UID:5410-1780308000-1780311600@standrewsunitedchurch.co.uk
SUMMARY:STAY & PLAY
DESCRIPTION:STAY & PLAY \n\n\n\n\nMonday’s 10:00am – 11:00am – TERM TIME ONLY \nAt St Andrew’s United Church Rowson Street New Brighton CH45 2LY \nFor more information ring Seacombe Children Centre on:\n0151 666 3506.
URL:https://standrewsunitedchurch.co.uk/event/stay-play-124/
END:VEVENT
BEGIN:VEVENT
DTSTART;TZID=UTC:20260605T140000
DTEND;TZID=UTC:20260605T160000
DTSTAMP:20260423T051658
CREATED:20260303T162236Z
LAST-MODIFIED:20260303T162236Z
UID:5283-1780668000-1780675200@standrewsunitedchurch.co.uk
SUMMARY:KNIT & NATTER
DESCRIPTION:Knit & Natter\n\nCome and join this friendly group – meet new people\, learn new skills – whether knitting or crochet\, make new friends and join in future projects. The members have made a variety of items supporting various charities over the years – including blankets\, premature baby clothes\, hats\, knitted toys and items for Christmas. There is a stockpile of wool and knitting needles\, so no initial outlay. Bring along something you have started or something you are about to start. So whether you are a beginner or skilled knitter or just want to come along to find out what we are all about – you will be made very welcome. \n\n\n\nItems made supporting various charity projects such as Charles Thompson Mission\, Mission to Seafarers\, Premature Baby Unit at Arrowe Park Hospital\, plus Twiddle Muffs and Blankets for local residential homes. Whether you are a beginner or an accomplished knitter\, you will be made very welcome. \nEvery Friday from 2pm – 4pm – TERM TIME ONLY
URL:https://standrewsunitedchurch.co.uk/event/knit-natter-130/
END:VEVENT
BEGIN:VEVENT
DTSTART;TZID=UTC:20260624T120000
DTEND;TZID=UTC:20260624T140000
DTSTAMP:20260423T051658
CREATED:20260119T080403Z
LAST-MODIFIED:20260119T080403Z
UID:5133-1782302400-1782309600@standrewsunitedchurch.co.uk
SUMMARY:CHURCH LUNCH
DESCRIPTION:CHURCH LUNCH is held once a month starting promptly at 12 noon until 2 pm.  Hot meal\, plus dessert –  £5.00. \nPlease be in touch with Lorraine 0151 792 0972\, if you would like to come along and join us for lunch. \nNumbers are essential. \nEveryone Welcome
URL:https://standrewsunitedchurch.co.uk/event/church-lunch-28/
END:VEVENT
BEGIN:VEVENT
DTSTART;TZID=UTC:20260722T120000
DTEND;TZID=UTC:20260722T140000
DTSTAMP:20260423T051658
CREATED:20260119T080439Z
LAST-MODIFIED:20260119T080439Z
UID:5135-1784721600-1784728800@standrewsunitedchurch.co.uk
SUMMARY:CHURCH LUNCH
DESCRIPTION:CHURCH LUNCH is held once a month starting promptly at 12 noon until 2 pm.  Hot meal\, plus dessert –  £5.00. \nPlease be in touch with Lorraine 0151 792 0972\, if you would like to come along and join us for lunch. \nNumbers are essential. \nEveryone Welcome
URL:https://standrewsunitedchurch.co.uk/event/church-lunch-29/
END:VEVENT
END:VCALENDAR