BEGIN:VCALENDAR
VERSION:2.0
PRODID:-// - ECPv6.15.17//NONSGML v1.0//EN
CALSCALE:GREGORIAN
METHOD:PUBLISH
X-ORIGINAL-URL:https://standrewsunitedchurch.co.uk
X-WR-CALDESC:Events for 
REFRESH-INTERVAL;VALUE=DURATION:PT1H
X-Robots-Tag:noindex
X-PUBLISHED-TTL:PT1H
BEGIN:VTIMEZONE
TZID:UTC
BEGIN:STANDARD
TZOFFSETFROM:+0000
TZOFFSETTO:+0000
TZNAME:UTC
DTSTART:20220101T000000
END:STANDARD
END:VTIMEZONE
BEGIN:VEVENT
DTSTART;TZID=UTC:20230510T103000
DTEND;TZID=UTC:20230510T120000
DTSTAMP:20260423T033937
CREATED:20230714T094117Z
LAST-MODIFIED:20230714T094117Z
UID:2760-1683714600-1683720000@standrewsunitedchurch.co.uk
SUMMARY:MIDWEEK BIBLE STUDY
DESCRIPTION:Midweek Bible Study & Refreshments\n10:30 am – 12:00 pm\n\nFriendly group discovering more about Scripture and how to apply it in everyday life.\n\nAll are welcome.
URL:https://standrewsunitedchurch.co.uk/event/midweek-bible-study/
END:VEVENT
BEGIN:VEVENT
DTSTART;VALUE=DATE:20230508
DTEND;VALUE=DATE:20230509
DTSTAMP:20260423T033937
CREATED:20230714T084154Z
LAST-MODIFIED:20230714T084154Z
UID:2665-1683504000-1683590399@standrewsunitedchurch.co.uk
SUMMARY:BANK HOLIDAY
DESCRIPTION:
URL:https://standrewsunitedchurch.co.uk/event/bank-holiday-2/
END:VEVENT
BEGIN:VEVENT
DTSTART;TZID=UTC:20230507T103000
DTEND;TZID=UTC:20230507T113000
DTSTAMP:20260423T033937
CREATED:20230113T101715Z
LAST-MODIFIED:20230427T072546Z
UID:2314-1683455400-1683459000@standrewsunitedchurch.co.uk
SUMMARY:Morning service: King Charles III Coronation
DESCRIPTION:King United Service with St. Andrew’s United Church will be held at Seacombe United Reformed Church to celebrate King Charles III Coronation on\nSunday 7th May at 11 am followed by ‘bring and share’ lunch.
URL:https://standrewsunitedchurch.co.uk/event/morning-service-49/
LOCATION:St Andew’s United Church\, CH45 2LY
END:VEVENT
BEGIN:VEVENT
DTSTART;TZID=UTC:20230505T140000
DTEND;TZID=UTC:20230505T160000
DTSTAMP:20260423T033937
CREATED:20230714T075316Z
LAST-MODIFIED:20230714T080957Z
UID:2596-1683295200-1683302400@standrewsunitedchurch.co.uk
SUMMARY:KNIT & NATTER
DESCRIPTION:Knit & Natter\n\nCome and join this friendly group – meet new people\, learn new skills – whether knitting or crochet\, make new friends and join in future projects. The members have made a variety of items supporting various charities over the years – including blankets\, premature baby clothes\, hats\, knitted toys and items for Christmas. There is a stockpile of wool and knitting needles\, so no initial outlay. Bring along something you have started or something you are about to start. So whether you are a beginner or skilled knitter or just want to come along to find out what we are all about – you will be made very welcome. \n\n\n\nItems made supporting various charity projects such as Charles Thompson Mission\, Mission to Seafarers\, Premature Baby Unit at Arrowe Park Hospital\, plus Twiddle Muffs and Blankets for local residential homes. Whether you are a beginner or an accomplished knitter\, you will be made very welcome. \nEvery Friday from 2pm – 4pm – TERM TIME ONLY
URL:https://standrewsunitedchurch.co.uk/event/knit-natter-23/
END:VEVENT
BEGIN:VEVENT
DTSTART;TZID=UTC:20230505T120000
DTEND;TZID=UTC:20230505T140000
DTSTAMP:20260423T033937
CREATED:20230714T074243Z
LAST-MODIFIED:20230714T080915Z
UID:2582-1683288000-1683295200@standrewsunitedchurch.co.uk
SUMMARY:WARM WELCOME
DESCRIPTION:Warm Welcome on Fridays during Term Time from 12 noon until 2 pm. \nSoup and Sandwich plus Tea or Coffee will be available. \nEveryone is welcome. Please do come along\, help provide a warm welcome and make new friendships
URL:https://standrewsunitedchurch.co.uk/event/warm-welcome-8/
END:VEVENT
BEGIN:VEVENT
DTSTART;TZID=UTC:20230504T100000
DTEND;TZID=UTC:20230504T113000
DTSTAMP:20260423T033937
CREATED:20230714T072225Z
LAST-MODIFIED:20230714T072225Z
UID:2545-1683194400-1683199800@standrewsunitedchurch.co.uk
SUMMARY:TODDLER GROUP
DESCRIPTION:TODDLER GROUP 10 – 11.30 am Thursdays during Term Time\, for 0-4 year olds with activities including games\, crafts\, play area\, dressing up and much more.
URL:https://standrewsunitedchurch.co.uk/event/toddler-group-44/
END:VEVENT
BEGIN:VEVENT
DTSTART;TZID=UTC:20230503T103000
DTEND;TZID=UTC:20230503T120000
DTSTAMP:20260423T033937
CREATED:20230714T093515Z
LAST-MODIFIED:20230714T094032Z
UID:2756-1683109800-1683115200@standrewsunitedchurch.co.uk
SUMMARY:MIDWEEK BIBLE STUDY
DESCRIPTION:Midweek Bible Study & Refreshments\n10:30 am – 12:00 pm\n\nFriendly group discovering more about Scripture and how to apply it in everyday life.\n\nAll are welcome.
URL:https://standrewsunitedchurch.co.uk/event/midweek-service-coffee-morning-21/
END:VEVENT
BEGIN:VEVENT
DTSTART;TZID=UTC:20230503T103000
DTEND;TZID=UTC:20230503T120000
DTSTAMP:20260423T033937
CREATED:20230714T093428Z
LAST-MODIFIED:20230714T093428Z
UID:2754-1683109800-1683115200@standrewsunitedchurch.co.uk
SUMMARY:MIDWEEK SERVICE & COFFEE MORNING
DESCRIPTION:Midweek Service & Coffee Morning \n10:30 am – 12:00 pm\n\nAll are welcome to attend this service starting at 10:15 am every Wednesday\, apart from Wednesdays following Christmas and Easter.\n\nJoin our coffee morning straight after the service from 11:00am – 12:00pm
URL:https://standrewsunitedchurch.co.uk/event/midweek-service-coffee-morning-20/
END:VEVENT
BEGIN:VEVENT
DTSTART;VALUE=DATE:20230501
DTEND;VALUE=DATE:20230502
DTSTAMP:20260423T033937
CREATED:20230714T084131Z
LAST-MODIFIED:20230714T084131Z
UID:2663-1682899200-1682985599@standrewsunitedchurch.co.uk
SUMMARY:BANK HOLIDAY
DESCRIPTION:
URL:https://standrewsunitedchurch.co.uk/event/bank-holiday/
END:VEVENT
BEGIN:VEVENT
DTSTART;TZID=UTC:20230430T103000
DTEND;TZID=UTC:20230430T113000
DTSTAMP:20260423T033937
CREATED:20230113T101631Z
LAST-MODIFIED:20230113T101631Z
UID:2312-1682850600-1682854200@standrewsunitedchurch.co.uk
SUMMARY:Morning service
DESCRIPTION:Sunday morning services starts at 10.30 a.m. \nRevd. Lorraine Aizlewood-Threlfall \nMorning Worship
URL:https://standrewsunitedchurch.co.uk/event/morning-service-48/
LOCATION:St Andew’s United Church\, CH45 2LY
END:VEVENT
BEGIN:VEVENT
DTSTART;TZID=UTC:20230428T140000
DTEND;TZID=UTC:20230428T160000
DTSTAMP:20260423T033937
CREATED:20230714T075231Z
LAST-MODIFIED:20230714T075231Z
UID:2594-1682690400-1682697600@standrewsunitedchurch.co.uk
SUMMARY:KNIT & NATTER
DESCRIPTION:Knit & Natter\n\nCome and join this friendly group – meet new people\, learn new skills – whether knitting or crochet\, make new friends and join in future projects. The members have made a variety of items supporting various charities over the years – including blankets\, premature baby clothes\, hats\, knitted toys and items for Christmas. There is a stockpile of wool and knitting needles\, so no initial outlay. Bring along something you have started or something you are about to start. So whether you are a beginner or skilled knitter or just want to come along to find out what we are all about – you will be made very welcome. \n\n\n\nItems made supporting various charity projects such as Charles Thompson Mission\, Mission to Seafarers\, Premature Baby Unit at Arrowe Park Hospital\, plus Twiddle Muffs and Blankets for local residential homes. Whether you are a beginner or an accomplished knitter\, you will be made very welcome. \nEvery Friday from 2pm – 4pm – TERM TIME ONLY
URL:https://standrewsunitedchurch.co.uk/event/knit-natter-22/
END:VEVENT
BEGIN:VEVENT
DTSTART;TZID=UTC:20230427T100000
DTEND;TZID=UTC:20230427T113000
DTSTAMP:20260423T033937
CREATED:20230714T072124Z
LAST-MODIFIED:20230714T072124Z
UID:2543-1682589600-1682595000@standrewsunitedchurch.co.uk
SUMMARY:TODDLER GROUP
DESCRIPTION:TODDLER GROUP 10 – 11.30 am Thursdays during Term Time\, for 0-4 year olds with activities including games\, crafts\, play area\, dressing up and much more.
URL:https://standrewsunitedchurch.co.uk/event/toddler-group-43/
END:VEVENT
BEGIN:VEVENT
DTSTART;TZID=UTC:20230426T103000
DTEND;TZID=UTC:20230426T120000
DTSTAMP:20260423T033937
CREATED:20230714T093312Z
LAST-MODIFIED:20230714T093312Z
UID:2752-1682505000-1682510400@standrewsunitedchurch.co.uk
SUMMARY:MIDWEEK SERVICE & COFFEE MORNING
DESCRIPTION:Midweek Service & Coffee Morning \n10:30 am – 12:00 pm\n\nAll are welcome to attend this service starting at 10:15 am every Wednesday\, apart from Wednesdays following Christmas and Easter.\n\nJoin our coffee morning straight after the service from 11:00am – 12:00pm
URL:https://standrewsunitedchurch.co.uk/event/midweek-service-coffee-morning-19/
END:VEVENT
BEGIN:VEVENT
DTSTART;TZID=UTC:20230424T100000
DTEND;TZID=UTC:20230424T110000
DTSTAMP:20260423T033937
CREATED:20230714T084649Z
LAST-MODIFIED:20230714T084649Z
UID:2671-1682330400-1682334000@standrewsunitedchurch.co.uk
SUMMARY:STAY & PLAY
DESCRIPTION:STAY & PLAY \n\n\n\n\nMonday’s 10:00am – 11:00am – TERM TIME ONLY \nAt St Andrew’s United Church Rowson Street New Brighton CH45 2LY \nFor more information ring Seacombe Children Centre on:\n0151 666 3506.
URL:https://standrewsunitedchurch.co.uk/event/stay-play-10/
END:VEVENT
BEGIN:VEVENT
DTSTART;TZID=UTC:20230423T103000
DTEND;TZID=UTC:20230423T113000
DTSTAMP:20260423T033937
CREATED:20230113T101549Z
LAST-MODIFIED:20230113T101549Z
UID:2310-1682245800-1682249400@standrewsunitedchurch.co.uk
SUMMARY:Morning service
DESCRIPTION:Sunday morning services starts at 10.30 a.m. \nRevd. Lorraine Aizlewood-Threlfall \nMorning Worship
URL:https://standrewsunitedchurch.co.uk/event/morning-service-47/
LOCATION:St Andew’s United Church\, CH45 2LY
END:VEVENT
BEGIN:VEVENT
DTSTART;TZID=UTC:20230422T100000
DTEND;TZID=UTC:20230422T123000
DTSTAMP:20260423T033937
CREATED:20230222T082416Z
LAST-MODIFIED:20230222T082416Z
UID:2375-1682157600-1682166600@standrewsunitedchurch.co.uk
SUMMARY:Church Tapestry Group
DESCRIPTION:If you haven’t tried needlepoint before and would like to try\, please come along as there are plenty of folk who will help you\, provide you with materials and frames etc. \n(Future dates: 22nd April; 20th May; 24th June & 22nd July).
URL:https://standrewsunitedchurch.co.uk/event/church-tapestry-group-3/
LOCATION:St Andew’s United Church\, CH45 2LY
END:VEVENT
BEGIN:VEVENT
DTSTART;TZID=UTC:20230421T140000
DTEND;TZID=UTC:20230421T160000
DTSTAMP:20260423T033937
CREATED:20230309T122653Z
LAST-MODIFIED:20230309T122653Z
UID:2426-1682085600-1682092800@standrewsunitedchurch.co.uk
SUMMARY:KNIT & NATTER
DESCRIPTION:Knit & Natter\n\nCome and join this friendly group – meet new people\, learn new skills – whether knitting or crochet\, make new friends and join in future projects. The members have made a variety of items supporting various charities over the years – including blankets\, premature baby clothes\, hats\, knitted toys and items for Christmas. There is a stockpile of wool and knitting needles\, so no initial outlay. Bring along something you have started or something you are about to start. So whether you are a beginner or skilled knitter or just want to come along to find out what we are all about – you will be made very welcome. \n\n\n\nItems made supporting various charity projects such as Charles Thompson Mission\, Mission to Seafarers\, Premature Baby Unit at Arrowe Park Hospital\, plus Twiddle Muffs and Blankets for local residential homes. Whether you are a beginner or an accomplished knitter\, you will be made very welcome. \nEvery Friday from 2pm – 4pm – TERM TIME ONLY
URL:https://standrewsunitedchurch.co.uk/event/knit-natter-21/
END:VEVENT
BEGIN:VEVENT
DTSTART;TZID=UTC:20230420T100000
DTEND;TZID=UTC:20230420T113000
DTSTAMP:20260423T033937
CREATED:20230714T072028Z
LAST-MODIFIED:20230714T072028Z
UID:2541-1681984800-1681990200@standrewsunitedchurch.co.uk
SUMMARY:TODDLER GROUP
DESCRIPTION:TODDLER GROUP 10 – 11.30 am Thursdays during Term Time\, for 0-4 year olds with activities including games\, crafts\, play area\, dressing up and much more.
URL:https://standrewsunitedchurch.co.uk/event/toddler-group-42/
END:VEVENT
BEGIN:VEVENT
DTSTART;TZID=UTC:20230417T100000
DTEND;TZID=UTC:20230417T110000
DTSTAMP:20260423T033937
CREATED:20230714T084606Z
LAST-MODIFIED:20230714T084606Z
UID:2669-1681725600-1681729200@standrewsunitedchurch.co.uk
SUMMARY:STAY & PLAY
DESCRIPTION:STAY & PLAY \n\n\n\n\nMonday’s 10:00am – 11:00am – TERM TIME ONLY \nAt St Andrew’s United Church Rowson Street New Brighton CH45 2LY \nFor more information ring Seacombe Children Centre on:\n0151 666 3506.
URL:https://standrewsunitedchurch.co.uk/event/stay-play-9/
END:VEVENT
BEGIN:VEVENT
DTSTART;TZID=UTC:20230416T103000
DTEND;TZID=UTC:20230416T113000
DTSTAMP:20260423T033937
CREATED:20230113T092700Z
LAST-MODIFIED:20230113T092700Z
UID:2308-1681641000-1681644600@standrewsunitedchurch.co.uk
SUMMARY:Morning service
DESCRIPTION:Sunday morning services starts at 10.30 a.m. \nRevd. Lorraine Aizlewood-Threlfall \nMorning Worship
URL:https://standrewsunitedchurch.co.uk/event/morning-service-46/
LOCATION:St Andew’s United Church\, CH45 2LY
END:VEVENT
BEGIN:VEVENT
DTSTART;TZID=UTC:20230409T103000
DTEND;TZID=UTC:20230409T113000
DTSTAMP:20260423T033937
CREATED:20230113T092610Z
LAST-MODIFIED:20230113T102320Z
UID:2306-1681036200-1681039800@standrewsunitedchurch.co.uk
SUMMARY:Easter Day communion
DESCRIPTION:Sunday morning services starts at 10.30 a.m. \nRevd. Heather MacLeod \nEaster Day Communion
URL:https://standrewsunitedchurch.co.uk/event/easter-day-communion/
LOCATION:St Andew’s United Church\, CH45 2LY
END:VEVENT
BEGIN:VEVENT
DTSTART;TZID=UTC:20230407T110000
DTEND;TZID=UTC:20230407T120000
DTSTAMP:20260423T033937
CREATED:20230113T092521Z
LAST-MODIFIED:20230113T102225Z
UID:2304-1680865200-1680868800@standrewsunitedchurch.co.uk
SUMMARY:Good Friday service
DESCRIPTION:Good Friday service\, 11am \nMr David Powell
URL:https://standrewsunitedchurch.co.uk/event/good-friday-service/
LOCATION:St Andew’s United Church\, CH45 2LY
END:VEVENT
BEGIN:VEVENT
DTSTART;TZID=UTC:20230405T101500
DTEND;TZID=UTC:20230405T120000
DTSTAMP:20260423T033937
CREATED:20230714T093157Z
LAST-MODIFIED:20230714T093157Z
UID:2750-1680689700-1680696000@standrewsunitedchurch.co.uk
SUMMARY:MIDWEEK SERVICE & COFFEE MORNING
DESCRIPTION:Midweek Service & Coffee Morning \n10:15 am – 12:00 pm\n\nAll are welcome to attend this service starting at 10:15 am every Wednesday\, apart from Wednesdays following Christmas and Easter.\n\nJoin our coffee morning straight after the service from 11:00am – 12:00pm
URL:https://standrewsunitedchurch.co.uk/event/midweek-service-coffee-morning-16/
END:VEVENT
BEGIN:VEVENT
DTSTART;TZID=UTC:20230402T103000
DTEND;TZID=UTC:20230402T113000
DTSTAMP:20260423T033937
CREATED:20230113T092430Z
LAST-MODIFIED:20230113T092430Z
UID:2302-1680431400-1680435000@standrewsunitedchurch.co.uk
SUMMARY:Palm Sunday Service & Tea
DESCRIPTION:Palm Sunday Service and tea\, 4pm \nRevd. Lorraine Aizlewood-Threlfall \nLent \nPalm Sunday  Service & Tea
URL:https://standrewsunitedchurch.co.uk/event/palm-sunday-service-tea/
LOCATION:St Andew’s United Church\, CH45 2LY
END:VEVENT
BEGIN:VEVENT
DTSTART;TZID=UTC:20230402T103000
DTEND;TZID=UTC:20230402T113000
DTSTAMP:20260423T033937
CREATED:20230113T092324Z
LAST-MODIFIED:20230113T092324Z
UID:2300-1680431400-1680435000@standrewsunitedchurch.co.uk
SUMMARY:Morning service
DESCRIPTION:Sunday morning services starts at 10.30 a.m. \nRevd. George Palmer \nLent \nHoly Communion
URL:https://standrewsunitedchurch.co.uk/event/morning-service-45/
LOCATION:St Andew’s United Church\, CH45 2LY
END:VEVENT
BEGIN:VEVENT
DTSTART;TZID=UTC:20230331T140000
DTEND;TZID=UTC:20230331T160000
DTSTAMP:20260423T033937
CREATED:20230309T122537Z
LAST-MODIFIED:20230309T122537Z
UID:2424-1680271200-1680278400@standrewsunitedchurch.co.uk
SUMMARY:KNIT & NATTER
DESCRIPTION:Knit & Natter\n\nCome and join this friendly group – meet new people\, learn new skills – whether knitting or crochet\, make new friends and join in future projects. The members have made a variety of items supporting various charities over the years – including blankets\, premature baby clothes\, hats\, knitted toys and items for Christmas. There is a stockpile of wool and knitting needles\, so no initial outlay. Bring along something you have started or something you are about to start. So whether you are a beginner or skilled knitter or just want to come along to find out what we are all about – you will be made very welcome. \n\n\n\nItems made supporting various charity projects such as Charles Thompson Mission\, Mission to Seafarers\, Premature Baby Unit at Arrowe Park Hospital\, plus Twiddle Muffs and Blankets for local residential homes. Whether you are a beginner or an accomplished knitter\, you will be made very welcome. \nEvery Friday from 2pm – 4pm – TERM TIME ONLY
URL:https://standrewsunitedchurch.co.uk/event/knit-natter-20/
END:VEVENT
BEGIN:VEVENT
DTSTART;TZID=UTC:20230331T100000
DTEND;TZID=UTC:20230331T140000
DTSTAMP:20260423T033937
CREATED:20230309T120224Z
LAST-MODIFIED:20230309T120224Z
UID:2399-1680256800-1680271200@standrewsunitedchurch.co.uk
SUMMARY:WARM WELCOME - FRIDAYS @ ST ANDREW'S
DESCRIPTION:From 10 – 12 noon Coffee Tea & Toast.  From 12 – 2 pm Soup & Sandwich plus Tea & Coffee. \nEVERYONE WELCOME
URL:https://standrewsunitedchurch.co.uk/event/warm-welcome-fridays-st-andrews-3/
END:VEVENT
BEGIN:VEVENT
DTSTART;TZID=UTC:20230330T100000
DTEND;TZID=UTC:20230330T113000
DTSTAMP:20260423T033937
CREATED:20220930T080554Z
LAST-MODIFIED:20230222T083004Z
UID:2121-1680170400-1680175800@standrewsunitedchurch.co.uk
SUMMARY:TODDLER GROUP
DESCRIPTION:TODDLER GROUP 10 – 11.30 am Thursdays during Term Time\, for 0-4 year olds with activities including games\, crafts\, play area\, dressing up and much more.
URL:https://standrewsunitedchurch.co.uk/event/toddler-group-31/
LOCATION:St Andew’s United Church\, CH45 2LY
END:VEVENT
BEGIN:VEVENT
DTSTART;TZID=UTC:20230329T101500
DTEND;TZID=UTC:20230329T120000
DTSTAMP:20260423T033937
CREATED:20230714T092939Z
LAST-MODIFIED:20230714T092939Z
UID:2748-1680084900-1680091200@standrewsunitedchurch.co.uk
SUMMARY:MIDWEEK SERVICE & COFFEE MORNING
DESCRIPTION:Midweek Service & Coffee Morning \n10:15 am – 12:00 pm\n\nAll are welcome to attend this service starting at 10:15 am every Wednesday\, apart from Wednesdays following Christmas and Easter.\n\nJoin our coffee morning straight after the service from 11:00am – 12:00pm
URL:https://standrewsunitedchurch.co.uk/event/midweek-service-coffee-morning-18/
END:VEVENT
BEGIN:VEVENT
DTSTART;TZID=UTC:20230327T100000
DTEND;TZID=UTC:20230327T110000
DTSTAMP:20260423T033937
CREATED:20230714T084946Z
LAST-MODIFIED:20230714T084946Z
UID:2681-1679911200-1679914800@standrewsunitedchurch.co.uk
SUMMARY:STAY & PLAY
DESCRIPTION:STAY & PLAY \n\n\n\n\nMonday’s 10:00am – 11:00am – TERM TIME ONLY \nAt St Andrew’s United Church Rowson Street New Brighton CH45 2LY \nFor more information ring Seacombe Children Centre on:\n0151 666 3506.
URL:https://standrewsunitedchurch.co.uk/event/stay-play-15/
END:VEVENT
END:VCALENDAR