BEGIN:VCALENDAR
VERSION:2.0
PRODID:-// - ECPv6.15.17//NONSGML v1.0//EN
CALSCALE:GREGORIAN
METHOD:PUBLISH
X-ORIGINAL-URL:https://standrewsunitedchurch.co.uk
X-WR-CALDESC:Events for 
REFRESH-INTERVAL;VALUE=DURATION:PT1H
X-Robots-Tag:noindex
X-PUBLISHED-TTL:PT1H
BEGIN:VTIMEZONE
TZID:UTC
BEGIN:STANDARD
TZOFFSETFROM:+0000
TZOFFSETTO:+0000
TZNAME:UTC
DTSTART:20220101T000000
END:STANDARD
END:VTIMEZONE
BEGIN:VEVENT
DTSTART;TZID=UTC:20230329T101500
DTEND;TZID=UTC:20230329T120000
DTSTAMP:20260423T113555
CREATED:20230714T092939Z
LAST-MODIFIED:20230714T092939Z
UID:2748-1680084900-1680091200@standrewsunitedchurch.co.uk
SUMMARY:MIDWEEK SERVICE & COFFEE MORNING
DESCRIPTION:Midweek Service & Coffee Morning \n10:15 am – 12:00 pm\n\nAll are welcome to attend this service starting at 10:15 am every Wednesday\, apart from Wednesdays following Christmas and Easter.\n\nJoin our coffee morning straight after the service from 11:00am – 12:00pm
URL:https://standrewsunitedchurch.co.uk/event/midweek-service-coffee-morning-18/
END:VEVENT
BEGIN:VEVENT
DTSTART;TZID=UTC:20230327T100000
DTEND;TZID=UTC:20230327T110000
DTSTAMP:20260423T113555
CREATED:20230714T084946Z
LAST-MODIFIED:20230714T084946Z
UID:2681-1679911200-1679914800@standrewsunitedchurch.co.uk
SUMMARY:STAY & PLAY
DESCRIPTION:STAY & PLAY \n\n\n\n\nMonday’s 10:00am – 11:00am – TERM TIME ONLY \nAt St Andrew’s United Church Rowson Street New Brighton CH45 2LY \nFor more information ring Seacombe Children Centre on:\n0151 666 3506.
URL:https://standrewsunitedchurch.co.uk/event/stay-play-15/
END:VEVENT
BEGIN:VEVENT
DTSTART;TZID=UTC:20230326T103000
DTEND;TZID=UTC:20230326T113000
DTSTAMP:20260423T113555
CREATED:20230113T091808Z
LAST-MODIFIED:20230113T091808Z
UID:2298-1679826600-1679830200@standrewsunitedchurch.co.uk
SUMMARY:Morning service
DESCRIPTION:Sunday morning services starts at 10.30 a.m. \nRevd. Lorraine Aizlewood-Threlfall \nLent \nMorning Worship
URL:https://standrewsunitedchurch.co.uk/event/morning-service-44/
LOCATION:St Andew’s United Church\, CH45 2LY
END:VEVENT
BEGIN:VEVENT
DTSTART;TZID=UTC:20230325T110000
DTEND;TZID=UTC:20230325T130000
DTSTAMP:20260423T113555
CREATED:20230222T082212Z
LAST-MODIFIED:20230309T123708Z
UID:2371-1679742000-1679749200@standrewsunitedchurch.co.uk
SUMMARY:SPRING FAIR
DESCRIPTION:SATURDAY 25th MARCH     –     11am – 1pm \nREFRESHMENTS\, CAKE STALL\, CRAFTS\, PLANT STALL\, CHOCOLATE STALL\, GAMES\, RAFFLE AND PLENTY MORE!!! \nFREE ADMISSION \nCOME AND JOIN THE FUN OF THE FAIR !
URL:https://standrewsunitedchurch.co.uk/event/spring-fair/
LOCATION:St Andew’s United Church\, CH45 2LY
END:VEVENT
BEGIN:VEVENT
DTSTART;TZID=UTC:20230324T140000
DTEND;TZID=UTC:20230324T160000
DTSTAMP:20260423T113555
CREATED:20230309T122449Z
LAST-MODIFIED:20230309T122449Z
UID:2422-1679666400-1679673600@standrewsunitedchurch.co.uk
SUMMARY:KNIT & NATTER
DESCRIPTION:Knit & Natter\n\nCome and join this friendly group – meet new people\, learn new skills – whether knitting or crochet\, make new friends and join in future projects. The members have made a variety of items supporting various charities over the years – including blankets\, premature baby clothes\, hats\, knitted toys and items for Christmas. There is a stockpile of wool and knitting needles\, so no initial outlay. Bring along something you have started or something you are about to start. So whether you are a beginner or skilled knitter or just want to come along to find out what we are all about – you will be made very welcome. \n\n\n\nItems made supporting various charity projects such as Charles Thompson Mission\, Mission to Seafarers\, Premature Baby Unit at Arrowe Park Hospital\, plus Twiddle Muffs and Blankets for local residential homes. Whether you are a beginner or an accomplished knitter\, you will be made very welcome. \nEvery Friday from 2pm – 4pm – TERM TIME ONLY
URL:https://standrewsunitedchurch.co.uk/event/knit-natter-19/
END:VEVENT
BEGIN:VEVENT
DTSTART;TZID=UTC:20230324T100000
DTEND;TZID=UTC:20230324T140000
DTSTAMP:20260423T113555
CREATED:20230309T115933Z
LAST-MODIFIED:20230309T115933Z
UID:2397-1679652000-1679666400@standrewsunitedchurch.co.uk
SUMMARY:WARM WELCOME - FRIDAYS @ ST ANDREW'S
DESCRIPTION:Every Friday until the end of March.  From 10 – 12 noon Coffee Tea & Toast.  From 12 – 2 pm Soup & Sandwich plus Tea & Coffee. \nEVERYONE WELCOME
URL:https://standrewsunitedchurch.co.uk/event/warm-welcome-fridays-st-andrews-4/
END:VEVENT
BEGIN:VEVENT
DTSTART;TZID=UTC:20230323T100000
DTEND;TZID=UTC:20230323T113000
DTSTAMP:20260423T113555
CREATED:20220930T082454Z
LAST-MODIFIED:20230222T082853Z
UID:2141-1679565600-1679571000@standrewsunitedchurch.co.uk
SUMMARY:TODDLER GROUP
DESCRIPTION:TODDLER GROUP 10 – 11.30 am Thursdays during Term Time\, for 0-4 year olds with activities including games\, crafts\, play area\, dressing up and much more.  
URL:https://standrewsunitedchurch.co.uk/event/toddler-group-39/
LOCATION:St Andew’s United Church\, CH45 2LY
END:VEVENT
BEGIN:VEVENT
DTSTART;TZID=UTC:20230322T101500
DTEND;TZID=UTC:20230322T120000
DTSTAMP:20260423T113555
CREATED:20230714T092858Z
LAST-MODIFIED:20230714T092858Z
UID:2746-1679480100-1679486400@standrewsunitedchurch.co.uk
SUMMARY:MIDWEEK SERVICE & COFFEE MORNING
DESCRIPTION:Midweek Service & Coffee Morning \n10:15 am – 12:00 pm\n\nAll are welcome to attend this service starting at 10:15 am every Wednesday\, apart from Wednesdays following Christmas and Easter.\n\nJoin our coffee morning straight after the service from 11:00am – 12:00pm
URL:https://standrewsunitedchurch.co.uk/event/midweek-service-coffee-morning-17/
END:VEVENT
BEGIN:VEVENT
DTSTART;TZID=UTC:20230320T100000
DTEND;TZID=UTC:20230320T110000
DTSTAMP:20260423T113555
CREATED:20230714T084911Z
LAST-MODIFIED:20230714T084911Z
UID:2679-1679306400-1679310000@standrewsunitedchurch.co.uk
SUMMARY:STAY & PLAY
DESCRIPTION:STAY & PLAY \n\n\n\n\nMonday’s 10:00am – 11:00am – TERM TIME ONLY \nAt St Andrew’s United Church Rowson Street New Brighton CH45 2LY \nFor more information ring Seacombe Children Centre on:\n0151 666 3506.
URL:https://standrewsunitedchurch.co.uk/event/stay-play-14/
END:VEVENT
BEGIN:VEVENT
DTSTART;TZID=UTC:20230319T103000
DTEND;TZID=UTC:20230319T113000
DTSTAMP:20260423T113555
CREATED:20230113T091715Z
LAST-MODIFIED:20230309T123328Z
UID:2296-1679221800-1679225400@standrewsunitedchurch.co.uk
SUMMARY:MOTHERING SUNDAY - FAMILY SERVICE
DESCRIPTION:Sunday morning services starts at 10.30 a.m. \nRevd. Lorraine Aizlewood-Threlfall \nLent 4 \nMothering Sunday
URL:https://standrewsunitedchurch.co.uk/event/morning-service-43/
LOCATION:St Andew’s United Church\, CH45 2LY
END:VEVENT
BEGIN:VEVENT
DTSTART;TZID=UTC:20230317T140000
DTEND;TZID=UTC:20230317T160000
DTSTAMP:20260423T113555
CREATED:20230309T122357Z
LAST-MODIFIED:20230309T122357Z
UID:2420-1679061600-1679068800@standrewsunitedchurch.co.uk
SUMMARY:KNIT & NATTER
DESCRIPTION:Knit & Natter\n\nCome and join this friendly group – meet new people\, learn new skills – whether knitting or crochet\, make new friends and join in future projects. The members have made a variety of items supporting various charities over the years – including blankets\, premature baby clothes\, hats\, knitted toys and items for Christmas. There is a stockpile of wool and knitting needles\, so no initial outlay. Bring along something you have started or something you are about to start. So whether you are a beginner or skilled knitter or just want to come along to find out what we are all about – you will be made very welcome. \n\n\n\nItems made supporting various charity projects such as Charles Thompson Mission\, Mission to Seafarers\, Premature Baby Unit at Arrowe Park Hospital\, plus Twiddle Muffs and Blankets for local residential homes. Whether you are a beginner or an accomplished knitter\, you will be made very welcome. \nEvery Friday from 2pm – 4pm – TERM TIME ONLY
URL:https://standrewsunitedchurch.co.uk/event/knit-natter-18/
END:VEVENT
BEGIN:VEVENT
DTSTART;TZID=UTC:20230317T100000
DTEND;TZID=UTC:20230317T140000
DTSTAMP:20260423T113555
CREATED:20230309T115510Z
LAST-MODIFIED:20230309T115510Z
UID:2391-1679047200-1679061600@standrewsunitedchurch.co.uk
SUMMARY:WARM WELCOME - FRIDAYS @ ST ANDREW'S
DESCRIPTION:Every Friday until the end of March.  From 10-12 noon Coffee\, Tea & Toast.  From 12 noon until 2 pm Soup & Sandwich plus Tea & Coffee. \nEveryone Welcome
URL:https://standrewsunitedchurch.co.uk/event/warm-welcome-fridays-st-andrews-2/
END:VEVENT
BEGIN:VEVENT
DTSTART;TZID=UTC:20230316T100000
DTEND;TZID=UTC:20230316T113000
DTSTAMP:20260423T113555
CREATED:20220930T082539Z
LAST-MODIFIED:20230222T082817Z
UID:2143-1678960800-1678966200@standrewsunitedchurch.co.uk
SUMMARY:TODDLER GROUP
DESCRIPTION:TODDLER GROUP 10 – 11.30 am Thursdays during Term Time\, for 0-4 year olds with activities including games\, crafts\, play area\, dressing up and much more.  
URL:https://standrewsunitedchurch.co.uk/event/toddler-group-40/
LOCATION:St Andew’s United Church\, CH45 2LY
END:VEVENT
BEGIN:VEVENT
DTSTART;TZID=UTC:20230315T101500
DTEND;TZID=UTC:20230315T120000
DTSTAMP:20260423T113555
CREATED:20230714T092734Z
LAST-MODIFIED:20230714T092734Z
UID:2742-1678875300-1678881600@standrewsunitedchurch.co.uk
SUMMARY:MIDWEEK SERVICE & COFFEE MORNING
DESCRIPTION:Midweek Service & Coffee Morning \n10:15 am – 12:00 pm\n\nAll are welcome to attend this service starting at 10:15 am every Wednesday\, apart from Wednesdays following Christmas and Easter.\n\nJoin our coffee morning straight after the service from 11:00am – 12:00pm
URL:https://standrewsunitedchurch.co.uk/event/midweek-service-coffee-morning-15/
END:VEVENT
BEGIN:VEVENT
DTSTART;TZID=UTC:20230313T100000
DTEND;TZID=UTC:20230313T110000
DTSTAMP:20260423T113555
CREATED:20230714T084834Z
LAST-MODIFIED:20230714T084834Z
UID:2677-1678701600-1678705200@standrewsunitedchurch.co.uk
SUMMARY:STAY & PLAY
DESCRIPTION:STAY & PLAY \n\n\n\n\nMonday’s 10:00am – 11:00am – TERM TIME ONLY \nAt St Andrew’s United Church Rowson Street New Brighton CH45 2LY \nFor more information ring Seacombe Children Centre on:\n0151 666 3506.
URL:https://standrewsunitedchurch.co.uk/event/stay-play-13/
END:VEVENT
BEGIN:VEVENT
DTSTART;TZID=UTC:20230313T100000
DTEND;TZID=UTC:20230313T110000
DTSTAMP:20260423T113555
CREATED:20230714T084800Z
LAST-MODIFIED:20230714T084800Z
UID:2675-1678701600-1678705200@standrewsunitedchurch.co.uk
SUMMARY:STAY & PLAY
DESCRIPTION:STAY & PLAY \nMonday’s 10:00am – 11:00am – TERM TIME ONLY \nAt St Andrew’s United Church Rowson Street New Brighton CH45 2LY \nFor more information ring Seacombe Children Centre on:\n0151 666 3506.
URL:https://standrewsunitedchurch.co.uk/event/stay-play-12/
END:VEVENT
BEGIN:VEVENT
DTSTART;TZID=UTC:20230312T103000
DTEND;TZID=UTC:20230312T113000
DTSTAMP:20260423T113555
CREATED:20230113T091632Z
LAST-MODIFIED:20230113T091632Z
UID:2294-1678617000-1678620600@standrewsunitedchurch.co.uk
SUMMARY:Morning service
DESCRIPTION:Sunday morning services starts at 10.30 a.m. \nRevd. Lorraine Aizlewood-Threlfall \nLent \nMorning Worship
URL:https://standrewsunitedchurch.co.uk/event/morning-service-42/
LOCATION:St Andew’s United Church\, CH45 2LY
END:VEVENT
BEGIN:VEVENT
DTSTART;TZID=UTC:20230310T140000
DTEND;TZID=UTC:20230310T160000
DTSTAMP:20260423T113555
CREATED:20230309T122155Z
LAST-MODIFIED:20230309T123059Z
UID:2416-1678456800-1678464000@standrewsunitedchurch.co.uk
SUMMARY:KNIT & NATTER     -     CANCELLED TODAY
DESCRIPTION:Knit & Natter\n\nCome and join this friendly group – meet new people\, learn new skills – whether knitting or crochet\, make new friends and join in future projects. The members have made a variety of items supporting various charities over the years – including blankets\, premature baby clothes\, hats\, knitted toys and items for Christmas. There is a stockpile of wool and knitting needles\, so no initial outlay. Bring along something you have started or something you are about to start. So whether you are a beginner or skilled knitter or just want to come along to find out what we are all about – you will be made very welcome. \n\n\n\nItems made supporting various charity projects such as Charles Thompson Mission\, Mission to Seafarers\, Premature Baby Unit at Arrowe Park Hospital\, plus Twiddle Muffs and Blankets for local residential homes. Whether you are a beginner or an accomplished knitter\, you will be made very welcome. \nEvery Friday from 2pm – 4pm – TERM TIME ONLY
URL:https://standrewsunitedchurch.co.uk/event/knit-natter-16/
END:VEVENT
BEGIN:VEVENT
DTSTART;TZID=UTC:20230310T100000
DTEND;TZID=UTC:20230310T140000
DTSTAMP:20260423T113555
CREATED:20230309T090813Z
LAST-MODIFIED:20230309T122903Z
UID:2389-1678442400-1678456800@standrewsunitedchurch.co.uk
SUMMARY:WARM WELCOME - FRIDAYS @ ST ANDREW'S    CANCELLED TODAY
DESCRIPTION:Every Friday until the end of March.  From 10 – 12 noon  Coffee\, Tea & Toast. 12 noon until 2 pm Soup & Sandwich plus Tea or Coffee.  Everyone is welcome.
URL:https://standrewsunitedchurch.co.uk/event/warm-welcome-fridays-st-andrews/
END:VEVENT
BEGIN:VEVENT
DTSTART;TZID=UTC:20230309T100000
DTEND;TZID=UTC:20230309T113000
DTSTAMP:20260423T113555
CREATED:20220930T082625Z
LAST-MODIFIED:20230309T085946Z
UID:2145-1678356000-1678361400@standrewsunitedchurch.co.uk
SUMMARY:TODDLER GROUP - CANCELLED TODAY
DESCRIPTION:TODDLER GROUP 10 – 11.30 am Thursdays during Term Time\, for 0-4 year olds with activities including games\, crafts\, play area\, dressing up and much more.   \n  \nCANCELLED TODAY DUE TO WEATHER
URL:https://standrewsunitedchurch.co.uk/event/toddler-group-41/
LOCATION:St Andew’s United Church\, CH45 2LY
END:VEVENT
BEGIN:VEVENT
DTSTART;TZID=UTC:20230308T101500
DTEND;TZID=UTC:20230308T120000
DTSTAMP:20260423T113555
CREATED:20230714T092656Z
LAST-MODIFIED:20230714T092656Z
UID:2740-1678270500-1678276800@standrewsunitedchurch.co.uk
SUMMARY:MIDWEEK SERVICE & COFFEE MORNING
DESCRIPTION:Midweek Service & Coffee Morning \n10:15 am – 12:00 pm\n\nAll are welcome to attend this service starting at 10:15 am every Wednesday\, apart from Wednesdays following Christmas and Easter.\n\nJoin our coffee morning straight after the service from 11:00am – 12:00pm
URL:https://standrewsunitedchurch.co.uk/event/midweek-service-coffee-morning-14/
END:VEVENT
BEGIN:VEVENT
DTSTART;TZID=UTC:20230306T100000
DTEND;TZID=UTC:20230306T110000
DTSTAMP:20260423T113555
CREATED:20230714T084726Z
LAST-MODIFIED:20230714T084726Z
UID:2673-1678096800-1678100400@standrewsunitedchurch.co.uk
SUMMARY:STAY & PLAY
DESCRIPTION:STAY & PLAY \n\n\n\n\nMonday’s 10:00am – 11:00am – TERM TIME ONLY \nAt St Andrew’s United Church Rowson Street New Brighton CH45 2LY \nFor more information ring Seacombe Children Centre on:\n0151 666 3506.
URL:https://standrewsunitedchurch.co.uk/event/stay-play-11/
END:VEVENT
BEGIN:VEVENT
DTSTART;TZID=UTC:20230305T103000
DTEND;TZID=UTC:20230305T113000
DTSTAMP:20260423T113555
CREATED:20230113T091539Z
LAST-MODIFIED:20230309T123216Z
UID:2292-1678012200-1678015800@standrewsunitedchurch.co.uk
SUMMARY:HOLY COMMUNION SERVICE
DESCRIPTION:Sunday morning services starts at 10.30 a.m. \nRevd. George Palmer \nLent \nHoly Communion
URL:https://standrewsunitedchurch.co.uk/event/morning-service-41/
LOCATION:St Andew’s United Church\, CH45 2LY
END:VEVENT
BEGIN:VEVENT
DTSTART;TZID=UTC:20230303T140000
DTEND;TZID=UTC:20230303T160000
DTSTAMP:20260423T113555
CREATED:20230309T122055Z
LAST-MODIFIED:20230309T122055Z
UID:2414-1677852000-1677859200@standrewsunitedchurch.co.uk
SUMMARY:KNIT & NATTER
DESCRIPTION:Knit & Natter\n\nCome and join this friendly group – meet new people\, learn new skills – whether knitting or crochet\, make new friends and join in future projects. The members have made a variety of items supporting various charities over the years – including blankets\, premature baby clothes\, hats\, knitted toys and items for Christmas. There is a stockpile of wool and knitting needles\, so no initial outlay. Bring along something you have started or something you are about to start. So whether you are a beginner or skilled knitter or just want to come along to find out what we are all about – you will be made very welcome. \n\n\n\nItems made supporting various charity projects such as Charles Thompson Mission\, Mission to Seafarers\, Premature Baby Unit at Arrowe Park Hospital\, plus Twiddle Muffs and Blankets for local residential homes. Whether you are a beginner or an accomplished knitter\, you will be made very welcome. \nEvery Friday from 2pm – 4pm – TERM TIME ONLY
URL:https://standrewsunitedchurch.co.uk/event/knit-natter-15/
END:VEVENT
BEGIN:VEVENT
DTSTART;TZID=UTC:20230302T100000
DTEND;TZID=UTC:20230302T113000
DTSTAMP:20260423T113555
CREATED:20220930T081749Z
LAST-MODIFIED:20220930T081749Z
UID:2137-1677751200-1677756600@standrewsunitedchurch.co.uk
SUMMARY:TODDLER GROUP
DESCRIPTION:TODDLER GROUP 10 – 11.30 am Thursdays during Term Time\, for 0-4 year olds with activities including games\, crafts\, play area\, dressing up and much more.  
URL:https://standrewsunitedchurch.co.uk/event/toddler-group-38/
END:VEVENT
BEGIN:VEVENT
DTSTART;TZID=UTC:20230301T101500
DTEND;TZID=UTC:20230301T120000
DTSTAMP:20260423T113555
CREATED:20230714T092603Z
LAST-MODIFIED:20230714T092603Z
UID:2738-1677665700-1677672000@standrewsunitedchurch.co.uk
SUMMARY:MIDWEEK SERVICE & COFFEE MORNING
DESCRIPTION:Midweek Service & Coffee Morning \n10:15 am – 12:00 pm\n\nAll are welcome to attend this service starting at 10:15 am every Wednesday\, apart from Wednesdays following Christmas and Easter.\n\nJoin our coffee morning straight after the service from 11:00am – 12:00pm
URL:https://standrewsunitedchurch.co.uk/event/midweek-service-coffee-morning-13/
END:VEVENT
BEGIN:VEVENT
DTSTART;TZID=UTC:20230227T100000
DTEND;TZID=UTC:20230227T110000
DTSTAMP:20260423T113555
CREATED:20230714T085401Z
LAST-MODIFIED:20230714T085401Z
UID:2689-1677492000-1677495600@standrewsunitedchurch.co.uk
SUMMARY:STAY & PLAY
DESCRIPTION:STAY & PLAY \n\n\n\n\nMonday’s 10:00am – 11:00am – TERM TIME ONLY \nAt St Andrew’s United Church Rowson Street New Brighton CH45 2LY \nFor more information ring Seacombe Children Centre on:\n0151 666 3506.
URL:https://standrewsunitedchurch.co.uk/event/stay-play-18/
END:VEVENT
BEGIN:VEVENT
DTSTART;TZID=UTC:20230226T143000
DTEND;TZID=UTC:20230226T163000
DTSTAMP:20260423T113555
CREATED:20230126T112034Z
LAST-MODIFIED:20230126T112034Z
UID:2330-1677421800-1677429000@standrewsunitedchurch.co.uk
SUMMARY:Peter Pan the Panto
DESCRIPTION:The Seacombe Players present:\nPeter Pan the Panto \nFriday 24th February 7.30 pm \nSaturday 25th February 2.30 pm \nSunday 26th February 2.30 pm \nat Seacombe United Reformed Church\, Brougham Road\, CH44 6PW \nTicket prices: £5 adults and £3 children \nRing Jean 0151 630 7006 or Anne 0151 638 1004 for tickets
URL:https://standrewsunitedchurch.co.uk/event/peter-pan-the-panto-3/
LOCATION:Seacombe United Reformed Church\, Brougham Road\, Seacombe\, CH44 6PW\, United Kingdom
END:VEVENT
BEGIN:VEVENT
DTSTART;TZID=UTC:20230226T103000
DTEND;TZID=UTC:20230226T113000
DTSTAMP:20260423T113555
CREATED:20230113T091441Z
LAST-MODIFIED:20230113T102821Z
UID:2290-1677407400-1677411000@standrewsunitedchurch.co.uk
SUMMARY:Morning service
DESCRIPTION:Sunday morning services starts at 10.30 a.m. \nRevd. Lorraine Aizlewood-Threlfall \nLent
URL:https://standrewsunitedchurch.co.uk/event/morning-service-40/
LOCATION:St Andew’s United Church\, CH45 2LY
END:VEVENT
BEGIN:VEVENT
DTSTART;TZID=UTC:20230225T143000
DTEND;TZID=UTC:20230225T163000
DTSTAMP:20260423T113555
CREATED:20230126T112008Z
LAST-MODIFIED:20230126T112008Z
UID:2328-1677335400-1677342600@standrewsunitedchurch.co.uk
SUMMARY:Peter Pan the Panto
DESCRIPTION:The Seacombe Players present:\nPeter Pan the Panto \nFriday 24th February 7.30 pm \nSaturday 25th February 2.30 pm \nSunday 26th February 2.30 pm \nat Seacombe United Reformed Church\, Brougham Road\, CH44 6PW \nTicket prices: £5 adults and £3 children \nRing Jean 0151 630 7006 or Anne 0151 638 1004 for tickets
URL:https://standrewsunitedchurch.co.uk/event/peter-pan-the-panto-2/
LOCATION:Seacombe United Reformed Church\, Brougham Road\, Seacombe\, CH44 6PW\, United Kingdom
END:VEVENT
END:VCALENDAR