BEGIN:VCALENDAR
VERSION:2.0
PRODID:-// - ECPv6.15.17//NONSGML v1.0//EN
CALSCALE:GREGORIAN
METHOD:PUBLISH
X-ORIGINAL-URL:https://standrewsunitedchurch.co.uk
X-WR-CALDESC:Events for 
REFRESH-INTERVAL;VALUE=DURATION:PT1H
X-Robots-Tag:noindex
X-PUBLISHED-TTL:PT1H
BEGIN:VTIMEZONE
TZID:UTC
BEGIN:STANDARD
TZOFFSETFROM:+0000
TZOFFSETTO:+0000
TZNAME:UTC
DTSTART:20210101T000000
END:STANDARD
END:VTIMEZONE
BEGIN:VEVENT
DTSTART;VALUE=DATE:20230213
DTEND;VALUE=DATE:20230214
DTSTAMP:20260423T153727
CREATED:20230714T085241Z
LAST-MODIFIED:20230714T085241Z
UID:2685-1676246400-1676332799@standrewsunitedchurch.co.uk
SUMMARY:HALF TERM WEEK
DESCRIPTION:
URL:https://standrewsunitedchurch.co.uk/event/half-term-week/
END:VEVENT
BEGIN:VEVENT
DTSTART;TZID=UTC:20230212T103000
DTEND;TZID=UTC:20230212T113000
DTSTAMP:20260423T153727
CREATED:20230113T091039Z
LAST-MODIFIED:20230113T091039Z
UID:2284-1676197800-1676201400@standrewsunitedchurch.co.uk
SUMMARY:Morning service
DESCRIPTION:Sunday morning services starts at 10.30 a.m. \nMr David Powell \nMorning Service
URL:https://standrewsunitedchurch.co.uk/event/morning-service-38/
LOCATION:St Andew’s United Church\, CH45 2LY
END:VEVENT
BEGIN:VEVENT
DTSTART;TZID=UTC:20230210T100000
DTEND;TZID=UTC:20230210T140000
DTSTAMP:20260423T153727
CREATED:20230309T120415Z
LAST-MODIFIED:20230309T120415Z
UID:2403-1676023200-1676037600@standrewsunitedchurch.co.uk
SUMMARY:WARM WELCOME - FRIDAYS @ ST ANDREW'S
DESCRIPTION:Every Friday until the end of March.  From 10 – 12 noon Coffee Tea & Toast.  From 12 – 2 pm Soup & Sandwich plus Tea & Coffee. \nEVERYONE WELCOME
URL:https://standrewsunitedchurch.co.uk/event/warm-welcome-fridays-st-andrews-6/
END:VEVENT
BEGIN:VEVENT
DTSTART;TZID=UTC:20230209T100000
DTEND;TZID=UTC:20230209T113000
DTSTAMP:20260423T153727
CREATED:20220930T081226Z
LAST-MODIFIED:20220930T081401Z
UID:2131-1675936800-1675942200@standrewsunitedchurch.co.uk
SUMMARY:TODDLER GROUP
DESCRIPTION:TODDLER GROUP 10 – 11.30 am Thursdays during Term Time\, for 0-4 year olds with activities including games\, crafts\, play area\, dressing up and much more.  
URL:https://standrewsunitedchurch.co.uk/event/toddler-group-36/
END:VEVENT
BEGIN:VEVENT
DTSTART;TZID=UTC:20230208T101500
DTEND;TZID=UTC:20230208T120000
DTSTAMP:20260423T153727
CREATED:20220722T145617Z
LAST-MODIFIED:20230124T090016Z
UID:2010-1675851300-1675857600@standrewsunitedchurch.co.uk
SUMMARY:Midweek service & Coffee morning
DESCRIPTION:Midweek service & Coffee morning \n10:15 am – 12:00 pm\n\nAll are welcome to attend this service starting at 10:15 am every Wednesday\, apart from Wednesdays following Christmas and Easter.\n\nJoin our coffee morning straight after the service from 11:00am – 12:00pm
URL:https://standrewsunitedchurch.co.uk/event/midweek-service-coffee-morning-10/
LOCATION:St Andew’s United Church\, CH45 2LY
END:VEVENT
BEGIN:VEVENT
DTSTART;TZID=UTC:20230206T100000
DTEND;TZID=UTC:20230206T110000
DTSTAMP:20260423T153727
CREATED:20230714T085039Z
LAST-MODIFIED:20230714T085039Z
UID:2683-1675677600-1675681200@standrewsunitedchurch.co.uk
SUMMARY:STAY & PLAY
DESCRIPTION:STAY & PLAY \n\n\n\n\nMonday’s 10:00am – 11:00am – TERM TIME ONLY \nAt St Andrew’s United Church Rowson Street New Brighton CH45 2LY \nFor more information ring Seacombe Children Centre on:\n0151 666 3506.
URL:https://standrewsunitedchurch.co.uk/event/stay-play-16/
END:VEVENT
BEGIN:VEVENT
DTSTART;TZID=UTC:20230205T103000
DTEND;TZID=UTC:20230205T113000
DTSTAMP:20260423T153727
CREATED:20230113T090946Z
LAST-MODIFIED:20230113T090946Z
UID:2282-1675593000-1675596600@standrewsunitedchurch.co.uk
SUMMARY:Morning service
DESCRIPTION:Sunday morning services starts at 10.30 a.m. \nRevd. Lorraine Aizlewood-Threlfall \nHoly Communion
URL:https://standrewsunitedchurch.co.uk/event/morning-service-37/
LOCATION:St Andew’s United Church\, CH45 2LY
END:VEVENT
BEGIN:VEVENT
DTSTART;TZID=UTC:20230203T100000
DTEND;TZID=UTC:20230203T140000
DTSTAMP:20260423T153727
CREATED:20230309T120323Z
LAST-MODIFIED:20230309T120323Z
UID:2401-1675418400-1675432800@standrewsunitedchurch.co.uk
SUMMARY:WARM WELCOME - FRIDAYS @ ST ANDREW'S
DESCRIPTION:Every Friday until the end of March.  From 10 – 12 noon Coffee Tea & Toast.  From 12 – 2 pm Soup & Sandwich plus Tea & Coffee. \nEVERYONE WELCOME
URL:https://standrewsunitedchurch.co.uk/event/warm-welcome-fridays-st-andrews-5/
END:VEVENT
BEGIN:VEVENT
DTSTART;TZID=UTC:20230202T100000
DTEND;TZID=UTC:20230202T113000
DTSTAMP:20260423T153727
CREATED:20220930T081136Z
LAST-MODIFIED:20220930T081136Z
UID:2129-1675332000-1675337400@standrewsunitedchurch.co.uk
SUMMARY:TODDLER GROUP
DESCRIPTION:TODDLER GROUP 10 – 11.30 am Thursdays during Term Time\, for 0-4 year olds with activities including games\, crafts\, play area\, dressing up and much more.  
URL:https://standrewsunitedchurch.co.uk/event/toddler-group-35/
END:VEVENT
BEGIN:VEVENT
DTSTART;TZID=UTC:20230201T101500
DTEND;TZID=UTC:20230201T120000
DTSTAMP:20260423T153727
CREATED:20220722T145707Z
LAST-MODIFIED:20230124T085931Z
UID:2012-1675246500-1675252800@standrewsunitedchurch.co.uk
SUMMARY:Midweek service & Coffee morning
DESCRIPTION:Midweek service & Coffee morning \n10:15 am – 12:00 pm\n\nAll are welcome to attend this service starting at 10:15 am every Wednesday\, apart from Wednesdays following Christmas and Easter.\n\nJoin our coffee morning straight after the service from 11:00am – 12:00pm
URL:https://standrewsunitedchurch.co.uk/event/midweek-service-coffee-morning-11/
LOCATION:St Andew’s United Church\, CH45 2LY
END:VEVENT
BEGIN:VEVENT
DTSTART;TZID=UTC:20230130T100000
DTEND;TZID=UTC:20230130T110000
DTSTAMP:20260423T153727
CREATED:20230714T085921Z
LAST-MODIFIED:20230714T085921Z
UID:2697-1675072800-1675076400@standrewsunitedchurch.co.uk
SUMMARY:STAY & PLAY
DESCRIPTION:STAY & PLAY \n\n\n\n\nMonday’s 10:00am – 11:00am – TERM TIME ONLY \nAt St Andrew’s United Church Rowson Street New Brighton CH45 2LY \nFor more information ring Seacombe Children Centre on:\n0151 666 3506.
URL:https://standrewsunitedchurch.co.uk/event/stay-play-22/
END:VEVENT
BEGIN:VEVENT
DTSTART;TZID=UTC:20230129T103000
DTEND;TZID=UTC:20230129T113000
DTSTAMP:20260423T153727
CREATED:20230113T090904Z
LAST-MODIFIED:20230113T090904Z
UID:2280-1674988200-1674991800@standrewsunitedchurch.co.uk
SUMMARY:Morning service
DESCRIPTION:Sunday morning services starts at 10.30 a.m. \nRevd. Lorraine Aizlewood-Threlfall \nHealing Service
URL:https://standrewsunitedchurch.co.uk/event/morning-service-36/
LOCATION:St Andew’s United Church\, CH45 2LY
END:VEVENT
BEGIN:VEVENT
DTSTART;TZID=UTC:20230126T100000
DTEND;TZID=UTC:20230126T113000
DTSTAMP:20260423T153727
CREATED:20220930T081030Z
LAST-MODIFIED:20220930T081030Z
UID:2127-1674727200-1674732600@standrewsunitedchurch.co.uk
SUMMARY:TODDLER GROUP
DESCRIPTION:TODDLER GROUP 10 – 11.30 am Thursdays during Term Time\, for 0-4 year olds with activities including games\, crafts\, play area\, dressing up and much more.  
URL:https://standrewsunitedchurch.co.uk/event/toddler-group-34/
END:VEVENT
BEGIN:VEVENT
DTSTART;TZID=UTC:20230125T101500
DTEND;TZID=UTC:20230125T120000
DTSTAMP:20260423T153727
CREATED:20220722T150011Z
LAST-MODIFIED:20230124T085848Z
UID:2014-1674641700-1674648000@standrewsunitedchurch.co.uk
SUMMARY:Midweek service & Coffee morning
DESCRIPTION:Midweek service & Coffee morning \n10:15 am – 12:00 pm\n\nAll are welcome to attend this service starting at 10:15 am every Wednesday\, apart from Wednesdays following Christmas and Easter.\n\nJoin our coffee morning straight after the service from 11:00am – 12:00pm
URL:https://standrewsunitedchurch.co.uk/event/midweek-service-coffee-morning-12/
LOCATION:St Andew’s United Church\, CH45 2LY
END:VEVENT
BEGIN:VEVENT
DTSTART;TZID=UTC:20230123T100000
DTEND;TZID=UTC:20230123T110000
DTSTAMP:20260423T153727
CREATED:20230714T085845Z
LAST-MODIFIED:20230714T085845Z
UID:2695-1674468000-1674471600@standrewsunitedchurch.co.uk
SUMMARY:STAY & PLAY
DESCRIPTION:STAY & PLAY \n\n\n\n\nMonday’s 10:00am – 11:00am – TERM TIME ONLY \nAt St Andrew’s United Church Rowson Street New Brighton CH45 2LY \nFor more information ring Seacombe Children Centre on:\n0151 666 3506.
URL:https://standrewsunitedchurch.co.uk/event/stay-play-21/
END:VEVENT
BEGIN:VEVENT
DTSTART;TZID=UTC:20230122T103000
DTEND;TZID=UTC:20230122T113000
DTSTAMP:20260423T153727
CREATED:20230113T090821Z
LAST-MODIFIED:20230113T090821Z
UID:2278-1674383400-1674387000@standrewsunitedchurch.co.uk
SUMMARY:Morning service
DESCRIPTION:Sunday morning services starts at 10.30 a.m. \nRevd. Heather MacLeod \nMorning Worship
URL:https://standrewsunitedchurch.co.uk/event/morning-service-35/
LOCATION:St Andew’s United Church\, CH45 2LY
END:VEVENT
BEGIN:VEVENT
DTSTART;TZID=UTC:20230121T103000
DTEND;TZID=UTC:20230121T120000
DTSTAMP:20260423T153727
CREATED:20230105T092552Z
LAST-MODIFIED:20230105T092552Z
UID:2270-1674297000-1674302400@standrewsunitedchurch.co.uk
SUMMARY:Coffee morning and book sale
DESCRIPTION:Coffee morning and book Sale \nSaturday 21st January\n10.30 am – 12 noon\nEveryone Welcome
URL:https://standrewsunitedchurch.co.uk/event/coffee-morning-and-book-sale/
LOCATION:St Andew’s United Church\, CH45 2LY
END:VEVENT
BEGIN:VEVENT
DTSTART;TZID=UTC:20230119T100000
DTEND;TZID=UTC:20230119T113000
DTSTAMP:20260423T153727
CREATED:20220930T080915Z
LAST-MODIFIED:20220930T080919Z
UID:2125-1674122400-1674127800@standrewsunitedchurch.co.uk
SUMMARY:TODDLER GROUP
DESCRIPTION:TODDLER GROUP 10 – 11.30 am Thursdays during Term Time\, for 0-4 year olds with activities including games\, crafts\, play area\, dressing up and much more.  
URL:https://standrewsunitedchurch.co.uk/event/toddler-group-33/
END:VEVENT
BEGIN:VEVENT
DTSTART;TZID=UTC:20230118T101500
DTEND;TZID=UTC:20230118T120000
DTSTAMP:20260423T153727
CREATED:20220429T073936Z
LAST-MODIFIED:20230113T103236Z
UID:1736-1674036900-1674043200@standrewsunitedchurch.co.uk
SUMMARY:Midweek service & Coffee morning
DESCRIPTION:All are welcome to attend this service starting at 10:30 am every Wednesday\, apart from Wednesdays following Christmas and Easter. \nJoin us for refreshments straight after the service.
URL:https://standrewsunitedchurch.co.uk/event/midweek-service-11/
LOCATION:St Andew’s United Church\, CH45 2LY
END:VEVENT
BEGIN:VEVENT
DTSTART;TZID=UTC:20230116T100000
DTEND;TZID=UTC:20230116T110000
DTSTAMP:20260423T153727
CREATED:20230714T085808Z
LAST-MODIFIED:20230714T085808Z
UID:2693-1673863200-1673866800@standrewsunitedchurch.co.uk
SUMMARY:STAY & PLAY
DESCRIPTION:STAY & PLAY \nMonday’s 10:00am – 11:00am – TERM TIME ONLY \nAt St Andrew’s United Church Rowson Street New Brighton CH45 2LY \nFor more information ring Seacombe Children Centre on:\n0151 666 3506.
URL:https://standrewsunitedchurch.co.uk/event/stay-play-20/
END:VEVENT
BEGIN:VEVENT
DTSTART;TZID=UTC:20230115T103000
DTEND;TZID=UTC:20230115T113000
DTSTAMP:20260423T153727
CREATED:20230113T090725Z
LAST-MODIFIED:20230113T090725Z
UID:2276-1673778600-1673782200@standrewsunitedchurch.co.uk
SUMMARY:Morning worship
DESCRIPTION:Sunday morning services starts at 10.30 a.m. \nRevd. Lorraine Aizlewood-Threlfall \nMorning Worship & Baptism
URL:https://standrewsunitedchurch.co.uk/event/morning-worship-3/
LOCATION:St Andew’s United Church\, CH45 2LY
END:VEVENT
BEGIN:VEVENT
DTSTART;TZID=UTC:20230112T100000
DTEND;TZID=UTC:20230112T113000
DTSTAMP:20260423T153727
CREATED:20220930T080814Z
LAST-MODIFIED:20220930T080814Z
UID:2123-1673517600-1673523000@standrewsunitedchurch.co.uk
SUMMARY:TODDLER GROUP
DESCRIPTION:TODDLER GROUP 10 – 11.30 am Thursdays during Term Time\, for 0-4 year olds with activities including games\, crafts\, play area\, dressing up and much more.  
URL:https://standrewsunitedchurch.co.uk/event/toddler-group-32/
END:VEVENT
BEGIN:VEVENT
DTSTART;TZID=UTC:20230109T100000
DTEND;TZID=UTC:20230109T110000
DTSTAMP:20260423T153727
CREATED:20230714T085728Z
LAST-MODIFIED:20230714T085728Z
UID:2691-1673258400-1673262000@standrewsunitedchurch.co.uk
SUMMARY:STAY & PLAY
DESCRIPTION:STAY & PLAY \n\n\n\n\nMonday’s 10:00am – 11:00am – TERM TIME ONLY \nAt St Andrew’s United Church Rowson Street New Brighton CH45 2LY \nFor more information ring Seacombe Children Centre on:\n0151 666 3506.
URL:https://standrewsunitedchurch.co.uk/event/stay-play-19/
END:VEVENT
BEGIN:VEVENT
DTSTART;TZID=UTC:20230101T103000
DTEND;TZID=UTC:20230101T120000
DTSTAMP:20260423T153727
CREATED:20221024T071213Z
LAST-MODIFIED:20221024T071213Z
UID:2206-1672569000-1672574400@standrewsunitedchurch.co.uk
SUMMARY:Welcome 2023 service
DESCRIPTION:
URL:https://standrewsunitedchurch.co.uk/event/welcome-2023-service/
LOCATION:St Andew’s United Church\, CH45 2LY
END:VEVENT
BEGIN:VEVENT
DTSTART;TZID=UTC:20221225T110000
DTEND;TZID=UTC:20221225T123000
DTSTAMP:20260423T153727
CREATED:20221024T071040Z
LAST-MODIFIED:20221024T071040Z
UID:2204-1671966000-1671971400@standrewsunitedchurch.co.uk
SUMMARY:Christmas Day service
DESCRIPTION:
URL:https://standrewsunitedchurch.co.uk/event/christmas-day-service/
LOCATION:St Andew’s United Church\, CH45 2LY
END:VEVENT
BEGIN:VEVENT
DTSTART;TZID=UTC:20221224T113000
DTEND;TZID=UTC:20221224T130000
DTSTAMP:20260423T153727
CREATED:20221024T071009Z
LAST-MODIFIED:20221024T071009Z
UID:2202-1671881400-1671886800@standrewsunitedchurch.co.uk
SUMMARY:First Christmas communion
DESCRIPTION:
URL:https://standrewsunitedchurch.co.uk/event/first-christmas-communion/
LOCATION:St Andew’s United Church\, CH45 2LY
END:VEVENT
BEGIN:VEVENT
DTSTART;TZID=UTC:20221218T160000
DTEND;TZID=UTC:20221218T180000
DTSTAMP:20260423T153727
CREATED:20221024T070934Z
LAST-MODIFIED:20221024T070934Z
UID:2200-1671379200-1671386400@standrewsunitedchurch.co.uk
SUMMARY:Christmas remembrance service
DESCRIPTION:
URL:https://standrewsunitedchurch.co.uk/event/christmas-remembrance-service-2/
LOCATION:St Andew’s United Church\, CH45 2LY
END:VEVENT
BEGIN:VEVENT
DTSTART;TZID=UTC:20221216T140000
DTEND;TZID=UTC:20221216T160000
DTSTAMP:20260423T153727
CREATED:20230714T091930Z
LAST-MODIFIED:20230714T091930Z
UID:2736-1671199200-1671206400@standrewsunitedchurch.co.uk
SUMMARY:KNIT & NATTER
DESCRIPTION:Knit & Natter\n\nCome and join this friendly group – meet new people\, learn new skills – whether knitting or crochet\, make new friends and join in future projects. The members have made a variety of items supporting various charities over the years – including blankets\, premature baby clothes\, hats\, knitted toys and items for Christmas. There is a stockpile of wool and knitting needles\, so no initial outlay. Bring along something you have started or something you are about to start. So whether you are a beginner or skilled knitter or just want to come along to find out what we are all about – you will be made very welcome. \n\n\n\nItems made supporting various charity projects such as Charles Thompson Mission\, Mission to Seafarers\, Premature Baby Unit at Arrowe Park Hospital\, plus Twiddle Muffs and Blankets for local residential homes. Whether you are a beginner or an accomplished knitter\, you will be made very welcome. \nEvery Friday from 2pm – 4pm – TERM TIME ONLY
URL:https://standrewsunitedchurch.co.uk/event/knit-natter-47/
END:VEVENT
BEGIN:VEVENT
DTSTART;TZID=UTC:20221215T100000
DTEND;TZID=UTC:20221215T113000
DTSTAMP:20260423T153727
CREATED:20230714T091048Z
LAST-MODIFIED:20230714T091048Z
UID:2720-1671098400-1671103800@standrewsunitedchurch.co.uk
SUMMARY:TODDLER GROUP
DESCRIPTION:TODDLER GROUP 10 – 11.30 am Thursdays during Term Time\, for 0-4 year olds with activities including games\, crafts\, play area\, dressing up and much more.
URL:https://standrewsunitedchurch.co.uk/event/toddler-group-65/
END:VEVENT
BEGIN:VEVENT
DTSTART;TZID=UTC:20221214T120000
DTEND;TZID=UTC:20221214T150000
DTSTAMP:20260423T153727
CREATED:20221024T070849Z
LAST-MODIFIED:20221024T070849Z
UID:2198-1671019200-1671030000@standrewsunitedchurch.co.uk
SUMMARY:Christmas church lunch
DESCRIPTION:
URL:https://standrewsunitedchurch.co.uk/event/christmas-church-lunch/
LOCATION:St Andew’s United Church\, CH45 2LY
END:VEVENT
END:VCALENDAR