BEGIN:VCALENDAR
VERSION:2.0
PRODID:-// - ECPv6.15.17//NONSGML v1.0//EN
CALSCALE:GREGORIAN
METHOD:PUBLISH
X-ORIGINAL-URL:https://standrewsunitedchurch.co.uk
X-WR-CALDESC:Events for 
REFRESH-INTERVAL;VALUE=DURATION:PT1H
X-Robots-Tag:noindex
X-PUBLISHED-TTL:PT1H
BEGIN:VTIMEZONE
TZID:UTC
BEGIN:STANDARD
TZOFFSETFROM:+0000
TZOFFSETTO:+0000
TZNAME:UTC
DTSTART:20210101T000000
END:STANDARD
END:VTIMEZONE
BEGIN:VEVENT
DTSTART;TZID=UTC:20221215T100000
DTEND;TZID=UTC:20221215T113000
DTSTAMP:20260423T235216
CREATED:20230714T091048Z
LAST-MODIFIED:20230714T091048Z
UID:2720-1671098400-1671103800@standrewsunitedchurch.co.uk
SUMMARY:TODDLER GROUP
DESCRIPTION:TODDLER GROUP 10 – 11.30 am Thursdays during Term Time\, for 0-4 year olds with activities including games\, crafts\, play area\, dressing up and much more.
URL:https://standrewsunitedchurch.co.uk/event/toddler-group-65/
END:VEVENT
BEGIN:VEVENT
DTSTART;TZID=UTC:20221214T120000
DTEND;TZID=UTC:20221214T150000
DTSTAMP:20260423T235216
CREATED:20221024T070849Z
LAST-MODIFIED:20221024T070849Z
UID:2198-1671019200-1671030000@standrewsunitedchurch.co.uk
SUMMARY:Christmas church lunch
DESCRIPTION:
URL:https://standrewsunitedchurch.co.uk/event/christmas-church-lunch/
LOCATION:St Andew’s United Church\, CH45 2LY
END:VEVENT
BEGIN:VEVENT
DTSTART;TZID=UTC:20221212T100000
DTEND;TZID=UTC:20221212T110000
DTSTAMP:20260423T235216
CREATED:20230714T090522Z
LAST-MODIFIED:20230714T090522Z
UID:2711-1670839200-1670842800@standrewsunitedchurch.co.uk
SUMMARY:STAY & PLAY
DESCRIPTION:STAY & PLAY \n\n\n\n\nMonday’s 10:00am – 11:00am – TERM TIME ONLY \nAt St Andrew’s United Church Rowson Street New Brighton CH45 2LY \nFor more information ring Seacombe Children Centre on:\n0151 666 3506.
URL:https://standrewsunitedchurch.co.uk/event/stay-play-29/
END:VEVENT
BEGIN:VEVENT
DTSTART;TZID=UTC:20221211T160000
DTEND;TZID=UTC:20221211T180000
DTSTAMP:20260423T235216
CREATED:20221024T070817Z
LAST-MODIFIED:20221024T070817Z
UID:2196-1670774400-1670781600@standrewsunitedchurch.co.uk
SUMMARY:Carols round the Tree & Afternoon tea
DESCRIPTION:
URL:https://standrewsunitedchurch.co.uk/event/carols-round-the-tree-afternoon-tea/
LOCATION:St Andew’s United Church\, CH45 2LY
END:VEVENT
BEGIN:VEVENT
DTSTART;TZID=UTC:20221209T140000
DTEND;TZID=UTC:20221209T160000
DTSTAMP:20260423T235216
CREATED:20230714T091854Z
LAST-MODIFIED:20230714T091854Z
UID:2734-1670594400-1670601600@standrewsunitedchurch.co.uk
SUMMARY:KNIT & NATTER
DESCRIPTION:Knit & Natter\n\nCome and join this friendly group – meet new people\, learn new skills – whether knitting or crochet\, make new friends and join in future projects. The members have made a variety of items supporting various charities over the years – including blankets\, premature baby clothes\, hats\, knitted toys and items for Christmas. There is a stockpile of wool and knitting needles\, so no initial outlay. Bring along something you have started or something you are about to start. So whether you are a beginner or skilled knitter or just want to come along to find out what we are all about – you will be made very welcome. \n\n\n\nItems made supporting various charity projects such as Charles Thompson Mission\, Mission to Seafarers\, Premature Baby Unit at Arrowe Park Hospital\, plus Twiddle Muffs and Blankets for local residential homes. Whether you are a beginner or an accomplished knitter\, you will be made very welcome. \nEvery Friday from 2pm – 4pm – TERM TIME ONLY
URL:https://standrewsunitedchurch.co.uk/event/knit-natter-46/
END:VEVENT
BEGIN:VEVENT
DTSTART;TZID=UTC:20221208T100000
DTEND;TZID=UTC:20221208T113000
DTSTAMP:20260423T235216
CREATED:20220930T080344Z
LAST-MODIFIED:20220930T080344Z
UID:2119-1670493600-1670499000@standrewsunitedchurch.co.uk
SUMMARY:TODDLER GROUP
DESCRIPTION:TODDLER GROUP 10 – 11.30 am Thursdays during Term Time\, for 0-4 year olds with activities including games\, crafts\, play area\, dressing up and much more.  
URL:https://standrewsunitedchurch.co.uk/event/toddler-group-30/
END:VEVENT
BEGIN:VEVENT
DTSTART;TZID=UTC:20221205T100000
DTEND;TZID=UTC:20221205T110000
DTSTAMP:20260423T235216
CREATED:20230714T090440Z
LAST-MODIFIED:20230714T090440Z
UID:2709-1670234400-1670238000@standrewsunitedchurch.co.uk
SUMMARY:STAY & PLAY
DESCRIPTION:STAY & PLAY \n\n\n\n\nMonday’s 10:00am – 11:00am – TERM TIME ONLY \nAt St Andrew’s United Church Rowson Street New Brighton CH45 2LY \nFor more information ring Seacombe Children Centre on:\n0151 666 3506.
URL:https://standrewsunitedchurch.co.uk/event/stay-play-28/
END:VEVENT
BEGIN:VEVENT
DTSTART;TZID=UTC:20221204T110000
DTEND;TZID=UTC:20221204T130000
DTSTAMP:20260423T235216
CREATED:20221024T070735Z
LAST-MODIFIED:20221024T070735Z
UID:2194-1670151600-1670158800@standrewsunitedchurch.co.uk
SUMMARY:Christmas Tree & Toy service
DESCRIPTION:
URL:https://standrewsunitedchurch.co.uk/event/christmas-tree-toy-service/
LOCATION:St Andew’s United Church\, CH45 2LY
END:VEVENT
BEGIN:VEVENT
DTSTART;TZID=UTC:20221203T110000
DTEND;TZID=UTC:20221203T130000
DTSTAMP:20260423T235216
CREATED:20221024T070635Z
LAST-MODIFIED:20221024T070635Z
UID:2192-1670065200-1670072400@standrewsunitedchurch.co.uk
SUMMARY:Christmas Fayre
DESCRIPTION:
URL:https://standrewsunitedchurch.co.uk/event/christmas-fayre/
LOCATION:St Andew’s United Church\, CH45 2LY
END:VEVENT
BEGIN:VEVENT
DTSTART;TZID=UTC:20221202T140000
DTEND;TZID=UTC:20221202T160000
DTSTAMP:20260423T235216
CREATED:20230714T091810Z
LAST-MODIFIED:20230714T091810Z
UID:2732-1669989600-1669996800@standrewsunitedchurch.co.uk
SUMMARY:KNIT & NATTER
DESCRIPTION:Knit & Natter\n\nCome and join this friendly group – meet new people\, learn new skills – whether knitting or crochet\, make new friends and join in future projects. The members have made a variety of items supporting various charities over the years – including blankets\, premature baby clothes\, hats\, knitted toys and items for Christmas. There is a stockpile of wool and knitting needles\, so no initial outlay. Bring along something you have started or something you are about to start. So whether you are a beginner or skilled knitter or just want to come along to find out what we are all about – you will be made very welcome. \n\n\n\nItems made supporting various charity projects such as Charles Thompson Mission\, Mission to Seafarers\, Premature Baby Unit at Arrowe Park Hospital\, plus Twiddle Muffs and Blankets for local residential homes. Whether you are a beginner or an accomplished knitter\, you will be made very welcome. \nEvery Friday from 2pm – 4pm – TERM TIME ONLY
URL:https://standrewsunitedchurch.co.uk/event/knit-natter-45/
END:VEVENT
BEGIN:VEVENT
DTSTART;TZID=UTC:20221201T100000
DTEND;TZID=UTC:20221201T113000
DTSTAMP:20260423T235216
CREATED:20220930T080251Z
LAST-MODIFIED:20220930T080251Z
UID:2117-1669888800-1669894200@standrewsunitedchurch.co.uk
SUMMARY:TODDLER GROUP
DESCRIPTION:TODDLER GROUP 10 – 11.30 am Thursdays during Term Time\, for 0-4 year olds with activities including games\, crafts\, play area\, dressing up and much more.  
URL:https://standrewsunitedchurch.co.uk/event/toddler-group-29/
END:VEVENT
BEGIN:VEVENT
DTSTART;TZID=UTC:20221128T100000
DTEND;TZID=UTC:20221128T110000
DTSTAMP:20260423T235216
CREATED:20230714T090403Z
LAST-MODIFIED:20230714T090403Z
UID:2707-1669629600-1669633200@standrewsunitedchurch.co.uk
SUMMARY:STAY & PLAY
DESCRIPTION:STAY & PLAY \n\n\n\n\nMonday’s 10:00am – 11:00am – TERM TIME ONLY \nAt St Andrew’s United Church Rowson Street New Brighton CH45 2LY \nFor more information ring Seacombe Children Centre on:\n0151 666 3506.
URL:https://standrewsunitedchurch.co.uk/event/stay-play-27/
END:VEVENT
BEGIN:VEVENT
DTSTART;TZID=UTC:20221127T103000
DTEND;TZID=UTC:20221127T120000
DTSTAMP:20260423T235216
CREATED:20220722T144925Z
LAST-MODIFIED:20221024T070525Z
UID:2004-1669545000-1669550400@standrewsunitedchurch.co.uk
SUMMARY:CHURCH ANNIVERSARY WEEKEND: Church Anniversary Service
DESCRIPTION:CHURCH ANNIVERSARY SERVICE will include Holy Communion and will be conducted by Revd. Lorraine AIzlewood-Threlfall
URL:https://standrewsunitedchurch.co.uk/event/church-anniversary-service/
LOCATION:St Andew’s United Church\, CH45 2LY
END:VEVENT
BEGIN:VEVENT
DTSTART;TZID=UTC:20221126T100000
DTEND;TZID=UTC:20221126T123000
DTSTAMP:20260423T235216
CREATED:20221024T070353Z
LAST-MODIFIED:20221024T070353Z
UID:2187-1669456800-1669465800@standrewsunitedchurch.co.uk
SUMMARY:CHURCH ANNIVERSARY WEEKEND: Coffee morning & Exhibition
DESCRIPTION:
URL:https://standrewsunitedchurch.co.uk/event/church-anniversary-weekend-coffee-morning-exhibition/
LOCATION:St Andew’s United Church\, CH45 2LY
END:VEVENT
BEGIN:VEVENT
DTSTART;TZID=UTC:20221126T060000
DTEND;TZID=UTC:20221126T213000
DTSTAMP:20260423T235216
CREATED:20221024T070449Z
LAST-MODIFIED:20221024T070449Z
UID:2189-1669442400-1669498200@standrewsunitedchurch.co.uk
SUMMARY:CHURCH ANNIVERSARY WEEKEND: Church Anniversary dinner
DESCRIPTION:
URL:https://standrewsunitedchurch.co.uk/event/church-anniversary-weekend-church-anniversary-dinner/
LOCATION:St Andew’s United Church\, CH45 2LY
END:VEVENT
BEGIN:VEVENT
DTSTART;TZID=UTC:20221125T140000
DTEND;TZID=UTC:20221125T160000
DTSTAMP:20260423T235216
CREATED:20230714T091636Z
LAST-MODIFIED:20230714T091636Z
UID:2730-1669384800-1669392000@standrewsunitedchurch.co.uk
SUMMARY:KNIT & NATTER
DESCRIPTION:Knit & Natter\n\nCome and join this friendly group – meet new people\, learn new skills – whether knitting or crochet\, make new friends and join in future projects. The members have made a variety of items supporting various charities over the years – including blankets\, premature baby clothes\, hats\, knitted toys and items for Christmas. There is a stockpile of wool and knitting needles\, so no initial outlay. Bring along something you have started or something you are about to start. So whether you are a beginner or skilled knitter or just want to come along to find out what we are all about – you will be made very welcome. \n\n\n\nItems made supporting various charity projects such as Charles Thompson Mission\, Mission to Seafarers\, Premature Baby Unit at Arrowe Park Hospital\, plus Twiddle Muffs and Blankets for local residential homes. Whether you are a beginner or an accomplished knitter\, you will be made very welcome. \nEvery Friday from 2pm – 4pm – TERM TIME ONLY
URL:https://standrewsunitedchurch.co.uk/event/knit-natter-44/
END:VEVENT
BEGIN:VEVENT
DTSTART;TZID=UTC:20221124T100000
DTEND;TZID=UTC:20221124T113000
DTSTAMP:20260423T235216
CREATED:20230714T090931Z
LAST-MODIFIED:20230714T090931Z
UID:2718-1669284000-1669289400@standrewsunitedchurch.co.uk
SUMMARY:TODDLER GROUP
DESCRIPTION:TODDLER GROUP 10 – 11.30 am Thursdays during Term Time\, for 0-4 year olds with activities including games\, crafts\, play area\, dressing up and much more.
URL:https://standrewsunitedchurch.co.uk/event/toddler-group-64/
END:VEVENT
BEGIN:VEVENT
DTSTART;TZID=UTC:20221123T120000
DTEND;TZID=UTC:20221123T150000
DTSTAMP:20260423T235216
CREATED:20221024T070258Z
LAST-MODIFIED:20221024T070258Z
UID:2185-1669204800-1669215600@standrewsunitedchurch.co.uk
SUMMARY:Church lunch
DESCRIPTION:
URL:https://standrewsunitedchurch.co.uk/event/church-lunch/
LOCATION:St Andew’s United Church\, CH45 2LY
END:VEVENT
BEGIN:VEVENT
DTSTART;TZID=UTC:20221121T100000
DTEND;TZID=UTC:20221121T110000
DTSTAMP:20260423T235216
CREATED:20230714T090328Z
LAST-MODIFIED:20230714T090328Z
UID:2705-1669024800-1669028400@standrewsunitedchurch.co.uk
SUMMARY:STAY & PLAY
DESCRIPTION:STAY & PLAY \n\n\n\n\nMonday’s 10:00am – 11:00am – TERM TIME ONLY \nAt St Andrew’s United Church Rowson Street New Brighton CH45 2LY \nFor more information ring Seacombe Children Centre on:\n0151 666 3506.
URL:https://standrewsunitedchurch.co.uk/event/stay-play-26/
END:VEVENT
BEGIN:VEVENT
DTSTART;TZID=UTC:20221120T103000
DTEND;TZID=UTC:20221120T113000
DTSTAMP:20260423T235216
CREATED:20220722T144818Z
LAST-MODIFIED:20220722T144818Z
UID:2002-1668940200-1668943800@standrewsunitedchurch.co.uk
SUMMARY:Morning service
DESCRIPTION:Morning Service conducted by the Worship Group \nPlease join us for refreshments afterwards
URL:https://standrewsunitedchurch.co.uk/event/morning-service-34/
LOCATION:St Andew’s United Church\, CH45 2LY
END:VEVENT
BEGIN:VEVENT
DTSTART;TZID=UTC:20221119T100000
DTEND;TZID=UTC:20221119T130000
DTSTAMP:20260423T235216
CREATED:20221024T070216Z
LAST-MODIFIED:20221024T070216Z
UID:2183-1668852000-1668862800@standrewsunitedchurch.co.uk
SUMMARY:Church Tapestry Group
DESCRIPTION:
URL:https://standrewsunitedchurch.co.uk/event/church-tapestry-group/
LOCATION:St Andew’s United Church\, CH45 2LY
END:VEVENT
BEGIN:VEVENT
DTSTART;TZID=UTC:20221118T140000
DTEND;TZID=UTC:20221118T160000
DTSTAMP:20260423T235216
CREATED:20230714T091547Z
LAST-MODIFIED:20230714T091547Z
UID:2728-1668780000-1668787200@standrewsunitedchurch.co.uk
SUMMARY:KNIT & NATTER
DESCRIPTION:Knit & Natter\n\nCome and join this friendly group – meet new people\, learn new skills – whether knitting or crochet\, make new friends and join in future projects. The members have made a variety of items supporting various charities over the years – including blankets\, premature baby clothes\, hats\, knitted toys and items for Christmas. There is a stockpile of wool and knitting needles\, so no initial outlay. Bring along something you have started or something you are about to start. So whether you are a beginner or skilled knitter or just want to come along to find out what we are all about – you will be made very welcome. \n\n\n\nItems made supporting various charity projects such as Charles Thompson Mission\, Mission to Seafarers\, Premature Baby Unit at Arrowe Park Hospital\, plus Twiddle Muffs and Blankets for local residential homes. Whether you are a beginner or an accomplished knitter\, you will be made very welcome. \nEvery Friday from 2pm – 4pm – TERM TIME ONLY
URL:https://standrewsunitedchurch.co.uk/event/knit-natter-43/
END:VEVENT
BEGIN:VEVENT
DTSTART;TZID=UTC:20221117T100000
DTEND;TZID=UTC:20221117T113000
DTSTAMP:20260423T235216
CREATED:20230714T090841Z
LAST-MODIFIED:20230714T090841Z
UID:2716-1668679200-1668684600@standrewsunitedchurch.co.uk
SUMMARY:TODDLER GROUP
DESCRIPTION:TODDLER GROUP 10 – 11.30 am Thursdays during Term Time\, for 0-4 year olds with activities including games\, crafts\, play area\, dressing up and much more.
URL:https://standrewsunitedchurch.co.uk/event/toddler-group-63/
END:VEVENT
BEGIN:VEVENT
DTSTART;TZID=UTC:20221114T100000
DTEND;TZID=UTC:20221114T110000
DTSTAMP:20260423T235216
CREATED:20230714T090250Z
LAST-MODIFIED:20230714T090250Z
UID:2703-1668420000-1668423600@standrewsunitedchurch.co.uk
SUMMARY:STAY & PLAY
DESCRIPTION:STAY & PLAY \n\n\n\n\nMonday’s 10:00am – 11:00am – TERM TIME ONLY \nAt St Andrew’s United Church Rowson Street New Brighton CH45 2LY \nFor more information ring Seacombe Children Centre on:\n0151 666 3506.
URL:https://standrewsunitedchurch.co.uk/event/stay-play-25/
END:VEVENT
BEGIN:VEVENT
DTSTART;TZID=UTC:20221113T103000
DTEND;TZID=UTC:20221113T113000
DTSTAMP:20260423T235216
CREATED:20220722T144703Z
LAST-MODIFIED:20220908T061504Z
UID:2000-1668335400-1668339000@standrewsunitedchurch.co.uk
SUMMARY:Remembrance service
DESCRIPTION:Remembrance service\n\nService conducted by Mr David Powell\n\n 
URL:https://standrewsunitedchurch.co.uk/event/remembrance-service/
END:VEVENT
BEGIN:VEVENT
DTSTART;TZID=UTC:20221111T193000
DTEND;TZID=UTC:20221111T220000
DTSTAMP:20260423T235216
CREATED:20220930T082238Z
LAST-MODIFIED:20220930T082238Z
UID:2139-1668195000-1668204000@standrewsunitedchurch.co.uk
SUMMARY:LIVERPOOL MALE VOICE CHOIR CONCERT
DESCRIPTION:LIVERPOOL MALE VOICE CHOIR CONCERT starting at 7.30 pm.  Doors will be open at 6.30 pm.  Tickets at the door £5.00.
URL:https://standrewsunitedchurch.co.uk/event/liverpool-male-voice-choir-concert/
END:VEVENT
BEGIN:VEVENT
DTSTART;TZID=UTC:20221111T140000
DTEND;TZID=UTC:20221111T160000
DTSTAMP:20260423T235216
CREATED:20230714T091508Z
LAST-MODIFIED:20230714T091508Z
UID:2726-1668175200-1668182400@standrewsunitedchurch.co.uk
SUMMARY:KNIT & NATTER
DESCRIPTION:Knit & Natter\n\nCome and join this friendly group – meet new people\, learn new skills – whether knitting or crochet\, make new friends and join in future projects. The members have made a variety of items supporting various charities over the years – including blankets\, premature baby clothes\, hats\, knitted toys and items for Christmas. There is a stockpile of wool and knitting needles\, so no initial outlay. Bring along something you have started or something you are about to start. So whether you are a beginner or skilled knitter or just want to come along to find out what we are all about – you will be made very welcome. \n\n\n\nItems made supporting various charity projects such as Charles Thompson Mission\, Mission to Seafarers\, Premature Baby Unit at Arrowe Park Hospital\, plus Twiddle Muffs and Blankets for local residential homes. Whether you are a beginner or an accomplished knitter\, you will be made very welcome. \nEvery Friday from 2pm – 4pm – TERM TIME ONLY
URL:https://standrewsunitedchurch.co.uk/event/knit-natter-42/
END:VEVENT
BEGIN:VEVENT
DTSTART;TZID=UTC:20221110T100000
DTEND;TZID=UTC:20221110T113000
DTSTAMP:20260423T235216
CREATED:20230714T090801Z
LAST-MODIFIED:20230714T090801Z
UID:2714-1668074400-1668079800@standrewsunitedchurch.co.uk
SUMMARY:TODDLER GROUP
DESCRIPTION:TODDLER GROUP 10 – 11.30 am Thursdays during Term Time\, for 0-4 year olds with activities including games\, crafts\, play area\, dressing up and much more.
URL:https://standrewsunitedchurch.co.uk/event/toddler-group-62/
END:VEVENT
BEGIN:VEVENT
DTSTART;TZID=UTC:20221109T080000
DTEND;TZID=UTC:20221109T170000
DTSTAMP:20260423T235216
CREATED:20221024T070057Z
LAST-MODIFIED:20221024T070057Z
UID:2181-1667980800-1668013200@standrewsunitedchurch.co.uk
SUMMARY:REMEMBER ME & Exhibition
DESCRIPTION:
URL:https://standrewsunitedchurch.co.uk/event/remember-me-exhibition-3/
LOCATION:St Andew’s United Church\, CH45 2LY
END:VEVENT
BEGIN:VEVENT
DTSTART;TZID=UTC:20221108T080000
DTEND;TZID=UTC:20221108T170000
DTSTAMP:20260423T235216
CREATED:20221024T070037Z
LAST-MODIFIED:20221024T070037Z
UID:2179-1667894400-1667926800@standrewsunitedchurch.co.uk
SUMMARY:REMEMBER ME & Exhibition
DESCRIPTION:
URL:https://standrewsunitedchurch.co.uk/event/remember-me-exhibition-2/
LOCATION:St Andew’s United Church\, CH45 2LY
END:VEVENT
END:VCALENDAR