BEGIN:VCALENDAR
VERSION:2.0
PRODID:-// - ECPv6.15.17//NONSGML v1.0//EN
CALSCALE:GREGORIAN
METHOD:PUBLISH
X-ORIGINAL-URL:https://standrewsunitedchurch.co.uk
X-WR-CALDESC:Events for 
REFRESH-INTERVAL;VALUE=DURATION:PT1H
X-Robots-Tag:noindex
X-PUBLISHED-TTL:PT1H
BEGIN:VTIMEZONE
TZID:UTC
BEGIN:STANDARD
TZOFFSETFROM:+0000
TZOFFSETTO:+0000
TZNAME:UTC
DTSTART:20210101T000000
END:STANDARD
END:VTIMEZONE
BEGIN:VEVENT
DTSTART;TZID=UTC:20221107T100000
DTEND;TZID=UTC:20221107T110000
DTSTAMP:20260424T050940
CREATED:20230714T090214Z
LAST-MODIFIED:20230714T090214Z
UID:2701-1667815200-1667818800@standrewsunitedchurch.co.uk
SUMMARY:STAY & PLAY
DESCRIPTION:STAY & PLAY \n\n\n\n\nMonday’s 10:00am – 11:00am – TERM TIME ONLY \nAt St Andrew’s United Church Rowson Street New Brighton CH45 2LY \nFor more information ring Seacombe Children Centre on:\n0151 666 3506.
URL:https://standrewsunitedchurch.co.uk/event/stay-play-24/
END:VEVENT
BEGIN:VEVENT
DTSTART;TZID=UTC:20221107T080000
DTEND;TZID=UTC:20221107T170000
DTSTAMP:20260424T050940
CREATED:20221024T070007Z
LAST-MODIFIED:20221024T070007Z
UID:2177-1667808000-1667840400@standrewsunitedchurch.co.uk
SUMMARY:REMEMBER ME & Exhibition
DESCRIPTION:Monday 7 – 9 November
URL:https://standrewsunitedchurch.co.uk/event/remember-me-exhibition/
LOCATION:St Andew’s United Church\, CH45 2LY
END:VEVENT
BEGIN:VEVENT
DTSTART;TZID=UTC:20221106T103000
DTEND;TZID=UTC:20221106T113000
DTSTAMP:20260424T050940
CREATED:20220722T144434Z
LAST-MODIFIED:20220908T061123Z
UID:1996-1667730600-1667734200@standrewsunitedchurch.co.uk
SUMMARY:Holy Communion
DESCRIPTION:Service conducted by Revd. Lorraine AIzlewood-Threlfall\n\n\nPlease join us for refreshments afterwards
URL:https://standrewsunitedchurch.co.uk/event/morning-service-33/
LOCATION:St Andew’s United Church\, CH45 2LY
END:VEVENT
BEGIN:VEVENT
DTSTART;TZID=UTC:20221104T140000
DTEND;TZID=UTC:20221104T160000
DTSTAMP:20260424T050940
CREATED:20230714T091422Z
LAST-MODIFIED:20230714T091422Z
UID:2724-1667570400-1667577600@standrewsunitedchurch.co.uk
SUMMARY:KNIT & NATTER
DESCRIPTION:Knit & Natter\n\nCome and join this friendly group – meet new people\, learn new skills – whether knitting or crochet\, make new friends and join in future projects. The members have made a variety of items supporting various charities over the years – including blankets\, premature baby clothes\, hats\, knitted toys and items for Christmas. There is a stockpile of wool and knitting needles\, so no initial outlay. Bring along something you have started or something you are about to start. So whether you are a beginner or skilled knitter or just want to come along to find out what we are all about – you will be made very welcome. \n\n\n\nItems made supporting various charity projects such as Charles Thompson Mission\, Mission to Seafarers\, Premature Baby Unit at Arrowe Park Hospital\, plus Twiddle Muffs and Blankets for local residential homes. Whether you are a beginner or an accomplished knitter\, you will be made very welcome. \nEvery Friday from 2pm – 4pm – TERM TIME ONLY
URL:https://standrewsunitedchurch.co.uk/event/knit-natter-35/
END:VEVENT
BEGIN:VEVENT
DTSTART;TZID=UTC:20221103T100000
DTEND;TZID=UTC:20221103T100000
DTSTAMP:20260424T050940
CREATED:20220907T220008Z
LAST-MODIFIED:20220907T220008Z
UID:2057-1667469600-1667469600@standrewsunitedchurch.co.uk
SUMMARY:TODDLER GROUP
DESCRIPTION:TODDLER GROUP 10 – 11.30 am Thursdays during Term Time\, for 0-4 year olds with activities including games\, crafts\, play area\, dressing up and much more.  
URL:https://standrewsunitedchurch.co.uk/event/toddler-group-28/
END:VEVENT
BEGIN:VEVENT
DTSTART;TZID=UTC:20221031T100000
DTEND;TZID=UTC:20221031T110000
DTSTAMP:20260424T050940
CREATED:20230714T090121Z
LAST-MODIFIED:20230714T090121Z
UID:2699-1667210400-1667214000@standrewsunitedchurch.co.uk
SUMMARY:STAY & PLAY
DESCRIPTION:STAY & PLAY \n\n\n\n\nMonday’s 10:00am – 11:00am – TERM TIME ONLY \nAt St Andrew’s United Church Rowson Street New Brighton CH45 2LY \nFor more information ring Seacombe Children Centre on:\n0151 666 3506.
URL:https://standrewsunitedchurch.co.uk/event/stay-play-23/
END:VEVENT
BEGIN:VEVENT
DTSTART;TZID=UTC:20221030T103000
DTEND;TZID=UTC:20221030T113000
DTSTAMP:20260424T050940
CREATED:20220722T144400Z
LAST-MODIFIED:20220722T144400Z
UID:1994-1667125800-1667129400@standrewsunitedchurch.co.uk
SUMMARY:Morning service
DESCRIPTION:Morning service\n\nMorning Service conducted by Revd. Lorraine Aizlewood-Threlfall\n\n\n\nPlease join us for refreshments afterwards
URL:https://standrewsunitedchurch.co.uk/event/morning-service-32/
LOCATION:St Andew’s United Church\, CH45 2LY
END:VEVENT
BEGIN:VEVENT
DTSTART;VALUE=DATE:20221024
DTEND;VALUE=DATE:20221025
DTSTAMP:20260424T050940
CREATED:20230714T091223Z
LAST-MODIFIED:20230714T091223Z
UID:2722-1666569600-1666655999@standrewsunitedchurch.co.uk
SUMMARY:HALF TERM WEEK
DESCRIPTION:
URL:https://standrewsunitedchurch.co.uk/event/half-term-week-2/
END:VEVENT
BEGIN:VEVENT
DTSTART;TZID=UTC:20221023T103000
DTEND;TZID=UTC:20221023T113000
DTSTAMP:20260424T050940
CREATED:20220722T144326Z
LAST-MODIFIED:20220722T144326Z
UID:1992-1666521000-1666524600@standrewsunitedchurch.co.uk
SUMMARY:Morning service
DESCRIPTION:Morning service\n\nMorning Service conducted by Mr David Powell\n\n\n\nPlease join us for refreshments afterwards
URL:https://standrewsunitedchurch.co.uk/event/morning-service-31/
LOCATION:St Andew’s United Church\, CH45 2LY
END:VEVENT
BEGIN:VEVENT
DTSTART;TZID=UTC:20221022T103000
DTEND;TZID=UTC:20221022T120000
DTSTAMP:20260424T050940
CREATED:20220915T151401Z
LAST-MODIFIED:20220915T151401Z
UID:2083-1666434600-1666440000@standrewsunitedchurch.co.uk
SUMMARY:Coffee morning & book sale
DESCRIPTION:Join us at St Andrew’s for a coffee morning and book sale. \nSaturday 22nd October \n10:30am – 12 noon.
URL:https://standrewsunitedchurch.co.uk/event/coffee-morning-book-sale/
LOCATION:St Andew’s United Church\, CH45 2LY
END:VEVENT
BEGIN:VEVENT
DTSTART;TZID=UTC:20221021T140000
DTEND;TZID=UTC:20221021T160000
DTSTAMP:20260424T050940
CREATED:20220908T063234Z
LAST-MODIFIED:20220908T063234Z
UID:2080-1666360800-1666368000@standrewsunitedchurch.co.uk
SUMMARY:KNIT & NATTER
DESCRIPTION:Knit & Natter\n\nCome and join this friendly group – meet new people\, learn new skills – whether knitting or crochet\, make new friends and join in future projects. The members have made a variety of items supporting various charities over the years – including blankets\, premature baby clothes\, hats\, knitted toys and items for Christmas. There is a stockpile of wool and knitting needles\, so no initial outlay. Bring along something you have started or something you are about to start. So whether you are a beginner or skilled knitter or just want to come along to find out what we are all about – you will be made very welcome. \n\n\n\nItems made supporting various charity projects such as Charles Thompson Mission\, Mission to Seafarers\, Premature Baby Unit at Arrowe Park Hospital\, plus Twiddle Muffs and Blankets for local residential homes. Whether you are a beginner or an accomplished knitter\, you will be made very welcome. \nEvery Friday from 2pm – 4pm
URL:https://standrewsunitedchurch.co.uk/event/knit-natter-14/
END:VEVENT
BEGIN:VEVENT
DTSTART;TZID=UTC:20221020T100000
DTEND;TZID=UTC:20221020T113000
DTSTAMP:20260424T050940
CREATED:20220907T215806Z
LAST-MODIFIED:20220907T215806Z
UID:2055-1666260000-1666265400@standrewsunitedchurch.co.uk
SUMMARY:TODDLER GROUP
DESCRIPTION:TODDLER GROUP 10 – 11.30 am Thursdays during Term Time\, for 0-4 year olds with activities including games\, crafts\, play area\, dressing up and much more.  
URL:https://standrewsunitedchurch.co.uk/event/toddler-group-27/
END:VEVENT
BEGIN:VEVENT
DTSTART;TZID=UTC:20221016T103000
DTEND;TZID=UTC:20221016T113000
DTSTAMP:20260424T050940
CREATED:20220722T144247Z
LAST-MODIFIED:20220722T144247Z
UID:1990-1665916200-1665919800@standrewsunitedchurch.co.uk
SUMMARY:Morning service
DESCRIPTION:Morning service\n\nMorning Service conducted by Revd. Lorraine Aizlewood-Threlfall\n\n\n\nPlease join us for refreshments afterwards
URL:https://standrewsunitedchurch.co.uk/event/morning-service-30/
LOCATION:St Andew’s United Church\, CH45 2LY
END:VEVENT
BEGIN:VEVENT
DTSTART;TZID=UTC:20221014T140000
DTEND;TZID=UTC:20221014T160000
DTSTAMP:20260424T050940
CREATED:20220908T063149Z
LAST-MODIFIED:20220908T063149Z
UID:2078-1665756000-1665763200@standrewsunitedchurch.co.uk
SUMMARY:KNIT & NATTER
DESCRIPTION:Knit & Natter\n\nCome and join this friendly group – meet new people\, learn new skills – whether knitting or crochet\, make new friends and join in future projects. The members have made a variety of items supporting various charities over the years – including blankets\, premature baby clothes\, hats\, knitted toys and items for Christmas. There is a stockpile of wool and knitting needles\, so no initial outlay. Bring along something you have started or something you are about to start. So whether you are a beginner or skilled knitter or just want to come along to find out what we are all about – you will be made very welcome. \n\n\n\nItems made supporting various charity projects such as Charles Thompson Mission\, Mission to Seafarers\, Premature Baby Unit at Arrowe Park Hospital\, plus Twiddle Muffs and Blankets for local residential homes. Whether you are a beginner or an accomplished knitter\, you will be made very welcome. \nEvery Friday from 2pm – 4pm
URL:https://standrewsunitedchurch.co.uk/event/knit-natter-13/
END:VEVENT
BEGIN:VEVENT
DTSTART;TZID=UTC:20221013T100000
DTEND;TZID=UTC:20221013T113000
DTSTAMP:20260424T050940
CREATED:20220907T211415Z
LAST-MODIFIED:20220907T211759Z
UID:2051-1665655200-1665660600@standrewsunitedchurch.co.uk
SUMMARY:TODDLER GROUP
DESCRIPTION:TODDLER GROUP 10 – 11.30 am Thursdays during Term Time\, for 0-4 year olds with activities including games\, crafts\, play area\, dressing up and much more.  
URL:https://standrewsunitedchurch.co.uk/event/toddler-group-25/
END:VEVENT
BEGIN:VEVENT
DTSTART;TZID=UTC:20221009T103000
DTEND;TZID=UTC:20221009T113000
DTSTAMP:20260424T050940
CREATED:20220722T144145Z
LAST-MODIFIED:20220722T144213Z
UID:1987-1665311400-1665315000@standrewsunitedchurch.co.uk
SUMMARY:Morning service & Harvest Festival lunch
DESCRIPTION:United service @ Seacombe URC\n\nMorning Service conducted by Revd. Lorraine Aizlewood-Threlfall\n\n\n\nPlease join us for Harvest Festival and Lunch afterwards
URL:https://standrewsunitedchurch.co.uk/event/morning-service-29/
LOCATION:Seacombe United Reformed Church\, Brougham Road\, Seacombe\, CH44 6PW\, United Kingdom
END:VEVENT
BEGIN:VEVENT
DTSTART;TZID=UTC:20221007T140000
DTEND;TZID=UTC:20221007T160000
DTSTAMP:20260424T050940
CREATED:20220908T063105Z
LAST-MODIFIED:20220908T063105Z
UID:2076-1665151200-1665158400@standrewsunitedchurch.co.uk
SUMMARY:KNIT & NATTER
DESCRIPTION:Knit & Natter\n\nCome and join this friendly group – meet new people\, learn new skills – whether knitting or crochet\, make new friends and join in future projects. The members have made a variety of items supporting various charities over the years – including blankets\, premature baby clothes\, hats\, knitted toys and items for Christmas. There is a stockpile of wool and knitting needles\, so no initial outlay. Bring along something you have started or something you are about to start. So whether you are a beginner or skilled knitter or just want to come along to find out what we are all about – you will be made very welcome. \n\n\n\nItems made supporting various charity projects such as Charles Thompson Mission\, Mission to Seafarers\, Premature Baby Unit at Arrowe Park Hospital\, plus Twiddle Muffs and Blankets for local residential homes. Whether you are a beginner or an accomplished knitter\, you will be made very welcome. \nEvery Friday from 2pm – 4pm
URL:https://standrewsunitedchurch.co.uk/event/knit-natter-12/
END:VEVENT
BEGIN:VEVENT
DTSTART;TZID=UTC:20221006T100000
DTEND;TZID=UTC:20221006T113000
DTSTAMP:20260424T050940
CREATED:20220907T211955Z
LAST-MODIFIED:20220907T211955Z
UID:2053-1665050400-1665055800@standrewsunitedchurch.co.uk
SUMMARY:TODDLER GROUP
DESCRIPTION:TODDLER GROUP 10 – 11.30 am Thursdays during Term Time\, for 0-4 year olds with activities including games\, crafts\, play area\, dressing up and much more.  
URL:https://standrewsunitedchurch.co.uk/event/toddler-group-26/
END:VEVENT
BEGIN:VEVENT
DTSTART;TZID=UTC:20221002T103000
DTEND;TZID=UTC:20221002T113000
DTSTAMP:20260424T050940
CREATED:20220722T144045Z
LAST-MODIFIED:20220907T220618Z
UID:1985-1664706600-1664710200@standrewsunitedchurch.co.uk
SUMMARY:Holy Communion
DESCRIPTION:Holy Communion Service conducted by Revd. Heather MacLeod\n\n\n\nPlease join us for refreshments afterwards
URL:https://standrewsunitedchurch.co.uk/event/morning-service-28/
LOCATION:St Andew’s United Church\, CH45 2LY
END:VEVENT
BEGIN:VEVENT
DTSTART;TZID=UTC:20220930T140000
DTEND;TZID=UTC:20220930T160000
DTSTAMP:20260424T050940
CREATED:20220908T063023Z
LAST-MODIFIED:20220908T063023Z
UID:2074-1664546400-1664553600@standrewsunitedchurch.co.uk
SUMMARY:KNIT & NATTER
DESCRIPTION:Knit & Natter\n\nCome and join this friendly group – meet new people\, learn new skills – whether knitting or crochet\, make new friends and join in future projects. The members have made a variety of items supporting various charities over the years – including blankets\, premature baby clothes\, hats\, knitted toys and items for Christmas. There is a stockpile of wool and knitting needles\, so no initial outlay. Bring along something you have started or something you are about to start. So whether you are a beginner or skilled knitter or just want to come along to find out what we are all about – you will be made very welcome. \n\n\n\nItems made supporting various charity projects such as Charles Thompson Mission\, Mission to Seafarers\, Premature Baby Unit at Arrowe Park Hospital\, plus Twiddle Muffs and Blankets for local residential homes. Whether you are a beginner or an accomplished knitter\, you will be made very welcome. \nEvery Friday from 2pm – 4pm
URL:https://standrewsunitedchurch.co.uk/event/knit-natter-11/
END:VEVENT
BEGIN:VEVENT
DTSTART;TZID=UTC:20220929T100000
DTEND;TZID=UTC:20220929T113000
DTSTAMP:20260424T050940
CREATED:20220907T211222Z
LAST-MODIFIED:20220907T211222Z
UID:2049-1664445600-1664451000@standrewsunitedchurch.co.uk
SUMMARY:TODDLER GROUP
DESCRIPTION:TODDLER GROUP 10 – 11.30 am Thursdays during Term Time\, for 0-4 year olds with activities including games\, crafts\, play area\, dressing up and much more.  
URL:https://standrewsunitedchurch.co.uk/event/toddler-group-24/
END:VEVENT
BEGIN:VEVENT
DTSTART;TZID=UTC:20220925T160000
DTEND;TZID=UTC:20220925T173000
DTSTAMP:20260424T050940
CREATED:20220722T143945Z
LAST-MODIFIED:20220722T143945Z
UID:1983-1664121600-1664127000@standrewsunitedchurch.co.uk
SUMMARY:Communion service & Afternoon Tea
DESCRIPTION:Communion service & Afternoon tea\n\nService conducted by Revd. Lorraine Aizlewood-Threlfall\n\n\n\nPlease join us for refreshments afterwards
URL:https://standrewsunitedchurch.co.uk/event/communion-service-afternoon-tea/
LOCATION:St Andew’s United Church\, CH45 2LY
END:VEVENT
BEGIN:VEVENT
DTSTART;TZID=UTC:20220925T103000
DTEND;TZID=UTC:20220925T113000
DTSTAMP:20260424T050940
CREATED:20220722T143138Z
LAST-MODIFIED:20220908T062430Z
UID:1981-1664101800-1664105400@standrewsunitedchurch.co.uk
SUMMARY:Morning service
DESCRIPTION:Morning service\n\nMorning Service conducted by Mr David Powell\n\n\n\nPlease join us for refreshments afterwards
URL:https://standrewsunitedchurch.co.uk/event/morning-service-27/
LOCATION:St Andew’s United Church\, CH45 2LY
END:VEVENT
BEGIN:VEVENT
DTSTART;TZID=UTC:20220923T140000
DTEND;TZID=UTC:20220923T140000
DTSTAMP:20260424T050940
CREATED:20220908T062935Z
LAST-MODIFIED:20220908T062935Z
UID:2072-1663941600-1663941600@standrewsunitedchurch.co.uk
SUMMARY:KNIT & NATTER
DESCRIPTION:Knit & Natter\n\nCome and join this friendly group – meet new people\, learn new skills – whether knitting or crochet\, make new friends and join in future projects. The members have made a variety of items supporting various charities over the years – including blankets\, premature baby clothes\, hats\, knitted toys and items for Christmas. There is a stockpile of wool and knitting needles\, so no initial outlay. Bring along something you have started or something you are about to start. So whether you are a beginner or skilled knitter or just want to come along to find out what we are all about – you will be made very welcome. \n\n\n\nItems made supporting various charity projects such as Charles Thompson Mission\, Mission to Seafarers\, Premature Baby Unit at Arrowe Park Hospital\, plus Twiddle Muffs and Blankets for local residential homes. Whether you are a beginner or an accomplished knitter\, you will be made very welcome. \nEvery Friday from 2pm – 4pm
URL:https://standrewsunitedchurch.co.uk/event/knit-natter-10/
END:VEVENT
BEGIN:VEVENT
DTSTART;TZID=UTC:20220922T100000
DTEND;TZID=UTC:20220922T113000
DTSTAMP:20260424T050940
CREATED:20220907T210954Z
LAST-MODIFIED:20220907T210954Z
UID:2047-1663840800-1663846200@standrewsunitedchurch.co.uk
SUMMARY:TODDLER GROUP
DESCRIPTION:TODDLER GROUP 10 – 11.30 am Thursdays during Term Time\, for 0-4 year olds with activities including games\, crafts\, play area\, dressing up and much more.  
URL:https://standrewsunitedchurch.co.uk/event/toddler-group-23/
END:VEVENT
BEGIN:VEVENT
DTSTART;TZID=UTC:20220918T103000
DTEND;TZID=UTC:20220918T113000
DTSTAMP:20260424T050940
CREATED:20220722T143033Z
LAST-MODIFIED:20220722T143033Z
UID:1979-1663497000-1663500600@standrewsunitedchurch.co.uk
SUMMARY:Morning service
DESCRIPTION:Morning service\n\nMorning Service conducted by Revd. Lorraine Aizlewood-Threlfall\n\n\n\nPlease join us for refreshments afterwards
URL:https://standrewsunitedchurch.co.uk/event/morning-service-26/
LOCATION:St Andew’s United Church\, CH45 2LY
END:VEVENT
BEGIN:VEVENT
DTSTART;TZID=UTC:20220916T140000
DTEND;TZID=UTC:20220916T160000
DTSTAMP:20260424T050940
CREATED:20220908T062822Z
LAST-MODIFIED:20220908T062822Z
UID:2070-1663336800-1663344000@standrewsunitedchurch.co.uk
SUMMARY:KNIT & NATTER
DESCRIPTION:Knit & Natter\n\nCome and join this friendly group – meet new people\, learn new skills – whether knitting or crochet\, make new friends and join in future projects. The members have made a variety of items supporting various charities over the years – including blankets\, premature baby clothes\, hats\, knitted toys and items for Christmas. There is a stockpile of wool and knitting needles\, so no initial outlay. Bring along something you have started or something you are about to start. So whether you are a beginner or skilled knitter or just want to come along to find out what we are all about – you will be made very welcome. \n\n\n\nItems made supporting various charity projects such as Charles Thompson Mission\, Mission to Seafarers\, Premature Baby Unit at Arrowe Park Hospital\, plus Twiddle Muffs and Blankets for local residential homes. Whether you are a beginner or an accomplished knitter\, you will be made very welcome. \nEvery Friday from 2pm – 4pm
URL:https://standrewsunitedchurch.co.uk/event/knit-natter-9/
END:VEVENT
BEGIN:VEVENT
DTSTART;TZID=UTC:20220915T100000
DTEND;TZID=UTC:20220915T113000
DTSTAMP:20260424T050940
CREATED:20220907T210805Z
LAST-MODIFIED:20220907T210805Z
UID:2045-1663236000-1663241400@standrewsunitedchurch.co.uk
SUMMARY:TODDLER GROUP
DESCRIPTION:TODDLER GROUP 10 – 11.30 am Thursdays during Term Time\, for 0-4 year olds with activities including games\, crafts\, play area\, dressing up and much more.
URL:https://standrewsunitedchurch.co.uk/event/toddler-group-22/
END:VEVENT
BEGIN:VEVENT
DTSTART;TZID=UTC:20220911T103000
DTEND;TZID=UTC:20220911T113000
DTSTAMP:20260424T050940
CREATED:20220722T142849Z
LAST-MODIFIED:20220722T142849Z
UID:1975-1662892200-1662895800@standrewsunitedchurch.co.uk
SUMMARY:Morning service
DESCRIPTION:Morning service\n\nMorning Service conducted by Mr David Powll\n\n\n\nPlease join us for refreshments afterwards
URL:https://standrewsunitedchurch.co.uk/event/morning-service-25/
LOCATION:St Andew’s United Church\, CH45 2LY
END:VEVENT
BEGIN:VEVENT
DTSTART;TZID=UTC:20220911T090000
DTEND;TZID=UTC:20220911T103000
DTSTAMP:20260424T050940
CREATED:20220722T142743Z
LAST-MODIFIED:20220722T142957Z
UID:1973-1662886800-1662892200@standrewsunitedchurch.co.uk
SUMMARY:Breakfast communion
DESCRIPTION:Breakfast communion service\n\nMorning Service conducted by Revd. Lorraine Aizlewood-Threlfall
URL:https://standrewsunitedchurch.co.uk/event/morning-service-24/
LOCATION:St Andew’s United Church\, CH45 2LY
END:VEVENT
END:VCALENDAR