BEGIN:VCALENDAR
VERSION:2.0
PRODID:-// - ECPv6.15.17//NONSGML v1.0//EN
CALSCALE:GREGORIAN
METHOD:PUBLISH
X-ORIGINAL-URL:https://standrewsunitedchurch.co.uk
X-WR-CALDESC:Events for 
REFRESH-INTERVAL;VALUE=DURATION:PT1H
X-Robots-Tag:noindex
X-PUBLISHED-TTL:PT1H
BEGIN:VTIMEZONE
TZID:UTC
BEGIN:STANDARD
TZOFFSETFROM:+0000
TZOFFSETTO:+0000
TZNAME:UTC
DTSTART:20210101T000000
END:STANDARD
END:VTIMEZONE
BEGIN:VEVENT
DTSTART;TZID=UTC:20220911T103000
DTEND;TZID=UTC:20220911T113000
DTSTAMP:20260424T104943
CREATED:20220722T142849Z
LAST-MODIFIED:20220722T142849Z
UID:1975-1662892200-1662895800@standrewsunitedchurch.co.uk
SUMMARY:Morning service
DESCRIPTION:Morning service\n\nMorning Service conducted by Mr David Powll\n\n\n\nPlease join us for refreshments afterwards
URL:https://standrewsunitedchurch.co.uk/event/morning-service-25/
LOCATION:St Andew’s United Church\, CH45 2LY
END:VEVENT
BEGIN:VEVENT
DTSTART;TZID=UTC:20220911T090000
DTEND;TZID=UTC:20220911T103000
DTSTAMP:20260424T104943
CREATED:20220722T142743Z
LAST-MODIFIED:20220722T142957Z
UID:1973-1662886800-1662892200@standrewsunitedchurch.co.uk
SUMMARY:Breakfast communion
DESCRIPTION:Breakfast communion service\n\nMorning Service conducted by Revd. Lorraine Aizlewood-Threlfall
URL:https://standrewsunitedchurch.co.uk/event/morning-service-24/
LOCATION:St Andew’s United Church\, CH45 2LY
END:VEVENT
BEGIN:VEVENT
DTSTART;TZID=UTC:20220909T140000
DTEND;TZID=UTC:20220909T160000
DTSTAMP:20260424T104943
CREATED:20220908T062716Z
LAST-MODIFIED:20220908T062716Z
UID:2068-1662732000-1662739200@standrewsunitedchurch.co.uk
SUMMARY:KNIT & NATTER
DESCRIPTION:Knit & Natter\n\nCome and join this friendly group – meet new people\, learn new skills – whether knitting or crochet\, make new friends and join in future projects. The members have made a variety of items supporting various charities over the years – including blankets\, premature baby clothes\, hats\, knitted toys and items for Christmas. There is a stockpile of wool and knitting needles\, so no initial outlay. Bring along something you have started or something you are about to start. So whether you are a beginner or skilled knitter or just want to come along to find out what we are all about – you will be made very welcome. \n\n\n\nItems made supporting various charity projects such as Charles Thompson Mission\, Mission to Seafarers\, Premature Baby Unit at Arrowe Park Hospital\, plus Twiddle Muffs and Blankets for local residential homes. Whether you are a beginner or an accomplished knitter\, you will be made very welcome. \nEvery Friday from 2pm – 4pm
URL:https://standrewsunitedchurch.co.uk/event/knit-natter-8/
END:VEVENT
BEGIN:VEVENT
DTSTART;TZID=UTC:20220908T100000
DTEND;TZID=UTC:20220908T113000
DTSTAMP:20260424T104943
CREATED:20220907T210614Z
LAST-MODIFIED:20220907T210614Z
UID:2043-1662631200-1662636600@standrewsunitedchurch.co.uk
SUMMARY:TODDLER GROUP
DESCRIPTION:TODDLER GROUP 10 – 11.30 am Thursdays during Term Time\, for 0-4 year olds with activities including games\, crafts\, play area\, dressing up and much more.
URL:https://standrewsunitedchurch.co.uk/event/toddler-group-21/
END:VEVENT
BEGIN:VEVENT
DTSTART;TZID=UTC:20220904T103000
DTEND;TZID=UTC:20220904T113000
DTSTAMP:20260424T104943
CREATED:20220722T142655Z
LAST-MODIFIED:20220722T142655Z
UID:1971-1662287400-1662291000@standrewsunitedchurch.co.uk
SUMMARY:Morning service
DESCRIPTION:Morning service\n\nMorning Service conducted by Revd. George Palmer\n\n\n\nPlease join us for refreshments afterwards
URL:https://standrewsunitedchurch.co.uk/event/morning-service-23/
LOCATION:St Andew’s United Church\, CH45 2LY
END:VEVENT
BEGIN:VEVENT
DTSTART;TZID=UTC:20220828T103000
DTEND;TZID=UTC:20220828T120000
DTSTAMP:20260424T104943
CREATED:20220613T094525Z
LAST-MODIFIED:20220908T062030Z
UID:1961-1661682600-1661688000@standrewsunitedchurch.co.uk
SUMMARY:Morning service
DESCRIPTION:Morning service\n\nMorning Service conducted by Revd. Lorraine AIzlewood-Threlfall\n\n\n\nPlease join us for refreshments afterwards
URL:https://standrewsunitedchurch.co.uk/event/morning-service-22/
LOCATION:St Andew’s United Church\, CH45 2LY
END:VEVENT
BEGIN:VEVENT
DTSTART;TZID=UTC:20220823T100000
DTEND;TZID=UTC:20220823T120000
DTSTAMP:20260424T104943
CREATED:20220822T074610Z
LAST-MODIFIED:20220822T074618Z
UID:2039-1661248800-1661256000@standrewsunitedchurch.co.uk
SUMMARY:FUPS - PRIMARY SCHOOL UNIFORM DAY
DESCRIPTION:FREE RECYCLED UNIFORMS AVAILABLE FOR CHILDREN ATTENDING PRIMARY SCHOOLS IN WALLASEY . \nGENERIC UNIFORM AVAILABLE TOO.
URL:https://standrewsunitedchurch.co.uk/event/fups-primary-school-uniform-day-3/
END:VEVENT
BEGIN:VEVENT
DTSTART;TZID=UTC:20220822T100000
DTEND;TZID=UTC:20220822T120000
DTSTAMP:20260424T104943
CREATED:20220822T074418Z
LAST-MODIFIED:20220822T074418Z
UID:2037-1661162400-1661169600@standrewsunitedchurch.co.uk
SUMMARY:FUPS - FREE PRIMARY SCHOOL UNIFORM DAY
DESCRIPTION:FREE RECYCLED UNIFORMS AVAILABLE FOR CHILDREN ATTENDING PRIMARY SCHOOLS IN WALLASEY. \nGENERIC UNIFORM AVAILABLE TOO. \n 
URL:https://standrewsunitedchurch.co.uk/event/fups-free-primary-school-uniform-day/
END:VEVENT
BEGIN:VEVENT
DTSTART;TZID=UTC:20220821T103000
DTEND;TZID=UTC:20220821T120000
DTSTAMP:20260424T104943
CREATED:20220613T094453Z
LAST-MODIFIED:20220613T094453Z
UID:1959-1661077800-1661083200@standrewsunitedchurch.co.uk
SUMMARY:Morning service
DESCRIPTION:Morning service\n\nMorning Service conducted by Revd. Lorraine Aizlewood-Threlfall\n\n\n\nPlease join us for refreshments afterwards
URL:https://standrewsunitedchurch.co.uk/event/morning-service-21/
LOCATION:St Andew’s United Church\, CH45 2LY
END:VEVENT
BEGIN:VEVENT
DTSTART;TZID=UTC:20220820T180000
DTEND;TZID=UTC:20220820T210000
DTSTAMP:20260424T104943
CREATED:20220722T125903Z
LAST-MODIFIED:20220810T065208Z
UID:1966-1661018400-1661029200@standrewsunitedchurch.co.uk
SUMMARY:BIG QUIZ NIGHT OUT
DESCRIPTION:Join us for the Big Quiz Night Out – an evening of Game Shows & Quizzes\, fun for all the family. \nSaturday 20th August \n6 – 9pm \nEveryone Welcome
URL:https://standrewsunitedchurch.co.uk/event/big-quiz-night-out/
LOCATION:St Andew’s United Church\, CH45 2LY
END:VEVENT
BEGIN:VEVENT
DTSTART;TZID=UTC:20220816T100000
DTEND;TZID=UTC:20220816T120000
DTSTAMP:20260424T104943
CREATED:20220810T064749Z
LAST-MODIFIED:20220810T064749Z
UID:2029-1660644000-1660651200@standrewsunitedchurch.co.uk
SUMMARY:FUPS - PRIMARY SCHOOL UNIFORM DAY
DESCRIPTION:FREE RECYCLED UNIFORMS AVAILABLE FOR CHILDREN ATTENDING PRIMARY SCHOOLS IN WALLASEY. \n  \nGENERIC UNIFORM AVAILABLE TOO.
URL:https://standrewsunitedchurch.co.uk/event/fups-primary-school-uniform-day-2/
END:VEVENT
BEGIN:VEVENT
DTSTART;TZID=UTC:20220815T100000
DTEND;TZID=UTC:20220815T120000
DTSTAMP:20260424T104943
CREATED:20220810T064426Z
LAST-MODIFIED:20220810T064426Z
UID:2027-1660557600-1660564800@standrewsunitedchurch.co.uk
SUMMARY:FUPS - PRIMARY SCHOOL UNIFORM DAY
DESCRIPTION:FREE RECYCLED UNIFORMS AVAILABLE FOR CHILDREN ATTENDING PRIMARY SCHOOLS IN WALLASEY. \nGENERIC UNIFORM AVAILABLE TOO. \n  \n 
URL:https://standrewsunitedchurch.co.uk/event/fups-primary-school-uniform-day/
END:VEVENT
BEGIN:VEVENT
DTSTART;TZID=UTC:20220814T103000
DTEND;TZID=UTC:20220814T120000
DTSTAMP:20260424T104943
CREATED:20220613T094324Z
LAST-MODIFIED:20220613T094324Z
UID:1955-1660473000-1660478400@standrewsunitedchurch.co.uk
SUMMARY:Morning service
DESCRIPTION:Morning service\n\nMorning Service conducted by Revd. Lorraine Aizlewood-Threlfall\n\n\n\nPlease join us for refreshments afterwards
URL:https://standrewsunitedchurch.co.uk/event/morning-service-19/
LOCATION:St Andew’s United Church\, CH45 2LY
END:VEVENT
BEGIN:VEVENT
DTSTART;TZID=UTC:20220813T140000
DTEND;TZID=UTC:20220813T160000
DTSTAMP:20260424T104943
CREATED:20220722T125753Z
LAST-MODIFIED:20220810T065950Z
UID:1964-1660399200-1660406400@standrewsunitedchurch.co.uk
SUMMARY:CREAM TEA
DESCRIPTION:Please come along and Join us for a Cream Tea \nSaturday 13th August \n2 – 4 pm
URL:https://standrewsunitedchurch.co.uk/event/cream-tea/
LOCATION:St Andew’s United Church\, CH45 2LY
END:VEVENT
BEGIN:VEVENT
DTSTART;TZID=UTC:20220807T103000
DTEND;TZID=UTC:20220807T113000
DTSTAMP:20260424T104943
CREATED:20220613T094258Z
LAST-MODIFIED:20220613T094258Z
UID:1953-1659868200-1659871800@standrewsunitedchurch.co.uk
SUMMARY:Morning service
DESCRIPTION:Morning service\n\nMorning Service conducted by Revd. Heather MacLeod\n\n\n\nPlease join us for refreshments afterwards
URL:https://standrewsunitedchurch.co.uk/event/morning-service-18/
LOCATION:St Andew’s United Church\, CH45 2LY
CATEGORIES:Morning service
END:VEVENT
BEGIN:VEVENT
DTSTART;TZID=UTC:20220803T101500
DTEND;TZID=UTC:20220803T120000
DTSTAMP:20260424T104943
CREATED:20220722T145451Z
LAST-MODIFIED:20220722T145451Z
UID:2006-1659521700-1659528000@standrewsunitedchurch.co.uk
SUMMARY:Midweek service & coffee morning
DESCRIPTION:Midweek service & Coffee morning \n10:15 am – 12:00 pm\n\nAll are welcome to attend this service starting at 10:15 am every Wednesday\, apart from Wednesdays following Christmas and Easter.\n\nJoin our coffee morning straight after the service from 11:00am – 12:00pm
URL:https://standrewsunitedchurch.co.uk/event/midweek-service-coffee-morning-7/
LOCATION:St Andew’s United Church\, CH45 2LY
END:VEVENT
BEGIN:VEVENT
DTSTART;TZID=UTC:20220731T103000
DTEND;TZID=UTC:20220731T120000
DTSTAMP:20260424T104943
CREATED:20220613T094151Z
LAST-MODIFIED:20220613T094151Z
UID:1951-1659263400-1659268800@standrewsunitedchurch.co.uk
SUMMARY:Morning service
DESCRIPTION:Morning service\n\nMorning Service conducted by Revd. Lorraine Aizlewood-Threlfall\n\n\n\nPlease join us for refreshments afterwards
URL:https://standrewsunitedchurch.co.uk/event/morning-service-17/
LOCATION:St Andew’s United Church\, CH45 2LY
END:VEVENT
BEGIN:VEVENT
DTSTART;TZID=UTC:20220724T103000
DTEND;TZID=UTC:20220724T120000
DTSTAMP:20260424T104943
CREATED:20220613T094111Z
LAST-MODIFIED:20220613T094111Z
UID:1949-1658658600-1658664000@standrewsunitedchurch.co.uk
SUMMARY:Morning service
DESCRIPTION:Morning service\n\nMorning Service conducted by Mr David Powell\n\n\n\nPlease join us for refreshments afterwards
URL:https://standrewsunitedchurch.co.uk/event/morning-service-16/
LOCATION:St Andew’s United Church\, CH45 2LY
END:VEVENT
BEGIN:VEVENT
DTSTART;TZID=UTC:20220722T140000
DTEND;TZID=UTC:20220722T160000
DTSTAMP:20260424T104943
CREATED:20220613T091509Z
LAST-MODIFIED:20220613T091527Z
UID:1939-1658498400-1658505600@standrewsunitedchurch.co.uk
SUMMARY:Knit & Natter
DESCRIPTION:Knit & Natter\n\nCome and join this friendly group – meet new people\, learn new skills – whether knitting or crochet\, make new friends and join in future projects. The members have made a variety of items supporting various charities over the years – including blankets\, premature baby clothes\, hats\, knitted toys and items for Christmas. There is a stockpile of wool and knitting needles\, so no initial outlay. Bring along something you have started or something you are about to start. So whether you are a beginner or skilled knitter or just want to come along to find out what we are all about – you will be made very welcome. \n\n\n\nItems made supporting various charity projects such as Charles Thompson Mission\, Mission to Seafarers\, Premature Baby Unit at Arrowe Park Hospital\, plus Twiddle Muffs and Blankets for local residential homes. Whether you are a beginner or an accomplished knitter\, you will be made very welcome. \nEvery Friday from 2pm – 4pm
URL:https://standrewsunitedchurch.co.uk/event/knit-natter-7/
LOCATION:St Andew’s United Church\, CH45 2LY
END:VEVENT
BEGIN:VEVENT
DTSTART;TZID=UTC:20220721T100000
DTEND;TZID=UTC:20220721T113000
DTSTAMP:20260424T104943
CREATED:20220613T093904Z
LAST-MODIFIED:20220613T093904Z
UID:1945-1658397600-1658403000@standrewsunitedchurch.co.uk
SUMMARY:Toddler Group
DESCRIPTION:Toddler Group\n\n\n\n\n10:00 am – 11:30 am\n\nToddler Group for 0 – 4 year olds with activities including games\, crafts\, play area\, dressing up and much more. \nDate:  Thursday mornings during Term Time \nTime:  10 a.m. until 11.30 a.m. \nCost:  50p snack & juice for children and refreshments for adults For more information ring Lorraine on 0151 792 0972
URL:https://standrewsunitedchurch.co.uk/event/toddler-group-20/
LOCATION:St Andew’s United Church\, CH45 2LY
END:VEVENT
BEGIN:VEVENT
DTSTART;TZID=UTC:20220720T101500
DTEND;TZID=UTC:20220720T120000
DTSTAMP:20260424T104943
CREATED:20220613T090943Z
LAST-MODIFIED:20220613T090943Z
UID:1929-1658312100-1658318400@standrewsunitedchurch.co.uk
SUMMARY:Midweek service & coffee morning
DESCRIPTION:Midweek service & coffee morning\n\n10:15 am – 12:00 pm\n\nMidweek service & Coffee morning 10:15 am – 12:00 pm All are welcome to attend this service starting at 10:15 am every Wednesday\, apart from Wednesdays following Christmas and Easter. Join our coffee morning straight after the service from 11:00am – 12:00pm
URL:https://standrewsunitedchurch.co.uk/event/midweek-service-coffee-morning-6/
LOCATION:St Andew’s United Church\, CH45 2LY
END:VEVENT
BEGIN:VEVENT
DTSTART;TZID=UTC:20220717T103000
DTEND;TZID=UTC:20220717T120000
DTSTAMP:20260424T104943
CREATED:20220613T094419Z
LAST-MODIFIED:20220613T094419Z
UID:1957-1658053800-1658059200@standrewsunitedchurch.co.uk
SUMMARY:Morning service
DESCRIPTION:Morning service\n\nMorning Service conducted by Revd. Lorraine Aizlewood-Threlfall\n\n\n\nPlease join us for refreshments afterwards
URL:https://standrewsunitedchurch.co.uk/event/morning-service-20/
LOCATION:St Andew’s United Church\, CH45 2LY
END:VEVENT
BEGIN:VEVENT
DTSTART;TZID=UTC:20220715T020000
DTEND;TZID=UTC:20220715T160000
DTSTAMP:20260424T104943
CREATED:20220613T091428Z
LAST-MODIFIED:20220613T091428Z
UID:1937-1657850400-1657900800@standrewsunitedchurch.co.uk
SUMMARY:Knit & Natter
DESCRIPTION:Knit & Natter\n\nCome and join this friendly group – meet new people\, learn new skills – whether knitting or crochet\, make new friends and join in future projects. The members have made a variety of items supporting various charities over the years – including blankets\, premature baby clothes\, hats\, knitted toys and items for Christmas. There is a stockpile of wool and knitting needles\, so no initial outlay. Bring along something you have started or something you are about to start. So whether you are a beginner or skilled knitter or just want to come along to find out what we are all about – you will be made very welcome. \n\n\n\nItems made supporting various charity projects such as Charles Thompson Mission\, Mission to Seafarers\, Premature Baby Unit at Arrowe Park Hospital\, plus Twiddle Muffs and Blankets for local residential homes. Whether you are a beginner or an accomplished knitter\, you will be made very welcome. \nEvery Friday from 2pm – 4pm
URL:https://standrewsunitedchurch.co.uk/event/knit-natter-6/
LOCATION:St Andew’s United Church\, CH45 2LY
END:VEVENT
BEGIN:VEVENT
DTSTART;TZID=UTC:20220714T100000
DTEND;TZID=UTC:20220714T113000
DTSTAMP:20260424T104943
CREATED:20220613T093834Z
LAST-MODIFIED:20220613T093834Z
UID:1943-1657792800-1657798200@standrewsunitedchurch.co.uk
SUMMARY:Toddler Group
DESCRIPTION:Toddler Group\n\n\n\n\n10:00 am – 11:30 am\n\nToddler Group for 0 – 4 year olds with activities including games\, crafts\, play area\, dressing up and much more. \nDate:  Thursday mornings during Term Time \nTime:  10 a.m. until 11.30 a.m. \nCost:  50p snack & juice for children and refreshments for adults For more information ring Lorraine on 0151 792 0972
URL:https://standrewsunitedchurch.co.uk/event/toddler-group-19/
LOCATION:St Andew’s United Church\, CH45 2LY
END:VEVENT
BEGIN:VEVENT
DTSTART;TZID=UTC:20220713T101500
DTEND;TZID=UTC:20220713T120000
DTSTAMP:20260424T104943
CREATED:20220613T090905Z
LAST-MODIFIED:20220613T090905Z
UID:1927-1657707300-1657713600@standrewsunitedchurch.co.uk
SUMMARY:Midweek service & coffee morning
DESCRIPTION:Midweek service & coffee morning\n\n10:15 am – 12:00 pm\n\nMidweek service & Coffee morning 10:15 am – 12:00 pm All are welcome to attend this service starting at 10:15 am every Wednesday\, apart from Wednesdays following Christmas and Easter. Join our coffee morning straight after the service from 11:00am – 12:00pm
URL:https://standrewsunitedchurch.co.uk/event/midweek-service-coffee-morning-5/
LOCATION:St Andew’s United Church\, CH45 2LY
END:VEVENT
BEGIN:VEVENT
DTSTART;TZID=UTC:20220710T103000
DTEND;TZID=UTC:20220710T120000
DTSTAMP:20260424T104943
CREATED:20220606T073712Z
LAST-MODIFIED:20220606T073712Z
UID:1924-1657449000-1657454400@standrewsunitedchurch.co.uk
SUMMARY:Morning service
DESCRIPTION:Morning Service conducted by the Worship Group \nPlease join us for refreshments afterwards
URL:https://standrewsunitedchurch.co.uk/event/morning-service-15/
LOCATION:St Andew’s United Church\, CH45 2LY
END:VEVENT
BEGIN:VEVENT
DTSTART;TZID=UTC:20220708T140000
DTEND;TZID=UTC:20220708T160000
DTSTAMP:20260424T104943
CREATED:20220613T091344Z
LAST-MODIFIED:20220613T091344Z
UID:1935-1657288800-1657296000@standrewsunitedchurch.co.uk
SUMMARY:Knit & Natter
DESCRIPTION:Knit & Natter\n\nCome and join this friendly group – meet new people\, learn new skills – whether knitting or crochet\, make new friends and join in future projects. The members have made a variety of items supporting various charities over the years – including blankets\, premature baby clothes\, hats\, knitted toys and items for Christmas. There is a stockpile of wool and knitting needles\, so no initial outlay. Bring along something you have started or something you are about to start. So whether you are a beginner or skilled knitter or just want to come along to find out what we are all about – you will be made very welcome. \n\n\n\nItems made supporting various charity projects such as Charles Thompson Mission\, Mission to Seafarers\, Premature Baby Unit at Arrowe Park Hospital\, plus Twiddle Muffs and Blankets for local residential homes. Whether you are a beginner or an accomplished knitter\, you will be made very welcome. \nEvery Friday from 2pm – 4pm
URL:https://standrewsunitedchurch.co.uk/event/knit-natter-5/
LOCATION:St Andew’s United Church\, CH45 2LY
END:VEVENT
BEGIN:VEVENT
DTSTART;TZID=UTC:20220707T100000
DTEND;TZID=UTC:20220707T113000
DTSTAMP:20260424T104943
CREATED:20220613T093804Z
LAST-MODIFIED:20220613T093804Z
UID:1941-1657188000-1657193400@standrewsunitedchurch.co.uk
SUMMARY:Toddler Group
DESCRIPTION:Toddler Group\n\n\n\n\n10:00 am – 11:30 am\n\nToddler Group for 0 – 4 year olds with activities including games\, crafts\, play area\, dressing up and much more. \nDate:  Thursday mornings during Term Time \nTime:  10 a.m. until 11.30 a.m. \nCost:  50p snack & juice for children and refreshments for adults For more information ring Lorraine on 0151 792 0972
URL:https://standrewsunitedchurch.co.uk/event/toddler-group-18/
LOCATION:St Andew’s United Church\, CH45 2LY
END:VEVENT
BEGIN:VEVENT
DTSTART;TZID=UTC:20220706T101500
DTEND;TZID=UTC:20220706T120000
DTSTAMP:20260424T104943
CREATED:20220613T091140Z
LAST-MODIFIED:20220613T091140Z
UID:1933-1657102500-1657108800@standrewsunitedchurch.co.uk
SUMMARY:Midweek service & coffee morning
DESCRIPTION:Midweek service & coffee morning\n\n10:15 am – 12:00 pm\n\nMidweek service & Coffee morning 10:15 am – 12:00 pm All are welcome to attend this service starting at 10:15 am every Wednesday\, apart from Wednesdays following Christmas and Easter. Join our coffee morning straight after the service from 11:00am – 12:00pm
URL:https://standrewsunitedchurch.co.uk/event/midweek-service-coffee-morning-8/
LOCATION:St Andew’s United Church\, CH45 2LY
END:VEVENT
BEGIN:VEVENT
DTSTART;TZID=UTC:20220703T103000
DTEND;TZID=UTC:20220703T120000
DTSTAMP:20260424T104943
CREATED:20220606T072112Z
LAST-MODIFIED:20220606T073611Z
UID:1899-1656844200-1656849600@standrewsunitedchurch.co.uk
SUMMARY:Morning service
DESCRIPTION:Morning Service conducted by Revd. Peter Beaman MBE \nPlease join us for refreshments afterwards
URL:https://standrewsunitedchurch.co.uk/event/morning-service-14/
LOCATION:St Andew’s United Church\, CH45 2LY
END:VEVENT
END:VCALENDAR