BEGIN:VCALENDAR
VERSION:2.0
PRODID:-// - ECPv6.15.17//NONSGML v1.0//EN
CALSCALE:GREGORIAN
METHOD:PUBLISH
X-ORIGINAL-URL:https://standrewsunitedchurch.co.uk
X-WR-CALDESC:Events for 
REFRESH-INTERVAL;VALUE=DURATION:PT1H
X-Robots-Tag:noindex
X-PUBLISHED-TTL:PT1H
BEGIN:VTIMEZONE
TZID:UTC
BEGIN:STANDARD
TZOFFSETFROM:+0000
TZOFFSETTO:+0000
TZNAME:UTC
DTSTART:20210101T000000
END:STANDARD
END:VTIMEZONE
BEGIN:VEVENT
DTSTART;TZID=UTC:20220720T101500
DTEND;TZID=UTC:20220720T120000
DTSTAMP:20260424T141307
CREATED:20220613T090943Z
LAST-MODIFIED:20220613T090943Z
UID:1929-1658312100-1658318400@standrewsunitedchurch.co.uk
SUMMARY:Midweek service & coffee morning
DESCRIPTION:Midweek service & coffee morning\n\n10:15 am – 12:00 pm\n\nMidweek service & Coffee morning 10:15 am – 12:00 pm All are welcome to attend this service starting at 10:15 am every Wednesday\, apart from Wednesdays following Christmas and Easter. Join our coffee morning straight after the service from 11:00am – 12:00pm
URL:https://standrewsunitedchurch.co.uk/event/midweek-service-coffee-morning-6/
LOCATION:St Andew’s United Church\, CH45 2LY
END:VEVENT
BEGIN:VEVENT
DTSTART;TZID=UTC:20220717T103000
DTEND;TZID=UTC:20220717T120000
DTSTAMP:20260424T141307
CREATED:20220613T094419Z
LAST-MODIFIED:20220613T094419Z
UID:1957-1658053800-1658059200@standrewsunitedchurch.co.uk
SUMMARY:Morning service
DESCRIPTION:Morning service\n\nMorning Service conducted by Revd. Lorraine Aizlewood-Threlfall\n\n\n\nPlease join us for refreshments afterwards
URL:https://standrewsunitedchurch.co.uk/event/morning-service-20/
LOCATION:St Andew’s United Church\, CH45 2LY
END:VEVENT
BEGIN:VEVENT
DTSTART;TZID=UTC:20220715T020000
DTEND;TZID=UTC:20220715T160000
DTSTAMP:20260424T141307
CREATED:20220613T091428Z
LAST-MODIFIED:20220613T091428Z
UID:1937-1657850400-1657900800@standrewsunitedchurch.co.uk
SUMMARY:Knit & Natter
DESCRIPTION:Knit & Natter\n\nCome and join this friendly group – meet new people\, learn new skills – whether knitting or crochet\, make new friends and join in future projects. The members have made a variety of items supporting various charities over the years – including blankets\, premature baby clothes\, hats\, knitted toys and items for Christmas. There is a stockpile of wool and knitting needles\, so no initial outlay. Bring along something you have started or something you are about to start. So whether you are a beginner or skilled knitter or just want to come along to find out what we are all about – you will be made very welcome. \n\n\n\nItems made supporting various charity projects such as Charles Thompson Mission\, Mission to Seafarers\, Premature Baby Unit at Arrowe Park Hospital\, plus Twiddle Muffs and Blankets for local residential homes. Whether you are a beginner or an accomplished knitter\, you will be made very welcome. \nEvery Friday from 2pm – 4pm
URL:https://standrewsunitedchurch.co.uk/event/knit-natter-6/
LOCATION:St Andew’s United Church\, CH45 2LY
END:VEVENT
BEGIN:VEVENT
DTSTART;TZID=UTC:20220714T100000
DTEND;TZID=UTC:20220714T113000
DTSTAMP:20260424T141307
CREATED:20220613T093834Z
LAST-MODIFIED:20220613T093834Z
UID:1943-1657792800-1657798200@standrewsunitedchurch.co.uk
SUMMARY:Toddler Group
DESCRIPTION:Toddler Group\n\n\n\n\n10:00 am – 11:30 am\n\nToddler Group for 0 – 4 year olds with activities including games\, crafts\, play area\, dressing up and much more. \nDate:  Thursday mornings during Term Time \nTime:  10 a.m. until 11.30 a.m. \nCost:  50p snack & juice for children and refreshments for adults For more information ring Lorraine on 0151 792 0972
URL:https://standrewsunitedchurch.co.uk/event/toddler-group-19/
LOCATION:St Andew’s United Church\, CH45 2LY
END:VEVENT
BEGIN:VEVENT
DTSTART;TZID=UTC:20220713T101500
DTEND;TZID=UTC:20220713T120000
DTSTAMP:20260424T141307
CREATED:20220613T090905Z
LAST-MODIFIED:20220613T090905Z
UID:1927-1657707300-1657713600@standrewsunitedchurch.co.uk
SUMMARY:Midweek service & coffee morning
DESCRIPTION:Midweek service & coffee morning\n\n10:15 am – 12:00 pm\n\nMidweek service & Coffee morning 10:15 am – 12:00 pm All are welcome to attend this service starting at 10:15 am every Wednesday\, apart from Wednesdays following Christmas and Easter. Join our coffee morning straight after the service from 11:00am – 12:00pm
URL:https://standrewsunitedchurch.co.uk/event/midweek-service-coffee-morning-5/
LOCATION:St Andew’s United Church\, CH45 2LY
END:VEVENT
BEGIN:VEVENT
DTSTART;TZID=UTC:20220710T103000
DTEND;TZID=UTC:20220710T120000
DTSTAMP:20260424T141307
CREATED:20220606T073712Z
LAST-MODIFIED:20220606T073712Z
UID:1924-1657449000-1657454400@standrewsunitedchurch.co.uk
SUMMARY:Morning service
DESCRIPTION:Morning Service conducted by the Worship Group \nPlease join us for refreshments afterwards
URL:https://standrewsunitedchurch.co.uk/event/morning-service-15/
LOCATION:St Andew’s United Church\, CH45 2LY
END:VEVENT
BEGIN:VEVENT
DTSTART;TZID=UTC:20220708T140000
DTEND;TZID=UTC:20220708T160000
DTSTAMP:20260424T141307
CREATED:20220613T091344Z
LAST-MODIFIED:20220613T091344Z
UID:1935-1657288800-1657296000@standrewsunitedchurch.co.uk
SUMMARY:Knit & Natter
DESCRIPTION:Knit & Natter\n\nCome and join this friendly group – meet new people\, learn new skills – whether knitting or crochet\, make new friends and join in future projects. The members have made a variety of items supporting various charities over the years – including blankets\, premature baby clothes\, hats\, knitted toys and items for Christmas. There is a stockpile of wool and knitting needles\, so no initial outlay. Bring along something you have started or something you are about to start. So whether you are a beginner or skilled knitter or just want to come along to find out what we are all about – you will be made very welcome. \n\n\n\nItems made supporting various charity projects such as Charles Thompson Mission\, Mission to Seafarers\, Premature Baby Unit at Arrowe Park Hospital\, plus Twiddle Muffs and Blankets for local residential homes. Whether you are a beginner or an accomplished knitter\, you will be made very welcome. \nEvery Friday from 2pm – 4pm
URL:https://standrewsunitedchurch.co.uk/event/knit-natter-5/
LOCATION:St Andew’s United Church\, CH45 2LY
END:VEVENT
BEGIN:VEVENT
DTSTART;TZID=UTC:20220707T100000
DTEND;TZID=UTC:20220707T113000
DTSTAMP:20260424T141307
CREATED:20220613T093804Z
LAST-MODIFIED:20220613T093804Z
UID:1941-1657188000-1657193400@standrewsunitedchurch.co.uk
SUMMARY:Toddler Group
DESCRIPTION:Toddler Group\n\n\n\n\n10:00 am – 11:30 am\n\nToddler Group for 0 – 4 year olds with activities including games\, crafts\, play area\, dressing up and much more. \nDate:  Thursday mornings during Term Time \nTime:  10 a.m. until 11.30 a.m. \nCost:  50p snack & juice for children and refreshments for adults For more information ring Lorraine on 0151 792 0972
URL:https://standrewsunitedchurch.co.uk/event/toddler-group-18/
LOCATION:St Andew’s United Church\, CH45 2LY
END:VEVENT
BEGIN:VEVENT
DTSTART;TZID=UTC:20220706T101500
DTEND;TZID=UTC:20220706T120000
DTSTAMP:20260424T141307
CREATED:20220613T091140Z
LAST-MODIFIED:20220613T091140Z
UID:1933-1657102500-1657108800@standrewsunitedchurch.co.uk
SUMMARY:Midweek service & coffee morning
DESCRIPTION:Midweek service & coffee morning\n\n10:15 am – 12:00 pm\n\nMidweek service & Coffee morning 10:15 am – 12:00 pm All are welcome to attend this service starting at 10:15 am every Wednesday\, apart from Wednesdays following Christmas and Easter. Join our coffee morning straight after the service from 11:00am – 12:00pm
URL:https://standrewsunitedchurch.co.uk/event/midweek-service-coffee-morning-8/
LOCATION:St Andew’s United Church\, CH45 2LY
END:VEVENT
BEGIN:VEVENT
DTSTART;TZID=UTC:20220703T103000
DTEND;TZID=UTC:20220703T120000
DTSTAMP:20260424T141307
CREATED:20220606T072112Z
LAST-MODIFIED:20220606T073611Z
UID:1899-1656844200-1656849600@standrewsunitedchurch.co.uk
SUMMARY:Morning service
DESCRIPTION:Morning Service conducted by Revd. Peter Beaman MBE \nPlease join us for refreshments afterwards
URL:https://standrewsunitedchurch.co.uk/event/morning-service-14/
LOCATION:St Andew’s United Church\, CH45 2LY
END:VEVENT
BEGIN:VEVENT
DTSTART;TZID=UTC:20220701T140000
DTEND;TZID=UTC:20220701T160000
DTSTAMP:20260424T141307
CREATED:20220606T071843Z
LAST-MODIFIED:20220606T071843Z
UID:1891-1656684000-1656691200@standrewsunitedchurch.co.uk
SUMMARY:Knit & Natter
DESCRIPTION:Come and join this friendly group – meet new people\, learn new skills – whether knitting or crochet\, make new friends and join in future projects. The members have made a variety of items supporting various charities over the years – including blankets\, premature baby clothes\, hats\, knitted toys and items for Christmas. There is a stockpile of wool and knitting needles\, so no initial outlay. Bring along something you have started or something you are about to start. So whether you are a beginner or skilled knitter or just want to come along to find out what we are all about – you will be made very welcome. \nItems made supporting various charity projects such as Charles Thompson Mission\, Mission to Seafarers\, Premature Baby Unit at Arrowe Park Hospital\, plus Twiddle Muffs and Blankets for local residential homes. Whether you are a beginner or an accomplished knitter\, you will be made very welcome. \nEvery Friday from 2pm – 4pm
URL:https://standrewsunitedchurch.co.uk/event/knit-natter-4/
LOCATION:St Andew’s United Church\, CH45 2LY
END:VEVENT
BEGIN:VEVENT
DTSTART;TZID=UTC:20220630T100000
DTEND;TZID=UTC:20220630T113000
DTSTAMP:20260424T141307
CREATED:20220606T071158Z
LAST-MODIFIED:20220606T071158Z
UID:1873-1656583200-1656588600@standrewsunitedchurch.co.uk
SUMMARY:Toddler Group
DESCRIPTION:Toddler Group\n\n10:00 am – 11:30 am\n\nToddler Group for 0 – 4 year olds with activities including games\, crafts\, play area\, dressing up and much more. \nDate:  Thursday mornings during Term Time \nTime:  10 a.m. until 11.30 a.m. \nCost:  50p snack & juice for children and refreshments for adults For more information ring Lorraine on 0151 792 0972
URL:https://standrewsunitedchurch.co.uk/event/toddler-group-17/
LOCATION:St Andew’s United Church\, CH45 2LY
END:VEVENT
BEGIN:VEVENT
DTSTART;TZID=UTC:20220629T101500
DTEND;TZID=UTC:20220629T110000
DTSTAMP:20260424T141307
CREATED:20220606T071522Z
LAST-MODIFIED:20220606T071522Z
UID:1883-1656497700-1656500400@standrewsunitedchurch.co.uk
SUMMARY:Midweek service & coffee morning
DESCRIPTION:Midweek service & Coffee morning\n\n10:15 am – 12:00 pm\n\nAll are welcome to attend this service starting at 10:15 am every Wednesday\, apart from Wednesdays following Christmas and Easter. \nJoin our coffee morning straight after the service from 11:00am – 12:00pm
URL:https://standrewsunitedchurch.co.uk/event/midweek-service-coffee-morning-4/
LOCATION:St Andew’s United Church\, CH45 2LY
END:VEVENT
BEGIN:VEVENT
DTSTART;TZID=UTC:20220626T103000
DTEND;TZID=UTC:20220626T120000
DTSTAMP:20260424T141307
CREATED:20220606T072048Z
LAST-MODIFIED:20220606T073555Z
UID:1897-1656239400-1656244800@standrewsunitedchurch.co.uk
SUMMARY:Morning service
DESCRIPTION:Morning Service conducted by Revd. Heather MacLeod \nPlease join us for refreshments afterwards
URL:https://standrewsunitedchurch.co.uk/event/morning-service-13/
LOCATION:St Andew’s United Church\, CH45 2LY
END:VEVENT
BEGIN:VEVENT
DTSTART;TZID=UTC:20220624T140000
DTEND;TZID=UTC:20220624T160000
DTSTAMP:20260424T141307
CREATED:20220606T071749Z
LAST-MODIFIED:20220606T071749Z
UID:1889-1656079200-1656086400@standrewsunitedchurch.co.uk
SUMMARY:Knit & Natter
DESCRIPTION:Come and join this friendly group – meet new people\, learn new skills – whether knitting or crochet\, make new friends and join in future projects. The members have made a variety of items supporting various charities over the years – including blankets\, premature baby clothes\, hats\, knitted toys and items for Christmas. There is a stockpile of wool and knitting needles\, so no initial outlay. Bring along something you have started or something you are about to start. So whether you are a beginner or skilled knitter or just want to come along to find out what we are all about – you will be made very welcome. \nItems made supporting various charity projects such as Charles Thompson Mission\, Mission to Seafarers\, Premature Baby Unit at Arrowe Park Hospital\, plus Twiddle Muffs and Blankets for local residential homes. Whether you are a beginner or an accomplished knitter\, you will be made very welcome. \nEvery Friday from 2pm – 4pm
URL:https://standrewsunitedchurch.co.uk/event/knit-natter-3/
LOCATION:St Andew’s United Church\, CH45 2LY
END:VEVENT
BEGIN:VEVENT
DTSTART;TZID=UTC:20220623T100000
DTEND;TZID=UTC:20220623T113000
DTSTAMP:20260424T141307
CREATED:20220606T071126Z
LAST-MODIFIED:20220606T071229Z
UID:1871-1655978400-1655983800@standrewsunitedchurch.co.uk
SUMMARY:Toddler Group
DESCRIPTION:Toddler Group\n\n10:00 am – 11:30 am\n\nToddler Group for 0 – 4 year olds with activities including games\, crafts\, play area\, dressing up and much more. \nDate:  Thursday mornings during Term Time \nTime:  10 a.m. until 11.30 a.m. \nCost:  50p snack & juice for children and refreshments for adults For more information ring Lorraine on 0151 792 0972
URL:https://standrewsunitedchurch.co.uk/event/toddler-group-16/
LOCATION:St Andew’s United Church\, CH45 2LY
END:VEVENT
BEGIN:VEVENT
DTSTART;TZID=UTC:20220622T101500
DTEND;TZID=UTC:20220622T120000
DTSTAMP:20260424T141307
CREATED:20220606T071449Z
LAST-MODIFIED:20220606T071449Z
UID:1881-1655892900-1655899200@standrewsunitedchurch.co.uk
SUMMARY:Midweek service & coffee morning
DESCRIPTION:Midweek service & Coffee morning\n\n10:15 am – 12:00 pm\n\nAll are welcome to attend this service starting at 10:15 am every Wednesday\, apart from Wednesdays following Christmas and Easter. \nJoin our coffee morning straight after the service from 11:00am – 12:00pm
URL:https://standrewsunitedchurch.co.uk/event/midweek-service-coffee-morning-3/
LOCATION:St Andew’s United Church\, CH45 2LY
END:VEVENT
BEGIN:VEVENT
DTSTART;TZID=UTC:20220619T103000
DTEND;TZID=UTC:20220619T120000
DTSTAMP:20260424T141307
CREATED:20220606T072021Z
LAST-MODIFIED:20220606T073536Z
UID:1895-1655634600-1655640000@standrewsunitedchurch.co.uk
SUMMARY:Morning service
DESCRIPTION:Morning Service conducted by Revd. Lorraine Aizlewood-Threlfall \nPlease join us for refreshments afterwards
URL:https://standrewsunitedchurch.co.uk/event/morning-service-12/
LOCATION:St Andew’s United Church\, CH45 2LY
END:VEVENT
BEGIN:VEVENT
DTSTART;TZID=UTC:20220617T140000
DTEND;TZID=UTC:20220617T160000
DTSTAMP:20260424T141307
CREATED:20220606T071719Z
LAST-MODIFIED:20220606T071719Z
UID:1887-1655474400-1655481600@standrewsunitedchurch.co.uk
SUMMARY:Knit & Natter
DESCRIPTION:KNIT & NATTER – Come and join this friendly group – meet new people\, learn new skills – whether knitting or crochet\, make new friends and join in future projects. The members have made a variety of items supporting various charities over the years – including blankets\, premature baby clothes\, hats\, knitted toys and items for Christmas. There is a stockpile of wool and knitting needles\, so no initial outlay. Bring along something you have started or something you are about to start. So whether you are a beginner or skilled knitter or just want to come along to find out what we are all about – you will be made very welcome. \nItems made supporting various charity projects such as Charles Thompson Mission\, Mission to Seafarers\, Premature Baby Unit at Arrowe Park Hospital\, plus Twiddle Muffs and Blankets for local residential homes. Whether you are a beginner or an accomplished knitter\, you will be made very welcome. \nEvery Friday from 2pm – 4pm
URL:https://standrewsunitedchurch.co.uk/event/knit-natter-2/
LOCATION:St Andew’s United Church\, CH45 2LY
END:VEVENT
BEGIN:VEVENT
DTSTART;TZID=UTC:20220616T100000
DTEND;TZID=UTC:20220616T113000
DTSTAMP:20260424T141307
CREATED:20220606T071046Z
LAST-MODIFIED:20220606T071221Z
UID:1869-1655373600-1655379000@standrewsunitedchurch.co.uk
SUMMARY:Toddler Group
DESCRIPTION:Toddler Group\n\n10:00 am – 11:30 am\n\nToddler Group for 0 – 4 year olds with activities including games\, crafts\, play area\, dressing up and much more. \nDate:  Thursday mornings during Term Time \nTime:  10 a.m. until 11.30 a.m. \nCost:  50p snack & juice for children and refreshments for adults For more information ring Lorraine on 0151 792 0972
URL:https://standrewsunitedchurch.co.uk/event/toddler-group-10/
LOCATION:St Andew’s United Church\, CH45 2LY
END:VEVENT
BEGIN:VEVENT
DTSTART;TZID=UTC:20220615T101500
DTEND;TZID=UTC:20220615T120000
DTSTAMP:20260424T141307
CREATED:20220606T071414Z
LAST-MODIFIED:20220606T071414Z
UID:1879-1655288100-1655294400@standrewsunitedchurch.co.uk
SUMMARY:Midweek service & coffee morning
DESCRIPTION:Midweek service & Coffee morning\n\n10:15 am – 12:00 pm\n\nAll are welcome to attend this service starting at 10:15 am every Wednesday\, apart from Wednesdays following Christmas and Easter. \nJoin our coffee morning straight after the service from 11:00am – 12:00pm
URL:https://standrewsunitedchurch.co.uk/event/midweek-service-coffee-morning-2/
LOCATION:St Andew’s United Church\, CH45 2LY
END:VEVENT
BEGIN:VEVENT
DTSTART;TZID=UTC:20220612T103000
DTEND;TZID=UTC:20220612T123000
DTSTAMP:20260424T141307
CREATED:20220606T071949Z
LAST-MODIFIED:20220606T073500Z
UID:1893-1655029800-1655037000@standrewsunitedchurch.co.uk
SUMMARY:Morning service
DESCRIPTION:Morning Service conducted by Revd. Peter Beaman MBE \nPlease join us for refreshments afterwards
URL:https://standrewsunitedchurch.co.uk/event/morning-service-11/
LOCATION:St Andew’s United Church\, CH45 2LY
END:VEVENT
BEGIN:VEVENT
DTSTART;TZID=UTC:20220610T140000
DTEND;TZID=UTC:20220610T160000
DTSTAMP:20260424T141307
CREATED:20220606T071650Z
LAST-MODIFIED:20220606T071650Z
UID:1885-1654869600-1654876800@standrewsunitedchurch.co.uk
SUMMARY:Knit & Natter
DESCRIPTION:Come and join this friendly group – meet new people\, learn new skills – whether knitting or crochet\, make new friends and join in future projects. The members have made a variety of items supporting various charities over the years – including blankets\, premature baby clothes\, hats\, knitted toys and items for Christmas. There is a stockpile of wool and knitting needles\, so no initial outlay. Bring along something you have started or something you are about to start. So whether you are a beginner or skilled knitter or just want to come along to find out what we are all about – you will be made very welcome. \nItems made supporting various charity projects such as Charles Thompson Mission\, Mission to Seafarers\, Premature Baby Unit at Arrowe Park Hospital\, plus Twiddle Muffs and Blankets for local residential homes. Whether you are a beginner or an accomplished knitter\, you will be made very welcome. \nEvery Friday from 2pm – 4pm
URL:https://standrewsunitedchurch.co.uk/event/knit-natter/
LOCATION:St Andew’s United Church\, CH45 2LY
END:VEVENT
BEGIN:VEVENT
DTSTART;TZID=UTC:20220609T100000
DTEND;TZID=UTC:20220609T113000
DTSTAMP:20260424T141307
CREATED:20220606T070920Z
LAST-MODIFIED:20220606T071210Z
UID:1867-1654768800-1654774200@standrewsunitedchurch.co.uk
SUMMARY:Toddler Group
DESCRIPTION:Toddler Group\n\n10:00 am – 11:30 am\n\nToddler Group for 0 – 4 year olds with activities including games\, crafts\, play area\, dressing up and much more. \nDate:  Thursday mornings during Term Time \nTime:  10 a.m. until 11.30 a.m. \nCost:  50p snack & juice for children and refreshments for adults For more information ring Lorraine on 0151 792 0972
URL:https://standrewsunitedchurch.co.uk/event/toddler-group-9/
LOCATION:St Andew’s United Church\, CH45 2LY
END:VEVENT
BEGIN:VEVENT
DTSTART;TZID=UTC:20220608T101500
DTEND;TZID=UTC:20220608T120000
DTSTAMP:20260424T141307
CREATED:20220606T071339Z
LAST-MODIFIED:20220606T071339Z
UID:1877-1654683300-1654689600@standrewsunitedchurch.co.uk
SUMMARY:Midweek service & coffee morning
DESCRIPTION:Midweek service & Coffee morning\n\n10:15 am – 12:00 pm\n\nAll are welcome to attend this service starting at 10:15 am every Wednesday\, apart from Wednesdays following Christmas and Easter. \nJoin our coffee morning straight after the service from 11:00am – 12:00pm
URL:https://standrewsunitedchurch.co.uk/event/midweek-service-coffee-morning/
LOCATION:St Andew’s United Church\, CH45 2LY
END:VEVENT
BEGIN:VEVENT
DTSTART;TZID=UTC:20220605T103000
DTEND;TZID=UTC:20220605T140000
DTSTAMP:20260424T141307
CREATED:20220429T080002Z
LAST-MODIFIED:20220429T080002Z
UID:1758-1654425000-1654437600@standrewsunitedchurch.co.uk
SUMMARY:HM Queen Elizabeth's Jubilee Celebration & Big Lunch
DESCRIPTION:Join us at 10:30am service to celebrate Her Majesty’s Reign and service. \nFollowing the service at 12:00pm we will have our Celebration Big Lunch.
URL:https://standrewsunitedchurch.co.uk/event/hm-queen-elizabeths-jubilee-celebration-big-lunch/
LOCATION:St Andew’s United Church\, CH45 2LY
END:VEVENT
BEGIN:VEVENT
DTSTART;TZID=UTC:20220601T100000
DTEND;TZID=UTC:20220601T120000
DTSTAMP:20260424T141307
CREATED:20220519T103933Z
LAST-MODIFIED:20220519T103933Z
UID:1842-1654077600-1654084800@standrewsunitedchurch.co.uk
SUMMARY:Queen's Platinum Jubilee: Holiday Club
DESCRIPTION:Queen’s Platinum Jubilee: Holiday Club\nFor Children aged 5 – 11years \nDate: Monday 30th May\, Tuesday 31st May & Wednesday 1st June finishing with party! \nTime: 10 a.m. until 12 noon \nVenue: St. Andrew’s United Church\,\nRowson Street\, New Brighton CH45 2LY \nCost: Admission Free \nThree days of crafts\, activities\, games\, fun and friendship\, finishing on Wednesday with party. \nLimited numbers so please register your child by ringing Lorraine on 0151 792 0972
URL:https://standrewsunitedchurch.co.uk/event/queens-platinum-jubilee-holiday-club-2/
LOCATION:St Andew’s United Church\, CH45 2LY
END:VEVENT
BEGIN:VEVENT
DTSTART;TZID=UTC:20220531T100000
DTEND;TZID=UTC:20220531T120000
DTSTAMP:20260424T141307
CREATED:20220519T103829Z
LAST-MODIFIED:20220519T103829Z
UID:1839-1653991200-1653998400@standrewsunitedchurch.co.uk
SUMMARY:Queen's Platinum Jubilee: Holiday Club
DESCRIPTION:Queen’s Platinum Jubilee: Holiday Club\nFor Children aged 5 – 11years \nDate: Monday 30th May\, Tuesday 31st May & Wednesday 1st June finishing with party! \nTime: 10 a.m. until 12 noon \nVenue: St. Andrew’s United Church\,\nRowson Street\, New Brighton CH45 2LY \nCost: Admission Free \nThree days of crafts\, activities\, games\, fun and friendship\, finishing on Wednesday with party. \nLimited numbers so please register your child by ringing Lorraine on 0151 792 0972
URL:https://standrewsunitedchurch.co.uk/event/queens-platinum-jubilee-holiday-club/
LOCATION:St Andew’s United Church\, CH45 2LY
END:VEVENT
BEGIN:VEVENT
DTSTART;TZID=UTC:20220530T100000
DTEND;TZID=UTC:20220530T120000
DTSTAMP:20260424T141307
CREATED:20220519T103733Z
LAST-MODIFIED:20220519T103747Z
UID:1836-1653904800-1653912000@standrewsunitedchurch.co.uk
SUMMARY:Queen's Platinum Jubilee: Holiday Club
DESCRIPTION:Queen’s Platinum Jubilee: Holiday Club\nFor Children aged 5 – 11years \nDate: Monday 30th May\, Tuesday 31st May & Wednesday 1st June finishing with party! \nTime: 10 a.m. until 12 noon \nVenue: St. Andrew’s United Church\,\nRowson Street\, New Brighton CH45 2LY \nCost: Admission Free \nThree days of crafts\, activities\, games\, fun and friendship\, finishing on Wednesday with party. \nLimited numbers so please register your child by ringing Lorraine on 0151 792 0972
URL:https://standrewsunitedchurch.co.uk/event/1836/
LOCATION:St Andew’s United Church\, CH45 2LY
END:VEVENT
BEGIN:VEVENT
DTSTART;TZID=UTC:20220529T103000
DTEND;TZID=UTC:20220529T113000
DTSTAMP:20260424T141307
CREATED:20220404T074206Z
LAST-MODIFIED:20220404T074206Z
UID:1676-1653820200-1653823800@standrewsunitedchurch.co.uk
SUMMARY:Morning service
DESCRIPTION:Morning Service conducted by Revd. Lorraine Aizlewood-Threlfall \nPlease join us for refreshments afterwards
URL:https://standrewsunitedchurch.co.uk/event/morning-service-10/
LOCATION:St Andew’s United Church\, CH45 2LY
END:VEVENT
END:VCALENDAR