BEGIN:VCALENDAR
VERSION:2.0
PRODID:-// - ECPv6.15.17//NONSGML v1.0//EN
CALSCALE:GREGORIAN
METHOD:PUBLISH
X-ORIGINAL-URL:https://standrewsunitedchurch.co.uk
X-WR-CALDESC:Events for 
REFRESH-INTERVAL;VALUE=DURATION:PT1H
X-Robots-Tag:noindex
X-PUBLISHED-TTL:PT1H
BEGIN:VTIMEZONE
TZID:UTC
BEGIN:STANDARD
TZOFFSETFROM:+0000
TZOFFSETTO:+0000
TZNAME:UTC
DTSTART:20210101T000000
END:STANDARD
END:VTIMEZONE
BEGIN:VEVENT
DTSTART;TZID=UTC:20220417T103000
DTEND;TZID=UTC:20220417T113000
DTSTAMP:20260424T202355
CREATED:20220404T073728Z
LAST-MODIFIED:20220404T073728Z
UID:1665-1650191400-1650195000@standrewsunitedchurch.co.uk
SUMMARY:Morning Service
DESCRIPTION:Easter Day communion \nMorning Service conducted by Revd. Lorraine Aizlewood-Threlfall \nPlease join us for refreshments afterwards
URL:https://standrewsunitedchurch.co.uk/event/morning-service-5/
LOCATION:St Andew’s United Church\, CH45 2LY
END:VEVENT
BEGIN:VEVENT
DTSTART;TZID=UTC:20220417T061500
DTEND;TZID=UTC:20220417T071500
DTSTAMP:20260424T202355
CREATED:20220404T084345Z
LAST-MODIFIED:20220404T084407Z
UID:1709-1650176100-1650179700@standrewsunitedchurch.co.uk
SUMMARY:Easter Dawn Service at Egremont Ferry
DESCRIPTION:
URL:https://standrewsunitedchurch.co.uk/event/easter-dawn-service-at-egremont-ferry/
END:VEVENT
BEGIN:VEVENT
DTSTART;TZID=UTC:20220415T110000
DTEND;TZID=UTC:20220415T120000
DTSTAMP:20260424T202355
CREATED:20220404T073502Z
LAST-MODIFIED:20220404T084208Z
UID:1661-1650020400-1650024000@standrewsunitedchurch.co.uk
SUMMARY:Good Friday Service
DESCRIPTION:Good Friday \nMorning Service conducted by Revd. Peter Beaman MBE \n10am Walk of Witness\, St. Thomas’ Church\, Liscard \n11am  Service of Reflection \nPlease join us for refreshments afterwards
URL:https://standrewsunitedchurch.co.uk/event/good-friday/
LOCATION:St Andew’s United Church\, CH45 2LY
END:VEVENT
BEGIN:VEVENT
DTSTART;TZID=UTC:20220413T110000
DTEND;TZID=UTC:20220413T120000
DTSTAMP:20260424T202355
CREATED:20220404T074409Z
LAST-MODIFIED:20220404T074409Z
UID:1678-1649847600-1649851200@standrewsunitedchurch.co.uk
SUMMARY:Coffee morning
DESCRIPTION:An opportunity to meet together for a chat with friends. \nTime: 11 – 12 noon
URL:https://standrewsunitedchurch.co.uk/event/coffee-morning/
LOCATION:St Andew’s United Church\, CH45 2LY
END:VEVENT
BEGIN:VEVENT
DTSTART;TZID=UTC:20220413T101500
DTEND;TZID=UTC:20220413T104500
DTSTAMP:20260424T202355
CREATED:20220323T092431Z
LAST-MODIFIED:20220323T092431Z
UID:1613-1649844900-1649846700@standrewsunitedchurch.co.uk
SUMMARY:Midweek Service
DESCRIPTION:All are welcome to attend this service starting at 10:15 am every Wednesday\, apart from Wednesdays following Christmas and Easter.
URL:https://standrewsunitedchurch.co.uk/event/midweek-service-10/
LOCATION:St Andew’s United Church\, CH45 2LY
END:VEVENT
BEGIN:VEVENT
DTSTART;TZID=UTC:20220410T160000
DTEND;TZID=UTC:20220410T170000
DTSTAMP:20260424T202355
CREATED:20220404T073403Z
LAST-MODIFIED:20220404T073403Z
UID:1659-1649606400-1649610000@standrewsunitedchurch.co.uk
SUMMARY:Palm Sunday & Tea
DESCRIPTION:Palm Sunday and Tea \n4pm Service conducted by Revd. Lorraine Aizlewood-Threlfall \nPlease join us for refreshments afterwards
URL:https://standrewsunitedchurch.co.uk/event/palm-sunday-tea/
LOCATION:St Andew’s United Church\, CH45 2LY
END:VEVENT
BEGIN:VEVENT
DTSTART;TZID=UTC:20220410T103000
DTEND;TZID=UTC:20220410T113000
DTSTAMP:20260424T202355
CREATED:20220323T145149Z
LAST-MODIFIED:20220404T084039Z
UID:1626-1649586600-1649590200@standrewsunitedchurch.co.uk
SUMMARY:Morning service
DESCRIPTION:Palm Sunday \nMorning Service conducted by Revd. Lorraine Aizlewood-Threlfall \nPlease join us for refreshments afterwards \n  \nHoly Week & Easter at St. Andrew’s\n  \nSunday 10th April Palm Sunday \n10.30 am Morning Worship \n4pm Service & Afternoon Tea \n  \nThursday 13th April \n6.30 pm Tenebrae Service \n  \nGood Friday 14th April \n10 am Walk of Witness\, St. Thomas’ Church\, Liscard \n11 am    Service of Reflection \n  \nSunday 17th April – Easter Day \n6 am – Easter Dawn Service at Egremont Ferry Pub \n11 am Easter Communion Service
URL:https://standrewsunitedchurch.co.uk/event/morning-service-3/
LOCATION:St Andew’s United Church\, CH45 2LY
END:VEVENT
BEGIN:VEVENT
DTSTART;TZID=UTC:20220407T100000
DTEND;TZID=UTC:20220407T113000
DTSTAMP:20260424T202355
CREATED:20220323T145635Z
LAST-MODIFIED:20220323T145635Z
UID:1632-1649325600-1649331000@standrewsunitedchurch.co.uk
SUMMARY:Toddler group
DESCRIPTION:Toddler Group for 0 – 4 year olds with activities including games\, crafts\, play area\, dressing up and much more. \nDate:           Thursday mornings during Term Time \nTime:          10 a.m. until 11.30 a.m. \nCost:           50p snack & juice for children and refreshments for adults \nFor more information ring Lorraine on 0151 792 0972
URL:https://standrewsunitedchurch.co.uk/event/toddler-group-3/
LOCATION:St Andew’s United Church\, CH45 2LY
END:VEVENT
BEGIN:VEVENT
DTSTART;TZID=UTC:20220406T110000
DTEND;TZID=UTC:20220406T120000
DTSTAMP:20260424T202355
CREATED:20220404T074445Z
LAST-MODIFIED:20220404T074445Z
UID:1680-1649242800-1649246400@standrewsunitedchurch.co.uk
SUMMARY:Coffee morning
DESCRIPTION:An opportunity to meet together for a chat with friends. \nTime: 11 – 12 noon
URL:https://standrewsunitedchurch.co.uk/event/coffee-morning-9/
LOCATION:St Andew’s United Church\, CH45 2LY
END:VEVENT
BEGIN:VEVENT
DTSTART;TZID=UTC:20220406T101500
DTEND;TZID=UTC:20220406T104500
DTSTAMP:20260424T202355
CREATED:20220323T092310Z
LAST-MODIFIED:20220323T092446Z
UID:1611-1649240100-1649241900@standrewsunitedchurch.co.uk
SUMMARY:Midweek Service
DESCRIPTION:All are welcome to attend this service starting at 10:15 am every Wednesday\, apart from Wednesdays following Christmas and Easter.
URL:https://standrewsunitedchurch.co.uk/event/midweek-service-9/
LOCATION:St Andew’s United Church\, CH45 2LY
END:VEVENT
BEGIN:VEVENT
DTSTART;TZID=UTC:20220403T103000
DTEND;TZID=UTC:20220403T113000
DTSTAMP:20260424T202355
CREATED:20220323T145048Z
LAST-MODIFIED:20220323T145048Z
UID:1624-1648981800-1648985400@standrewsunitedchurch.co.uk
SUMMARY:Morning service
DESCRIPTION:Morning Service conducted by \nPlease join us for refreshments afterwards
URL:https://standrewsunitedchurch.co.uk/event/morning-service-2/
LOCATION:St Andew’s United Church\, CH45 2LY
END:VEVENT
BEGIN:VEVENT
DTSTART;TZID=UTC:20220402T110000
DTEND;TZID=UTC:20220402T150000
DTSTAMP:20260424T202355
CREATED:20220322T175452Z
LAST-MODIFIED:20220322T175452Z
UID:1602-1648897200-1648911600@standrewsunitedchurch.co.uk
SUMMARY:The Spring Fair
DESCRIPTION:Saturday 2nd April @11am \nRefreshments * £1 Gift Shop * Crafts     * Raffle * Plant Stall * Activity table and much more! \nFree admission \n  \n 
URL:https://standrewsunitedchurch.co.uk/event/the-spring-fair/
LOCATION:St Andew’s United Church\, CH45 2LY
END:VEVENT
BEGIN:VEVENT
DTSTART;TZID=UTC:20220401T140000
DTEND;TZID=UTC:20220401T163000
DTSTAMP:20260424T202355
CREATED:20220323T092615Z
LAST-MODIFIED:20220323T092615Z
UID:1615-1648821600-1648830600@standrewsunitedchurch.co.uk
SUMMARY:Knitting Group
DESCRIPTION:KNIT & NATTER – Come and join this friendly group – meet new people\, learn new skills – whether knitting or crochet\, make new friends and join in future projects.   The members have made a variety of items supporting various charities over the years – including blankets\, premature baby clothes\, hats\, knitted toys and items for Christmas.  There is a stockpile of wool and knitting needles\, so no initial outlay.  Bring along something you have started or something you are about to start.   So whether you are a beginner or skilled knitter or just want to come along to find out what we are all about – you will be made very welcome. \nItems made supporting various charity projects such as Charles Thompson Mission\, Mission to Seafarers\, Premature Baby Unit at Arrowe Park Hospital\, plus Twiddle Muffs and Blankets for local residential homes.  Whether you are a beginner or an accomplished knitter\, you will be made very welcome.
URL:https://standrewsunitedchurch.co.uk/event/knitting-group-8/
LOCATION:St Andew’s United Church\, CH45 2LY
END:VEVENT
BEGIN:VEVENT
DTSTART;TZID=UTC:20220331T100000
DTEND;TZID=UTC:20220331T113000
DTSTAMP:20260424T202355
CREATED:20220323T145535Z
LAST-MODIFIED:20220323T145535Z
UID:1630-1648720800-1648726200@standrewsunitedchurch.co.uk
SUMMARY:Toddler group
DESCRIPTION:Toddler Group for 0 – 4 year olds with activities including games\, crafts\, play area\, dressing up and much more. \nDate:           Thursday mornings during Term Time \nTime:          10 a.m. until 11.30 a.m. \nCost:           50p snack & juice for children and refreshments for adults \nFor more information ring Lorraine on 0151 792 0972
URL:https://standrewsunitedchurch.co.uk/event/toddler-group/
LOCATION:St Andew’s United Church\, CH45 2LY
END:VEVENT
BEGIN:VEVENT
DTSTART;TZID=UTC:20220330T101500
DTEND;TZID=UTC:20220330T104500
DTSTAMP:20260424T202355
CREATED:20211121T161151Z
LAST-MODIFIED:20220323T092014Z
UID:1407-1648635300-1648637100@standrewsunitedchurch.co.uk
SUMMARY:Midweek Service
DESCRIPTION:All are welcome to attend this service starting at 10:15 am every Wednesday\, apart from Wednesdays following Christmas and Easter.
URL:https://standrewsunitedchurch.co.uk/event/midweek-service-8/
LOCATION:St Andew’s United Church\, CH45 2LY
END:VEVENT
BEGIN:VEVENT
DTSTART;TZID=UTC:20220325T140000
DTEND;TZID=UTC:20220325T160000
DTSTAMP:20260424T202355
CREATED:20211122T065519Z
LAST-MODIFIED:20220323T091813Z
UID:1521-1648216800-1648224000@standrewsunitedchurch.co.uk
SUMMARY:Knitting Group
DESCRIPTION:KNIT & NATTER – Come and join this friendly group – meet new people\, learn new skills – whether knitting or crochet\, make new friends and join in future projects.   The members have made a variety of items supporting various charities over the years – including blankets\, premature baby clothes\, hats\, knitted toys and items for Christmas.  There is a stockpile of wool and knitting needles\, so no initial outlay.  Bring along something you have started or something you are about to start.   So whether you are a beginner or skilled knitter or just want to come along to find out what we are all about – you will be made very welcome. \nItems made supporting various charity projects such as Charles Thompson Mission\, Mission to Seafarers\, Premature Baby Unit at Arrowe Park Hospital\, plus Twiddle Muffs and Blankets for local residential homes.  Whether you are a beginner or an accomplished knitter\, you will be made very welcome.
URL:https://standrewsunitedchurch.co.uk/event/knitting-group-6/
LOCATION:St Andew’s United Church\, CH45 2LY
END:VEVENT
BEGIN:VEVENT
DTSTART;TZID=UTC:20220130T103000
DTEND;TZID=UTC:20220130T113000
DTSTAMP:20260424T202355
CREATED:20211121T154319Z
LAST-MODIFIED:20211121T154319Z
UID:1382-1643538600-1643542200@standrewsunitedchurch.co.uk
SUMMARY:MORNING WORSHIP
DESCRIPTION:Morning Worship and Healing Service conducted by our Minister\, Revd. Lorraine Aizlewood-Threlfall
URL:https://standrewsunitedchurch.co.uk/event/morning-worship-2/
END:VEVENT
BEGIN:VEVENT
DTSTART;TZID=UTC:20220126T104500
DTEND;TZID=UTC:20220126T120000
DTSTAMP:20260424T202355
CREATED:20211121T164546Z
LAST-MODIFIED:20211121T164546Z
UID:1432-1643193900-1643198400@standrewsunitedchurch.co.uk
SUMMARY:COFFEE MORNING
DESCRIPTION:You can be sure of a warm welcome at our coffee morning from our team and regulars – tea and coffee served\, time to meet with friends and make new friends.
URL:https://standrewsunitedchurch.co.uk/event/coffee-morning-10/
END:VEVENT
BEGIN:VEVENT
DTSTART;TZID=UTC:20220126T100000
DTEND;TZID=UTC:20220126T120000
DTSTAMP:20260424T202355
CREATED:20211122T073151Z
LAST-MODIFIED:20211122T073151Z
UID:1551-1643191200-1643198400@standrewsunitedchurch.co.uk
SUMMARY:FUPS - Free Uniform for Primary Schools
DESCRIPTION:FUPS – Free Uniforms for Primary Schools \nDrop-off and collection of uniforms available from 10 am until 12 noon. \nAlso available by appointment please ring 0151 639 3034
URL:https://standrewsunitedchurch.co.uk/event/fups-free-uniform-for-primary-schools-5/
END:VEVENT
BEGIN:VEVENT
DTSTART;TZID=UTC:20220123T103000
DTEND;TZID=UTC:20220123T113000
DTSTAMP:20260424T202355
CREATED:20211121T153847Z
LAST-MODIFIED:20211121T153943Z
UID:1377-1642933800-1642937400@standrewsunitedchurch.co.uk
SUMMARY:MORNING SERVICE
DESCRIPTION:Morning Service conducted by Revd. George Palmer
URL:https://standrewsunitedchurch.co.uk/event/covenant-service/
END:VEVENT
BEGIN:VEVENT
DTSTART;TZID=UTC:20220121T140000
DTEND;TZID=UTC:20220121T160000
DTSTAMP:20260424T202355
CREATED:20211122T065425Z
LAST-MODIFIED:20211122T065425Z
UID:1519-1642773600-1642780800@standrewsunitedchurch.co.uk
SUMMARY:KNITTING GROUP
DESCRIPTION:KNITTING GROUP – come and join the friendly group for knit and natter.  Items made supporting various charity projects such as Charles Thompson Mission\, Mission to Seafarers\, Premature Baby Unit at Arrowe Park Hospital\, plus Twiddle Muffs and Blankets for local residential homes.  Whether you are a beginner or an accomplished knitter\, you will be made very welcome.
URL:https://standrewsunitedchurch.co.uk/event/knitting-group-5/
END:VEVENT
BEGIN:VEVENT
DTSTART;TZID=UTC:20220119T104500
DTEND;TZID=UTC:20220119T120000
DTSTAMP:20260424T202355
CREATED:20211121T163358Z
LAST-MODIFIED:20211121T163358Z
UID:1425-1642589100-1642593600@standrewsunitedchurch.co.uk
SUMMARY:COFFEE MORNING
DESCRIPTION:You can be sure of a warm welcome at our coffee morning from our team and regulars – tea and coffee served\, time to meet with friends and make new friends.
URL:https://standrewsunitedchurch.co.uk/event/coffee-morning-8/
END:VEVENT
BEGIN:VEVENT
DTSTART;TZID=UTC:20220119T101500
DTEND;TZID=UTC:20220119T104500
DTSTAMP:20260424T202355
CREATED:20211121T161101Z
LAST-MODIFIED:20211121T161101Z
UID:1405-1642587300-1642589100@standrewsunitedchurch.co.uk
SUMMARY:MIDWEEK SERVICE
DESCRIPTION:All are welcome to attend this service starting at 10:15 am every Wednesday\, apart from Wednesdays following Christmas and Easter.
URL:https://standrewsunitedchurch.co.uk/event/midweek-service-7/
END:VEVENT
BEGIN:VEVENT
DTSTART;TZID=UTC:20220119T100000
DTEND;TZID=UTC:20220119T120000
DTSTAMP:20260424T202355
CREATED:20211122T073100Z
LAST-MODIFIED:20211122T073100Z
UID:1549-1642586400-1642593600@standrewsunitedchurch.co.uk
SUMMARY:FUPS - Free Uniform for Primary Schools
DESCRIPTION:FUPS – Free Uniforms for Primary Schools \nDrop-off and collection of uniforms available from 10 am until 12 noon. \nAlso available by appointment please ring 0151 639 3034
URL:https://standrewsunitedchurch.co.uk/event/fups-free-uniform-for-primary-schools-4/
END:VEVENT
BEGIN:VEVENT
DTSTART;TZID=UTC:20220116T103000
DTEND;TZID=UTC:20220116T113000
DTSTAMP:20260424T202355
CREATED:20211121T154144Z
LAST-MODIFIED:20220113T212240Z
UID:1380-1642329000-1642332600@standrewsunitedchurch.co.uk
SUMMARY:MORNING WORSHIP
DESCRIPTION:Morning Worship conducted by our Minister\, Revd. Lorraine Aizlewood-Threlfall
URL:https://standrewsunitedchurch.co.uk/event/covenant-service-2/
END:VEVENT
BEGIN:VEVENT
DTSTART;TZID=UTC:20220114T140000
DTEND;TZID=UTC:20220114T160000
DTSTAMP:20260424T202355
CREATED:20211122T065335Z
LAST-MODIFIED:20211122T065335Z
UID:1517-1642168800-1642176000@standrewsunitedchurch.co.uk
SUMMARY:KNITTING GROUP
DESCRIPTION:KNITTING GROUP – come and join the friendly group for knit and natter.  Items made supporting various charity projects such as Charles Thompson Mission\, Mission to Seafarers\, Premature Baby Unit at Arrowe Park Hospital\, plus Twiddle Muffs and Blankets for local residential homes.  Whether you are a beginner or an accomplished knitter\, you will be made very welcome.
URL:https://standrewsunitedchurch.co.uk/event/knitting-group-4/
END:VEVENT
BEGIN:VEVENT
DTSTART;TZID=UTC:20220112T104500
DTEND;TZID=UTC:20220112T120000
DTSTAMP:20260424T202355
CREATED:20211121T163255Z
LAST-MODIFIED:20211121T163255Z
UID:1423-1641984300-1641988800@standrewsunitedchurch.co.uk
SUMMARY:COFFEE MORNING
DESCRIPTION:You can be sure of a warm welcome at our coffee morning from our team and regulars – tea and coffee served\, time to meet with friends and make new friends.
URL:https://standrewsunitedchurch.co.uk/event/coffee-morning-7/
END:VEVENT
BEGIN:VEVENT
DTSTART;TZID=UTC:20220112T101500
DTEND;TZID=UTC:20220112T104500
DTSTAMP:20260424T202355
CREATED:20211121T160750Z
LAST-MODIFIED:20211121T160750Z
UID:1401-1641982500-1641984300@standrewsunitedchurch.co.uk
SUMMARY:MIDWEEK SERVICE
DESCRIPTION:All are welcome to attend this service starting at 10:15 am every Wednesday\, apart from Wednesdays following Christmas and Easter.
URL:https://standrewsunitedchurch.co.uk/event/midweek-service-6/
END:VEVENT
BEGIN:VEVENT
DTSTART;TZID=UTC:20220112T100000
DTEND;TZID=UTC:20220112T120000
DTSTAMP:20260424T202355
CREATED:20211122T070108Z
LAST-MODIFIED:20211122T073312Z
UID:1529-1641981600-1641988800@standrewsunitedchurch.co.uk
SUMMARY:FUPS - Free Uniforms for Primary Schools
DESCRIPTION:FUPS – Free Uniforms for Primary Schools \nDrop-off and collection of uniforms available from 10 am until 12 noon. \nAlso available by appointment please ring 0151 639 3034
URL:https://standrewsunitedchurch.co.uk/event/fups/
END:VEVENT
BEGIN:VEVENT
DTSTART;TZID=UTC:20220109T103000
DTEND;TZID=UTC:20220109T113000
DTSTAMP:20260424T202355
CREATED:20211121T153725Z
LAST-MODIFIED:20211121T153725Z
UID:1375-1641724200-1641727800@standrewsunitedchurch.co.uk
SUMMARY:MORNING WORSHIP
DESCRIPTION:Morning Worship conducted by Mr David Powell
URL:https://standrewsunitedchurch.co.uk/event/morning-worship/
END:VEVENT
END:VCALENDAR