BEGIN:VCALENDAR
VERSION:2.0
PRODID:-// - ECPv6.15.17//NONSGML v1.0//EN
CALSCALE:GREGORIAN
METHOD:PUBLISH
X-ORIGINAL-URL:https://standrewsunitedchurch.co.uk
X-WR-CALDESC:Events for 
REFRESH-INTERVAL;VALUE=DURATION:PT1H
X-Robots-Tag:noindex
X-PUBLISHED-TTL:PT1H
BEGIN:VTIMEZONE
TZID:UTC
BEGIN:STANDARD
TZOFFSETFROM:+0000
TZOFFSETTO:+0000
TZNAME:UTC
DTSTART:20190101T000000
END:STANDARD
END:VTIMEZONE
BEGIN:VEVENT
DTSTART;TZID=UTC:20211215T104500
DTEND;TZID=UTC:20211215T120000
DTSTAMP:20260425T034054
CREATED:20211121T162227Z
LAST-MODIFIED:20211121T162520Z
UID:1415-1639565100-1639569600@standrewsunitedchurch.co.uk
SUMMARY:COFFEE MORNING
DESCRIPTION:You can be sure of a warm welcome at our coffee morning from our team and regulars – tea and coffee served\, time to meet with friends and make new friends.
URL:https://standrewsunitedchurch.co.uk/event/coffee-morning-4/
END:VEVENT
BEGIN:VEVENT
DTSTART;TZID=UTC:20211215T101500
DTEND;TZID=UTC:20211215T104500
DTSTAMP:20260425T034054
CREATED:20211121T160535Z
LAST-MODIFIED:20211121T160535Z
UID:1397-1639563300-1639565100@standrewsunitedchurch.co.uk
SUMMARY:MIDWEEK SERVICE
DESCRIPTION:All are welcome to attend this service starting at 10:15 am every Wednesday\, apart from Wednesdays following Christmas and Easter.
URL:https://standrewsunitedchurch.co.uk/event/midweek-service-4/
END:VEVENT
BEGIN:VEVENT
DTSTART;TZID=UTC:20211215T100000
DTEND;TZID=UTC:20211215T120000
DTSTAMP:20260425T034054
CREATED:20211122T070021Z
LAST-MODIFIED:20211122T070539Z
UID:1527-1639562400-1639569600@standrewsunitedchurch.co.uk
SUMMARY:FUPS - Free Uniform for Primary Schools
DESCRIPTION:FUPS – Free Uniforms for Primary Schools \nDrop-off and collection of uniforms available from 10 am until 12 noon. \nAlso available by appointment please ring 0151 639 3034
URL:https://standrewsunitedchurch.co.uk/event/fups-free-uniform-for-primary-schools-3/
END:VEVENT
BEGIN:VEVENT
DTSTART;TZID=UTC:20211212T150000
DTEND;TZID=UTC:20211212T163000
DTSTAMP:20260425T034054
CREATED:20211121T140914Z
LAST-MODIFIED:20211121T184747Z
UID:1341-1639321200-1639326600@standrewsunitedchurch.co.uk
SUMMARY:CAROLS ROUND THE TREE
DESCRIPTION:An informal Carol Service – an opportunity to sing some favourite carols followed by tea\, coffee and mince pies.
URL:https://standrewsunitedchurch.co.uk/event/christmas-tree-festival-4/
END:VEVENT
BEGIN:VEVENT
DTSTART;TZID=UTC:20211212T103000
DTEND;TZID=UTC:20211212T113000
DTSTAMP:20260425T034054
CREATED:20211121T144008Z
LAST-MODIFIED:20211121T164246Z
UID:1350-1639305000-1639308600@standrewsunitedchurch.co.uk
SUMMARY:GIFT SERVICE & TREE FESTIVAL - ADVENT 3
DESCRIPTION:Family Service with an alternative retelling of the Christmas Story. \n 
URL:https://standrewsunitedchurch.co.uk/event/advent-sunday/
END:VEVENT
BEGIN:VEVENT
DTSTART;TZID=UTC:20211211T103000
DTEND;TZID=UTC:20211211T120000
DTSTAMP:20260425T034054
CREATED:20211121T140747Z
LAST-MODIFIED:20211121T140747Z
UID:1339-1639218600-1639224000@standrewsunitedchurch.co.uk
SUMMARY:CHRISTMAS TREE FESTIVAL
DESCRIPTION:We are holding a Christmas Tree Festival which will be open to the public on Saturday 11th December 10.30 am until 12 noon and on Sunday 12th December 12 noon until 2 pm.
URL:https://standrewsunitedchurch.co.uk/event/christmas-tree-festival-3/
END:VEVENT
BEGIN:VEVENT
DTSTART;TZID=UTC:20211211T103000
DTEND;TZID=UTC:20211211T120000
DTSTAMP:20260425T034054
CREATED:20211121T140340Z
LAST-MODIFIED:20211121T164054Z
UID:1337-1639218600-1639224000@standrewsunitedchurch.co.uk
SUMMARY:CHRISTMAS COFFEE MORNING
DESCRIPTION:Christmas Coffee Morning will be held on Saturday 11th December starting at 10.30 a.m. until 12 noon. Refreshments\, Christmas Crafts & Gifts Stall.   Everyone Welcome. \n 
URL:https://standrewsunitedchurch.co.uk/event/christmas-coffee-morning-2/
END:VEVENT
BEGIN:VEVENT
DTSTART;TZID=UTC:20211210T140000
DTEND;TZID=UTC:20211210T160000
DTSTAMP:20260425T034054
CREATED:20211122T065149Z
LAST-MODIFIED:20211122T065149Z
UID:1513-1639144800-1639152000@standrewsunitedchurch.co.uk
SUMMARY:KNITTING GROUP
DESCRIPTION:KNITTING GROUP – come and join the friendly group for knit and natter.  Items made supporting various charity projects such as Charles Thompson Mission\, Mission to Seafarers\, Premature Baby Unit at Arrowe Park Hospital\, plus Twiddle Muffs and Blankets for local residential homes.  Whether you are a beginner or an accomplished knitter\, you will be made very welcome.
URL:https://standrewsunitedchurch.co.uk/event/knitting-group-2/
END:VEVENT
BEGIN:VEVENT
DTSTART;TZID=UTC:20211208T104500
DTEND;TZID=UTC:20211208T120000
DTSTAMP:20260425T034054
CREATED:20211121T163008Z
LAST-MODIFIED:20211121T163123Z
UID:1421-1638960300-1638964800@standrewsunitedchurch.co.uk
SUMMARY:COFFEE MORNING
DESCRIPTION:You can be sure of a warm welcome at our coffee morning from our team and regulars – tea and coffee served\, time to meet with friends and make new friends.
URL:https://standrewsunitedchurch.co.uk/event/coffee-morning-5/
END:VEVENT
BEGIN:VEVENT
DTSTART;TZID=UTC:20211208T101500
DTEND;TZID=UTC:20211208T104500
DTSTAMP:20260425T034054
CREATED:20211121T160444Z
LAST-MODIFIED:20211121T160444Z
UID:1395-1638958500-1638960300@standrewsunitedchurch.co.uk
SUMMARY:MIDWEEK SERVICE
DESCRIPTION:All are welcome to attend this service starting at 10:15 am every Wednesday\, apart from Wednesdays following Christmas and Easter.
URL:https://standrewsunitedchurch.co.uk/event/midweek-service-3/
END:VEVENT
BEGIN:VEVENT
DTSTART;TZID=UTC:20211208T100000
DTEND;TZID=UTC:20211208T160000
DTSTAMP:20260425T034054
CREATED:20211122T065917Z
LAST-MODIFIED:20211122T070616Z
UID:1525-1638957600-1638979200@standrewsunitedchurch.co.uk
SUMMARY:FUPS - Free Uniform for Primary Schools
DESCRIPTION:FUPS – Free Uniforms for Primary Schools \nDrop-off and collection of uniforms available from 10 am until 12 noon. \nAlso available by appointment please ring 0151 639 3034
URL:https://standrewsunitedchurch.co.uk/event/fups-free-uniform-for-primary-schools/
END:VEVENT
BEGIN:VEVENT
DTSTART;TZID=UTC:20211205T103000
DTEND;TZID=UTC:20211205T113000
DTSTAMP:20260425T034054
CREATED:20211121T151430Z
LAST-MODIFIED:20211121T151430Z
UID:1366-1638700200-1638703800@standrewsunitedchurch.co.uk
SUMMARY:HOLY COMMUNION - ADVENT 2
DESCRIPTION:Second Sunday of Advent – Service of Holy Communion conducted by Revd. Peter Beaman MBE
URL:https://standrewsunitedchurch.co.uk/event/holy-communion-advent-2/
END:VEVENT
BEGIN:VEVENT
DTSTART;TZID=UTC:20211203T140000
DTEND;TZID=UTC:20211203T160000
DTSTAMP:20260425T034054
CREATED:20211122T065059Z
LAST-MODIFIED:20211122T065059Z
UID:1511-1638540000-1638547200@standrewsunitedchurch.co.uk
SUMMARY:KNITTING GROUP
DESCRIPTION:KNITTING GROUP – come and join the friendly group for knit and natter.  Items made supporting various charity projects such as Charles Thompson Mission\, Mission to Seafarers\, Premature Baby Unit at Arrowe Park Hospital\, plus Twiddle Muffs and Blankets for local residential homes.  Whether you are a beginner or an accomplished knitter\, you will be made very welcome.
URL:https://standrewsunitedchurch.co.uk/event/knitting-group/
END:VEVENT
BEGIN:VEVENT
DTSTART;TZID=UTC:20211201T104500
DTEND;TZID=UTC:20211201T120000
DTSTAMP:20260425T034054
CREATED:20211121T162100Z
LAST-MODIFIED:20211121T162415Z
UID:1413-1638355500-1638360000@standrewsunitedchurch.co.uk
SUMMARY:COFFEE MORNING
DESCRIPTION:You can be sure of a warm welcome at our coffee morning from our team and regulars – tea and coffee served\, time to meet with friends and make new friends.
URL:https://standrewsunitedchurch.co.uk/event/coffee-morning-3/
END:VEVENT
BEGIN:VEVENT
DTSTART;TZID=UTC:20211201T101500
DTEND;TZID=UTC:20211201T104500
DTSTAMP:20260425T034054
CREATED:20211121T155456Z
LAST-MODIFIED:20211121T160122Z
UID:1389-1638353700-1638355500@standrewsunitedchurch.co.uk
SUMMARY:MIDWEEK SERVICE
DESCRIPTION:All are welcome to attend this service starting at 10:15 am every Wednesday\, apart from Wednesdays following Christmas and Easter.
URL:https://standrewsunitedchurch.co.uk/event/midweek-service-2/
END:VEVENT
BEGIN:VEVENT
DTSTART;TZID=UTC:20211201T100000
DTEND;TZID=UTC:20211201T120000
DTSTAMP:20260425T034054
CREATED:20211122T065820Z
LAST-MODIFIED:20211122T070730Z
UID:1523-1638352800-1638360000@standrewsunitedchurch.co.uk
SUMMARY:FUPS - Free Uniforms for Primary Schools
DESCRIPTION:FUPS – Free Uniforms for Primary Schools \nDrop-off and collection of uniforms available from 10 am until 12 noon. \nAlso available by appointment please ring 0151 639 3034
URL:https://standrewsunitedchurch.co.uk/event/fups-free-uniforms-for-primary-schools/
END:VEVENT
BEGIN:VEVENT
DTSTART;TZID=UTC:20211128T103000
DTEND;TZID=UTC:20211128T113000
DTSTAMP:20260425T034054
CREATED:20211121T145456Z
LAST-MODIFIED:20211121T151101Z
UID:1358-1638095400-1638099000@standrewsunitedchurch.co.uk
SUMMARY:ADVENT SUNDAY
DESCRIPTION:First Sunday of Advent\, service conducted by our Minister\, Revd. Lorraine Aizlewood-Threlfall
URL:https://standrewsunitedchurch.co.uk/event/advent-sunday-2/
END:VEVENT
BEGIN:VEVENT
DTSTART;TZID=UTC:20211126T140000
DTEND;TZID=UTC:20211126T160000
DTSTAMP:20260425T034054
CREATED:20211121T185331Z
LAST-MODIFIED:20211121T185937Z
UID:1495-1637935200-1637942400@standrewsunitedchurch.co.uk
SUMMARY:KNITTING GROUP
DESCRIPTION:KNITTING GROUP – come and join the friendly group for knit and natter.  Items made supporting various charity projects such as Charles Thompson Mission\, Mission to Seafarers\, Premature Baby Unit at Arrowe Park Hospital\, plus Twiddle Muffs and Blankets for local residential homes.  Whether you are a beginner or an accomplished knitter\, you will be made very welcome.
URL:https://standrewsunitedchurch.co.uk/event/knitting-group-7/
END:VEVENT
BEGIN:VEVENT
DTSTART;TZID=UTC:20211124T104500
DTEND;TZID=UTC:20211124T120000
DTSTAMP:20260425T034054
CREATED:20211121T154955Z
LAST-MODIFIED:20211121T162003Z
UID:1386-1637750700-1637755200@standrewsunitedchurch.co.uk
SUMMARY:COFFEE MORNING
DESCRIPTION:You can be sure of a warm welcome at our coffee morning from our team and regulars – tea and coffee served\, time to meet with friends and make new friends.
URL:https://standrewsunitedchurch.co.uk/event/coffee-morning-2/
END:VEVENT
BEGIN:VEVENT
DTSTART;TZID=UTC:20211124T101500
DTEND;TZID=UTC:20211124T104500
DTSTAMP:20260425T034054
CREATED:20211121T154817Z
LAST-MODIFIED:20211121T160314Z
UID:1384-1637748900-1637750700@standrewsunitedchurch.co.uk
SUMMARY:MIDWEEK SERVICE
DESCRIPTION:All are welcome to attend this service starting at 10:15 am every Wednesday\, apart from Wednesdays following Christmas and Easter.
URL:https://standrewsunitedchurch.co.uk/event/midweek-service/
END:VEVENT
BEGIN:VEVENT
DTSTART;TZID=UTC:20211124T100000
DTEND;TZID=UTC:20211124T120000
DTSTAMP:20260425T034054
CREATED:20191113T230853Z
LAST-MODIFIED:20211122T070810Z
UID:970-1637748000-1637755200@standrewsunitedchurch.co.uk
SUMMARY:FUPS - Free Uniform for Primary Schools
DESCRIPTION:FUPS – Free Uniforms for Primary Schools \nDrop-off and collection of uniforms available from 10 am until 12 noon. \nAlso available by appointment please ring 0151 639 3034
URL:https://standrewsunitedchurch.co.uk/event/fups-free-uniform-for-primary-schools-2/
END:VEVENT
BEGIN:VEVENT
DTSTART;TZID=UTC:20200227T191500
DTEND;TZID=UTC:20200227T213000
DTSTAMP:20260425T034054
CREATED:20191113T190923Z
LAST-MODIFIED:20191113T190923Z
UID:838-1582830900-1582839000@standrewsunitedchurch.co.uk
SUMMARY:INDOOR BOWLS
DESCRIPTION:INDOOR BOWLS for men and women meeting from September until April on Thursday evenings.  New members always welcome.  Beginners encouraged to come along and learn a new skill.
URL:https://standrewsunitedchurch.co.uk/event/indoor-bowls-17/
END:VEVENT
BEGIN:VEVENT
DTSTART;TZID=UTC:20200227T173000
DTEND;TZID=UTC:20200227T190000
DTSTAMP:20260425T034054
CREATED:20191113T184319Z
LAST-MODIFIED:20191113T184319Z
UID:803-1582824600-1582830000@standrewsunitedchurch.co.uk
SUMMARY:YOUTH GROUP
DESCRIPTION:Come and join us on Thursday evenings\, during term time.  Weekly subscription 50 pence. \nActivities include games\, crafts and arts\, quizzes\, fun\, and prayer – for Children aged 5 – 10 years.   \nWe meet in the Main Hall (access down the stone steps on Rowson Street).
URL:https://standrewsunitedchurch.co.uk/event/youth-group-13/
END:VEVENT
BEGIN:VEVENT
DTSTART;TZID=UTC:20200227T100000
DTEND;TZID=UTC:20200227T120000
DTSTAMP:20260425T034054
CREATED:20191113T165614Z
LAST-MODIFIED:20191113T165614Z
UID:727-1582797600-1582804800@standrewsunitedchurch.co.uk
SUMMARY:CRAFT GROUP
DESCRIPTION:CRAFT GROUP – card making and other paper crafts.
URL:https://standrewsunitedchurch.co.uk/event/craft-group-14/
END:VEVENT
BEGIN:VEVENT
DTSTART;TZID=UTC:20200227T094500
DTEND;TZID=UTC:20200227T113000
DTSTAMP:20260425T034054
CREATED:20191113T163539Z
LAST-MODIFIED:20191113T163539Z
UID:693-1582796700-1582803000@standrewsunitedchurch.co.uk
SUMMARY:TODDLER GROUP
DESCRIPTION:TODDLER GROUP meets during term time in the Main Hall.  For children aged 0 – 4 years with activities including games\, crafts\, soft play area\, dressing up and much more.  Everyone welcome. \nFor more information ring Lorraine on 0151 792 0972 
URL:https://standrewsunitedchurch.co.uk/event/toddler-group-15/
END:VEVENT
BEGIN:VEVENT
DTSTART;TZID=UTC:20200221T140000
DTEND;TZID=UTC:20200221T160000
DTSTAMP:20260425T034054
CREATED:20191113T172316Z
LAST-MODIFIED:20191113T175853Z
UID:761-1582293600-1582300800@standrewsunitedchurch.co.uk
SUMMARY:KNITTING GROUP
DESCRIPTION:KNITTING GROUP – come and join the friendly group for knit and natter.  Items made supporting various charity projects such as Charles Thompson Mission\, Mission to Seafarers\, Premature Baby Unit at Arrowe Park Hospital\, plus Twiddle Muffs and Blankets for local residential homes.  Whether you are a beginner or an accomplished knitter\, you will be made very welcome.
URL:https://standrewsunitedchurch.co.uk/event/knitting-group-16/
END:VEVENT
BEGIN:VEVENT
DTSTART;TZID=UTC:20200221T120000
DTEND;TZID=UTC:20200221T140000
DTSTAMP:20260425T034054
CREATED:20200212T133538Z
LAST-MODIFIED:20200212T133538Z
UID:1029-1582286400-1582293600@standrewsunitedchurch.co.uk
SUMMARY:LUNCH BUNCH - Free Children's Lunch
DESCRIPTION:LUNCH BUNCH – Free Children’s Lunch from 12 noon until 2 pm. \nEnjoy a meal\, games\, crafts and friendship. \nAdults must accompany children.
URL:https://standrewsunitedchurch.co.uk/event/lunch-bunch-free-childrens-lunch-2/
END:VEVENT
BEGIN:VEVENT
DTSTART;TZID=UTC:20200221T120000
DTEND;TZID=UTC:20200221T140000
DTSTAMP:20260425T034054
CREATED:20191113T164226Z
LAST-MODIFIED:20191113T164311Z
UID:697-1582286400-1582293600@standrewsunitedchurch.co.uk
SUMMARY:LUNCH BUNCH -  Free Lunch for Children
DESCRIPTION:LUNCH BUNCH –  \nFREE LUNCH for children during the school holidays – plus time for games\, crafts and friendship too! \nCHILDREN MUST BRING AN ADULT WITH THEM
URL:https://standrewsunitedchurch.co.uk/event/lunch-bunch-free-lunch-for-children/
END:VEVENT
BEGIN:VEVENT
DTSTART;TZID=UTC:20200220T191500
DTEND;TZID=UTC:20200220T213000
DTSTAMP:20260425T034054
CREATED:20191113T190750Z
LAST-MODIFIED:20191113T190750Z
UID:834-1582226100-1582234200@standrewsunitedchurch.co.uk
SUMMARY:INDOOR BOWLS
DESCRIPTION:INDOOR BOWLS for men and women meeting from September until April on Thursday evenings.  New members always welcome.  Beginners encouraged to come along and learn a new skill.
URL:https://standrewsunitedchurch.co.uk/event/indoor-bowls-15/
END:VEVENT
BEGIN:VEVENT
DTSTART;TZID=UTC:20200220T100000
DTEND;TZID=UTC:20200220T120000
DTSTAMP:20260425T034054
CREATED:20191113T165534Z
LAST-MODIFIED:20191113T165534Z
UID:725-1582192800-1582200000@standrewsunitedchurch.co.uk
SUMMARY:CRAFT GROUP
DESCRIPTION:CRAFT GROUP – card making and other paper crafts.
URL:https://standrewsunitedchurch.co.uk/event/craft-group-13/
END:VEVENT
END:VCALENDAR