BEGIN:VCALENDAR
VERSION:2.0
PRODID:-// - ECPv6.15.17//NONSGML v1.0//EN
CALSCALE:GREGORIAN
METHOD:PUBLISH
X-ORIGINAL-URL:https://standrewsunitedchurch.co.uk
X-WR-CALDESC:Events for 
REFRESH-INTERVAL;VALUE=DURATION:PT1H
X-Robots-Tag:noindex
X-PUBLISHED-TTL:PT1H
BEGIN:VTIMEZONE
TZID:UTC
BEGIN:STANDARD
TZOFFSETFROM:+0000
TZOFFSETTO:+0000
TZNAME:UTC
DTSTART:20230101T000000
END:STANDARD
END:VTIMEZONE
BEGIN:VEVENT
DTSTART;TZID=UTC:20240705T140000
DTEND;TZID=UTC:20240705T160000
DTSTAMP:20260420T070455
CREATED:20240529T072054Z
LAST-MODIFIED:20240529T072054Z
UID:3653-1720188000-1720195200@standrewsunitedchurch.co.uk
SUMMARY:KNIT &  NATTER
DESCRIPTION:Knit & Natter\n\nCome and join this friendly group – meet new people\, learn new skills – whether knitting or crochet\, make new friends and join in future projects. The members have made a variety of items supporting various charities over the years – including blankets\, premature baby clothes\, hats\, knitted toys and items for Christmas. There is a stockpile of wool and knitting needles\, so no initial outlay. Bring along something you have started or something you are about to start. So whether you are a beginner or skilled knitter or just want to come along to find out what we are all about – you will be made very welcome. \n\n\n\nItems made supporting various charity projects such as Charles Thompson Mission\, Mission to Seafarers\, Premature Baby Unit at Arrowe Park Hospital\, plus Twiddle Muffs and Blankets for local residential homes. Whether you are a beginner or an accomplished knitter\, you will be made very welcome. \nEvery Friday from 2pm – 4pm – TERM TIME ONLY
URL:https://standrewsunitedchurch.co.uk/event/knit-natter-75/
END:VEVENT
BEGIN:VEVENT
DTSTART;TZID=UTC:20240704T100000
DTEND;TZID=UTC:20240704T113000
DTSTAMP:20260420T070455
CREATED:20240408T215148Z
LAST-MODIFIED:20240408T215148Z
UID:3489-1720087200-1720092600@standrewsunitedchurch.co.uk
SUMMARY:TODDLER GROUP
DESCRIPTION:TODDLER GROUP 10 – 11.30 am Thursdays during Term Time\, for 0-4 year olds with activities including games\, crafts\, play area\, dressing up and much more.
URL:https://standrewsunitedchurch.co.uk/event/toddler-group-92/
END:VEVENT
BEGIN:VEVENT
DTSTART;TZID=UTC:20240703T103000
DTEND;TZID=UTC:20240703T103000
DTSTAMP:20260420T070455
CREATED:20240529T071359Z
LAST-MODIFIED:20240529T071359Z
UID:3646-1720002600-1720002600@standrewsunitedchurch.co.uk
SUMMARY:CHRISTIANITY EXPLORED - BIBLE STUDY
DESCRIPTION:CHRISTIANITY EXPLORED is open to everyone. \nFor anyone looking to explore the Christian faith\, who Jesus is and why he matters. \nMeet the man who changed history\, in the pages of Mark’s Gospel. \n7 sessions\, each Wednesday starting at 10.30 am
URL:https://standrewsunitedchurch.co.uk/event/christianity-explored-bible-study-3/
END:VEVENT
BEGIN:VEVENT
DTSTART;TZID=UTC:20240701T100000
DTEND;TZID=UTC:20240701T110000
DTSTAMP:20260420T070455
CREATED:20240408T213633Z
LAST-MODIFIED:20240408T213633Z
UID:3471-1719828000-1719831600@standrewsunitedchurch.co.uk
SUMMARY:STAY & PLAY
DESCRIPTION:STAY & PLAY \n\n\n\n\nMonday’s 10:00am – 11:00am – TERM TIME ONLY \nAt St Andrew’s United Church Rowson Street New Brighton CH45 2LY \nFor more information ring Seacombe Children Centre on:\n0151 666 3506.
URL:https://standrewsunitedchurch.co.uk/event/stay-play-59/
END:VEVENT
BEGIN:VEVENT
DTSTART;TZID=UTC:20240630T103000
DTEND;TZID=UTC:20240630T103000
DTSTAMP:20260420T070455
CREATED:20240529T065302Z
LAST-MODIFIED:20240529T070204Z
UID:3632-1719743400-1719743400@standrewsunitedchurch.co.uk
SUMMARY:MORNING WORSHIP
DESCRIPTION:MORNING WORSHIP & HEALING SERVICE will start at 10.30 am and will be led by Revd. Lorraine Aizlewood-Threlfall. \nEveryone Welcome.
URL:https://standrewsunitedchurch.co.uk/event/morning-worship-29/
END:VEVENT
BEGIN:VEVENT
DTSTART;TZID=UTC:20240628T140000
DTEND;TZID=UTC:20240628T160000
DTSTAMP:20260420T070455
CREATED:20240408T220829Z
LAST-MODIFIED:20240408T220829Z
UID:3521-1719583200-1719590400@standrewsunitedchurch.co.uk
SUMMARY:KNIT & NATTER
DESCRIPTION:Knit & Natter\n\nCome and join this friendly group – meet new people\, learn new skills – whether knitting or crochet\, make new friends and join in future projects. The members have made a variety of items supporting various charities over the years – including blankets\, premature baby clothes\, hats\, knitted toys and items for Christmas. There is a stockpile of wool and knitting needles\, so no initial outlay. Bring along something you have started or something you are about to start. So whether you are a beginner or skilled knitter or just want to come along to find out what we are all about – you will be made very welcome. \n\n\n\nItems made supporting various charity projects such as Charles Thompson Mission\, Mission to Seafarers\, Premature Baby Unit at Arrowe Park Hospital\, plus Twiddle Muffs and Blankets for local residential homes. Whether you are a beginner or an accomplished knitter\, you will be made very welcome. \nEvery Friday from 2pm – 4pm – TERM TIME ONLY
URL:https://standrewsunitedchurch.co.uk/event/knit-natter-74/
END:VEVENT
BEGIN:VEVENT
DTSTART;TZID=UTC:20240627T100000
DTEND;TZID=UTC:20240627T113000
DTSTAMP:20260420T070455
CREATED:20240408T215055Z
LAST-MODIFIED:20240408T215415Z
UID:3487-1719482400-1719487800@standrewsunitedchurch.co.uk
SUMMARY:TODDLER GROUP
DESCRIPTION:TODDLER GROUP 10 – 11.30 am Thursdays during Term Time\, for 0-4 year olds with activities including games\, crafts\, play area\, dressing up and much more.
URL:https://standrewsunitedchurch.co.uk/event/stay-play-62/
END:VEVENT
BEGIN:VEVENT
DTSTART;TZID=UTC:20240626T120000
DTEND;TZID=UTC:20240626T120000
DTSTAMP:20260420T070455
CREATED:20240505T000112Z
LAST-MODIFIED:20240505T000112Z
UID:3583-1719403200-1719403200@standrewsunitedchurch.co.uk
SUMMARY:CHURCH LUNCH
DESCRIPTION:CHURCH LUNCH – 12 noon – for more information please be in touch with Revd. Lorraine to book your place.
URL:https://standrewsunitedchurch.co.uk/event/church-lunch-10/
END:VEVENT
BEGIN:VEVENT
DTSTART;TZID=UTC:20240626T103000
DTEND;TZID=UTC:20240626T103000
DTSTAMP:20260420T070455
CREATED:20240529T070924Z
LAST-MODIFIED:20240529T070924Z
UID:3641-1719397800-1719397800@standrewsunitedchurch.co.uk
SUMMARY:CHRISTIANITY EXPLORED  -  BIBLE STUDY
DESCRIPTION:CHRISTIANITY EXPLORED – Bible Study is open to everyone. \nFor anyone looking to explore the Christian faith\, who Jesus is and why he matters. \nMeet the man who changed history\, in the pages of Mark’s Gospel. \n7 sessions\, each Wednesday starting at 10.30 am
URL:https://standrewsunitedchurch.co.uk/event/christianity-explored-bible-study-2/
END:VEVENT
BEGIN:VEVENT
DTSTART;TZID=UTC:20240624T100000
DTEND;TZID=UTC:20240624T110000
DTSTAMP:20260420T070455
CREATED:20240408T213531Z
LAST-MODIFIED:20240408T213531Z
UID:3469-1719223200-1719226800@standrewsunitedchurch.co.uk
SUMMARY:STAY & PLAY
DESCRIPTION:STAY & PLAY \n\n\n\n\nMonday’s 10:00am – 11:00am – TERM TIME ONLY \nAt St Andrew’s United Church Rowson Street New Brighton CH45 2LY \nFor more information ring Seacombe Children Centre on:\n0151 666 3506.
URL:https://standrewsunitedchurch.co.uk/event/stay-play-58/
END:VEVENT
BEGIN:VEVENT
DTSTART;TZID=UTC:20240623T103000
DTEND;TZID=UTC:20240623T103000
DTSTAMP:20260420T070455
CREATED:20240529T064634Z
LAST-MODIFIED:20240529T064634Z
UID:3625-1719138600-1719138600@standrewsunitedchurch.co.uk
SUMMARY:MORNING WORSHIP
DESCRIPTION:MORNING WORSHIP starts at 10.30 am and will be led by Revd. Lorraine Aizlewood-Threlfall \n  \nEveryone Welcome
URL:https://standrewsunitedchurch.co.uk/event/morning-worship-28/
END:VEVENT
BEGIN:VEVENT
DTSTART;TZID=UTC:20240621T140000
DTEND;TZID=UTC:20240621T160000
DTSTAMP:20260420T070455
CREATED:20240408T220750Z
LAST-MODIFIED:20240408T220750Z
UID:3519-1718978400-1718985600@standrewsunitedchurch.co.uk
SUMMARY:KNIT & NATTER
DESCRIPTION:Knit & Natter\n\nCome and join this friendly group – meet new people\, learn new skills – whether knitting or crochet\, make new friends and join in future projects. The members have made a variety of items supporting various charities over the years – including blankets\, premature baby clothes\, hats\, knitted toys and items for Christmas. There is a stockpile of wool and knitting needles\, so no initial outlay. Bring along something you have started or something you are about to start. So whether you are a beginner or skilled knitter or just want to come along to find out what we are all about – you will be made very welcome. \n\n\n\nItems made supporting various charity projects such as Charles Thompson Mission\, Mission to Seafarers\, Premature Baby Unit at Arrowe Park Hospital\, plus Twiddle Muffs and Blankets for local residential homes. Whether you are a beginner or an accomplished knitter\, you will be made very welcome. \nEvery Friday from 2pm – 4pm – TERM TIME ONLY
URL:https://standrewsunitedchurch.co.uk/event/knit-natter-73/
END:VEVENT
BEGIN:VEVENT
DTSTART;TZID=UTC:20240620T100000
DTEND;TZID=UTC:20240620T113000
DTSTAMP:20260420T070455
CREATED:20240408T214952Z
LAST-MODIFIED:20240408T214952Z
UID:3485-1718877600-1718883000@standrewsunitedchurch.co.uk
SUMMARY:TODDLER GROUP
DESCRIPTION:TODDLER GROUP 10 – 11.30 am Thursdays during Term Time\, for 0-4 year olds with activities including games\, crafts\, play area\, dressing up and much more.
URL:https://standrewsunitedchurch.co.uk/event/toddler-group-91/
END:VEVENT
BEGIN:VEVENT
DTSTART;TZID=UTC:20240619T103000
DTEND;TZID=UTC:20240619T103000
DTSTAMP:20260420T070455
CREATED:20240529T070828Z
LAST-MODIFIED:20240529T070828Z
UID:3639-1718793000-1718793000@standrewsunitedchurch.co.uk
SUMMARY:CHRISTIANITY EXPLORED  -  BIBLE STUDY
DESCRIPTION:CHRISTIANITY EXPLORED – Bible Study is open to everyone. \nFor anyone looking to explore the Christian faith\, who Jesus is and why he matters. \nMeet the man who changed history\, in the pages of Mark’s Gospel. \n7 sessions\, each Wednesday starting at 10.30 am
URL:https://standrewsunitedchurch.co.uk/event/christianity-explored-bible-study/
END:VEVENT
BEGIN:VEVENT
DTSTART;TZID=UTC:20240617T100000
DTEND;TZID=UTC:20240617T110000
DTSTAMP:20260420T070455
CREATED:20240408T213304Z
LAST-MODIFIED:20240408T213304Z
UID:3466-1718618400-1718622000@standrewsunitedchurch.co.uk
SUMMARY:STAY & PLAY
DESCRIPTION:STAY & PLAY \n\n\n\n\nMonday’s 10:00am – 11:00am – TERM TIME ONLY \nAt St Andrew’s United Church Rowson Street New Brighton CH45 2LY \nFor more information ring Seacombe Children Centre on:\n0151 666 3506.
URL:https://standrewsunitedchurch.co.uk/event/stay-play-57/
END:VEVENT
BEGIN:VEVENT
DTSTART;TZID=UTC:20240616T103000
DTEND;TZID=UTC:20240616T103000
DTSTAMP:20260420T070455
CREATED:20240529T064436Z
LAST-MODIFIED:20240529T064436Z
UID:3623-1718533800-1718533800@standrewsunitedchurch.co.uk
SUMMARY:MORNING WORSHIP  -  Father's Day
DESCRIPTION:MORNING WORSHIP will be led by Stuart Annison-Kidd and members of the Worship Group. \n  \nEveryone Welcome
URL:https://standrewsunitedchurch.co.uk/event/morning-worship-fathers-day/
END:VEVENT
BEGIN:VEVENT
DTSTART;TZID=UTC:20240614T140000
DTEND;TZID=UTC:20240614T160000
DTSTAMP:20260420T070455
CREATED:20240408T220416Z
LAST-MODIFIED:20240408T220416Z
UID:3513-1718373600-1718380800@standrewsunitedchurch.co.uk
SUMMARY:KNIT & NATTER
DESCRIPTION:Knit & Natter\n\nCome and join this friendly group – meet new people\, learn new skills – whether knitting or crochet\, make new friends and join in future projects. The members have made a variety of items supporting various charities over the years – including blankets\, premature baby clothes\, hats\, knitted toys and items for Christmas. There is a stockpile of wool and knitting needles\, so no initial outlay. Bring along something you have started or something you are about to start. So whether you are a beginner or skilled knitter or just want to come along to find out what we are all about – you will be made very welcome. \n\n\n\nItems made supporting various charity projects such as Charles Thompson Mission\, Mission to Seafarers\, Premature Baby Unit at Arrowe Park Hospital\, plus Twiddle Muffs and Blankets for local residential homes. Whether you are a beginner or an accomplished knitter\, you will be made very welcome. \nEvery Friday from 2pm – 4pm – TERM TIME ONLY
URL:https://standrewsunitedchurch.co.uk/event/knit-natter-72/
END:VEVENT
BEGIN:VEVENT
DTSTART;TZID=UTC:20240613T100000
DTEND;TZID=UTC:20240613T113000
DTSTAMP:20260420T070455
CREATED:20240408T214850Z
LAST-MODIFIED:20240408T214850Z
UID:3483-1718272800-1718278200@standrewsunitedchurch.co.uk
SUMMARY:TODDLER GROUP
DESCRIPTION:TODDLER GROUP 10 – 11.30 am Thursdays during Term Time\, for 0-4 year olds with activities including games\, crafts\, play area\, dressing up and much more.
URL:https://standrewsunitedchurch.co.uk/event/toddler-group-90/
END:VEVENT
BEGIN:VEVENT
DTSTART;TZID=UTC:20240612T103000
DTEND;TZID=UTC:20240612T103000
DTSTAMP:20260420T070455
CREATED:20240529T070649Z
LAST-MODIFIED:20240529T071112Z
UID:3637-1718188200-1718188200@standrewsunitedchurch.co.uk
SUMMARY:CHRISTIANITY EXPLORED - BIBLE STUDY
DESCRIPTION:CHRISTIANITY EXPLORED is open to everyone. \nFor anyone looking to explore the Christian faith\, who Jesus is and why he matters. \nMeet the man who changed history\, in the pages of Mark’s Gospel. \n7 sessions\, each Wednesday starting at 10.30 am
URL:https://standrewsunitedchurch.co.uk/event/bible-study-christianity-explored-2/
END:VEVENT
BEGIN:VEVENT
DTSTART;TZID=UTC:20240610T100000
DTEND;TZID=UTC:20240610T110000
DTSTAMP:20260420T070455
CREATED:20240408T213225Z
LAST-MODIFIED:20240408T213225Z
UID:3464-1718013600-1718017200@standrewsunitedchurch.co.uk
SUMMARY:STAY & PLAY
DESCRIPTION:STAY & PLAY \n\n\n\n\nMonday’s 10:00am – 11:00am – TERM TIME ONLY \nAt St Andrew’s United Church Rowson Street New Brighton CH45 2LY \nFor more information ring Seacombe Children Centre on:\n0151 666 3506.
URL:https://standrewsunitedchurch.co.uk/event/stay-play-56/
END:VEVENT
BEGIN:VEVENT
DTSTART;TZID=UTC:20240609T103000
DTEND;TZID=UTC:20240609T103000
DTSTAMP:20260420T070455
CREATED:20240529T064312Z
LAST-MODIFIED:20240529T064312Z
UID:3621-1717929000-1717929000@standrewsunitedchurch.co.uk
SUMMARY:MORNING WORSHIP
DESCRIPTION:MORNING WORSHIP starts at 10.30 am and will be led by the Worship Group. \nEveryone Welcome
URL:https://standrewsunitedchurch.co.uk/event/morning-worship-27/
END:VEVENT
BEGIN:VEVENT
DTSTART;TZID=UTC:20240607T190000
DTEND;TZID=UTC:20240607T210000
DTSTAMP:20260420T070455
CREATED:20240516T072527Z
LAST-MODIFIED:20240516T072527Z
UID:3598-1717786800-1717794000@standrewsunitedchurch.co.uk
SUMMARY:JUST DESSERTS & FUN QUIZ
DESCRIPTION:JUST DESSERTS & FUN QUIZ  \nHave your main course at home and then come to church to choose your dessert from a wide selection of cakes\, pastries and puddings.  Take part in the Fun Quiz and enjoy a time of good food and friendship. \nStarts prompt at 7pm.   Adults £4.00 and Children £2.00 \n  \n  \n 
URL:https://standrewsunitedchurch.co.uk/event/just-desserts-fun-quiz/
END:VEVENT
BEGIN:VEVENT
DTSTART;TZID=UTC:20240607T140000
DTEND;TZID=UTC:20240607T160000
DTSTAMP:20260420T070455
CREATED:20240408T220329Z
LAST-MODIFIED:20240408T220329Z
UID:3511-1717768800-1717776000@standrewsunitedchurch.co.uk
SUMMARY:KNIT & NATTER
DESCRIPTION:Knit & Natter\n\nCome and join this friendly group – meet new people\, learn new skills – whether knitting or crochet\, make new friends and join in future projects. The members have made a variety of items supporting various charities over the years – including blankets\, premature baby clothes\, hats\, knitted toys and items for Christmas. There is a stockpile of wool and knitting needles\, so no initial outlay. Bring along something you have started or something you are about to start. So whether you are a beginner or skilled knitter or just want to come along to find out what we are all about – you will be made very welcome. \n\n\n\nItems made supporting various charity projects such as Charles Thompson Mission\, Mission to Seafarers\, Premature Baby Unit at Arrowe Park Hospital\, plus Twiddle Muffs and Blankets for local residential homes. Whether you are a beginner or an accomplished knitter\, you will be made very welcome. \nEvery Friday from 2pm – 4pm – TERM TIME ONLY
URL:https://standrewsunitedchurch.co.uk/event/knit-natter-71/
END:VEVENT
BEGIN:VEVENT
DTSTART;TZID=UTC:20240606T100000
DTEND;TZID=UTC:20240606T113000
DTSTAMP:20260420T070455
CREATED:20240408T214810Z
LAST-MODIFIED:20240408T214810Z
UID:3481-1717668000-1717673400@standrewsunitedchurch.co.uk
SUMMARY:TODDLER GROUP
DESCRIPTION:TODDLER GROUP 10 – 11.30 am Thursdays during Term Time\, for 0-4 year olds with activities including games\, crafts\, play area\, dressing up and much more.
URL:https://standrewsunitedchurch.co.uk/event/toddler-group-89/
END:VEVENT
BEGIN:VEVENT
DTSTART;TZID=UTC:20240605T103000
DTEND;TZID=UTC:20240605T103000
DTSTAMP:20260420T070455
CREATED:20240529T070602Z
LAST-MODIFIED:20240529T071228Z
UID:3635-1717583400-1717583400@standrewsunitedchurch.co.uk
SUMMARY:CHRISTIANITY EXPLORED - BIBLE STUDY
DESCRIPTION:CHRISTIANITY EXPLORED is open to everyone. \nFor anyone looking to explore the Christian faith\, who Jesus is and why he matters. \nMeet the man who changed history\, in the pages of Mark’s Gospel. \n7 sessions\, each Wednesday starting at 10.30 am \n 
URL:https://standrewsunitedchurch.co.uk/event/bible-study-christianity-explored/
END:VEVENT
BEGIN:VEVENT
DTSTART;TZID=UTC:20240603T100000
DTEND;TZID=UTC:20240603T110000
DTSTAMP:20260420T070455
CREATED:20240408T213146Z
LAST-MODIFIED:20240408T213146Z
UID:3462-1717408800-1717412400@standrewsunitedchurch.co.uk
SUMMARY:STAY & PLAY
DESCRIPTION:STAY & PLAY \n\n\n\n\nMonday’s 10:00am – 11:00am – TERM TIME ONLY \nAt St Andrew’s United Church Rowson Street New Brighton CH45 2LY \nFor more information ring Seacombe Children Centre on:\n0151 666 3506.
URL:https://standrewsunitedchurch.co.uk/event/stay-play-55/
END:VEVENT
BEGIN:VEVENT
DTSTART;TZID=UTC:20240602T120000
DTEND;TZID=UTC:20240602T150000
DTSTAMP:20260420T070455
CREATED:20240504T235736Z
LAST-MODIFIED:20240529T063858Z
UID:3579-1717329600-1717340400@standrewsunitedchurch.co.uk
SUMMARY:BIG LUNCH
DESCRIPTION:BIG LUNCH – Community Lunch\, games and activities for all the family. \n  \nIf you would like to book your place please contact Revd. Lorraine 0151 792 0972
URL:https://standrewsunitedchurch.co.uk/event/big-lunch/
END:VEVENT
BEGIN:VEVENT
DTSTART;TZID=UTC:20240602T103000
DTEND;TZID=UTC:20240602T103000
DTSTAMP:20260420T070455
CREATED:20240504T235532Z
LAST-MODIFIED:20240504T235532Z
UID:3577-1717324200-1717324200@standrewsunitedchurch.co.uk
SUMMARY:HOLY COMMUNION
DESCRIPTION:Holy Communion Service will be held at 10.30 am and will be conducted by Revd. Lorraine AIzlewood-Threlfall.
URL:https://standrewsunitedchurch.co.uk/event/holy-communion-6/
END:VEVENT
BEGIN:VEVENT
DTSTART;TZID=UTC:20240529T103000
DTEND;TZID=UTC:20240529T111500
DTSTAMP:20260420T070455
CREATED:20240529T064111Z
LAST-MODIFIED:20240529T064111Z
UID:3619-1716978600-1716981300@standrewsunitedchurch.co.uk
SUMMARY:MIDWEEK SERVICE
DESCRIPTION:MIDWEEK SERVICE – 10.30 am \nEveryone Welcome
URL:https://standrewsunitedchurch.co.uk/event/midweek-service-16/
END:VEVENT
BEGIN:VEVENT
DTSTART;VALUE=DATE:20240527
DTEND;VALUE=DATE:20240601
DTSTAMP:20260420T070455
CREATED:20240408T212220Z
LAST-MODIFIED:20240408T214029Z
UID:3438-1716768000-1717199999@standrewsunitedchurch.co.uk
SUMMARY:HALF TERM
DESCRIPTION:
URL:https://standrewsunitedchurch.co.uk/event/half-term-2/
END:VEVENT
END:VCALENDAR