BEGIN:VCALENDAR
VERSION:2.0
PRODID:-// - ECPv6.15.17//NONSGML v1.0//EN
CALSCALE:GREGORIAN
METHOD:PUBLISH
X-ORIGINAL-URL:https://standrewsunitedchurch.co.uk
X-WR-CALDESC:Events for 
REFRESH-INTERVAL;VALUE=DURATION:PT1H
X-Robots-Tag:noindex
X-PUBLISHED-TTL:PT1H
BEGIN:VTIMEZONE
TZID:UTC
BEGIN:STANDARD
TZOFFSETFROM:+0000
TZOFFSETTO:+0000
TZNAME:UTC
DTSTART:20240101T000000
END:STANDARD
END:VTIMEZONE
BEGIN:VEVENT
DTSTART;TZID=UTC:20250202T103000
DTEND;TZID=UTC:20250202T103000
DTSTAMP:20260420T050506
CREATED:20250124T115844Z
LAST-MODIFIED:20250124T115844Z
UID:4149-1738492200-1738492200@standrewsunitedchurch.co.uk
SUMMARY:HOLY COMMUNION
DESCRIPTION:Service of Holy Communion will start at 10.30 am and will be led by the Revd. Heather MacLeod.
URL:https://standrewsunitedchurch.co.uk/event/holy-communion-12/
END:VEVENT
BEGIN:VEVENT
DTSTART;TZID=UTC:20250203T100000
DTEND;TZID=UTC:20250203T110000
DTSTAMP:20260420T050506
CREATED:20250201T093006Z
LAST-MODIFIED:20250201T093006Z
UID:4154-1738576800-1738580400@standrewsunitedchurch.co.uk
SUMMARY:STAY & PLAY
DESCRIPTION:STAY & PLAY \n\n\n\n\nMonday’s 10:00am – 11:00am – TERM TIME ONLY \nAt St Andrew’s United Church Rowson Street New Brighton CH45 2LY \nFor more information ring Seacombe Children Centre on:\n0151 666 3506.
URL:https://standrewsunitedchurch.co.uk/event/stay-play-76/
END:VEVENT
BEGIN:VEVENT
DTSTART;TZID=UTC:20250205T100000
DTEND;TZID=UTC:20250205T113000
DTSTAMP:20260420T050506
CREATED:20241227T093011Z
LAST-MODIFIED:20241227T093011Z
UID:4096-1738749600-1738755000@standrewsunitedchurch.co.uk
SUMMARY:MIDWEEK SERVICE & BIBLE STUDY
DESCRIPTION:MIDWEEK SERVICE & BIBLE STUDY  will start at 10.30 am.  Refreshments available following the service. \nEVERYONE WELCOME
URL:https://standrewsunitedchurch.co.uk/event/midweek-service-bible-study-26/
END:VEVENT
BEGIN:VEVENT
DTSTART;TZID=UTC:20250206T100000
DTEND;TZID=UTC:20250206T113000
DTSTAMP:20260420T050506
CREATED:20241227T091459Z
LAST-MODIFIED:20241227T091459Z
UID:4082-1738836000-1738841400@standrewsunitedchurch.co.uk
SUMMARY:TODDLER GROUP
DESCRIPTION:TODDLER GROUP 10 – 11.30 am Thursdays during Term Time\, for 0-4 year olds with activities including games\, crafts\, play area\, dressing up and much more.
URL:https://standrewsunitedchurch.co.uk/event/toddler-group-113/
END:VEVENT
BEGIN:VEVENT
DTSTART;TZID=UTC:20250207T120000
DTEND;TZID=UTC:20250207T140000
DTSTAMP:20260420T050506
CREATED:20241227T094441Z
LAST-MODIFIED:20241227T094441Z
UID:4110-1738929600-1738936800@standrewsunitedchurch.co.uk
SUMMARY:WARM WELCOME FRIDAYS @ ST ANDREW'S
DESCRIPTION:WARM WELCOME from 12 noon until 2 pm Soup & Sandwich plus Tea & Coffee. \nCome and sit in the warmth of the building\, enjoy lunch and make new friends. \nEveryone Welcome
URL:https://standrewsunitedchurch.co.uk/event/warm-welcome-fridays-st-andrews-32/
END:VEVENT
BEGIN:VEVENT
DTSTART;TZID=UTC:20250208T103000
DTEND;TZID=UTC:20250208T120000
DTSTAMP:20260420T050506
CREATED:20250201T092759Z
LAST-MODIFIED:20250211T142634Z
UID:4152-1739010600-1739016000@standrewsunitedchurch.co.uk
SUMMARY:COFFEE MORNING & CAKE SALE
DESCRIPTION:COFFEE\, CAKE & CHAT starting at 10.30 am – 12 noon. \n  \nEveryone Welcome
URL:https://standrewsunitedchurch.co.uk/event/coffee-morning-cake-sale-4/
END:VEVENT
BEGIN:VEVENT
DTSTART;TZID=UTC:20250209T103000
DTEND;TZID=UTC:20250209T103000
DTSTAMP:20260420T050506
CREATED:20250201T093959Z
LAST-MODIFIED:20250201T093959Z
UID:4172-1739097000-1739097000@standrewsunitedchurch.co.uk
SUMMARY:MORNING WORSHIP
DESCRIPTION:MORNING WORSHIP starts at 10.30 am and will be led by the Revd. Lorraine Aizlewood-Threlfall
URL:https://standrewsunitedchurch.co.uk/event/morning-worship-49/
END:VEVENT
BEGIN:VEVENT
DTSTART;TZID=UTC:20250210T100000
DTEND;TZID=UTC:20250210T110000
DTSTAMP:20260420T050506
CREATED:20250201T093046Z
LAST-MODIFIED:20250201T093046Z
UID:4156-1739181600-1739185200@standrewsunitedchurch.co.uk
SUMMARY:STAY & PLAY
DESCRIPTION:STAY & PLAY \n\n\n\n\nMonday’s 10:00am – 11:00am – TERM TIME ONLY \nAt St Andrew’s United Church Rowson Street New Brighton CH45 2LY \nFor more information ring Seacombe Children Centre on:\n0151 666 3506.
URL:https://standrewsunitedchurch.co.uk/event/stay-play-77/
END:VEVENT
BEGIN:VEVENT
DTSTART;TZID=UTC:20250212T100000
DTEND;TZID=UTC:20250212T113000
DTSTAMP:20260420T050506
CREATED:20241227T093147Z
LAST-MODIFIED:20241227T093147Z
UID:4098-1739354400-1739359800@standrewsunitedchurch.co.uk
SUMMARY:MIDWEEK SERVICE & BIBLE STUDY
DESCRIPTION:MIDWEEK SERVICE & BIBLE STUDY  will start at 10.30 am.  Refreshments available following the service. \nEVERYONE WELCOME
URL:https://standrewsunitedchurch.co.uk/event/midweek-service-bible-study-27/
END:VEVENT
BEGIN:VEVENT
DTSTART;TZID=UTC:20250213T100000
DTEND;TZID=UTC:20250213T113000
DTSTAMP:20260420T050506
CREATED:20241227T091534Z
LAST-MODIFIED:20241227T091613Z
UID:4084-1739440800-1739446200@standrewsunitedchurch.co.uk
SUMMARY:TODDLER GROUP
DESCRIPTION:TODDLER GROUP 10 – 11.30 am Thursdays during Term Time\, for 0-4 year olds with activities including games\, crafts\, play area\, dressing up and much more.
URL:https://standrewsunitedchurch.co.uk/event/toddler-group-114/
END:VEVENT
BEGIN:VEVENT
DTSTART;TZID=UTC:20250214T120000
DTEND;TZID=UTC:20250214T140000
DTSTAMP:20260420T050506
CREATED:20241227T094538Z
LAST-MODIFIED:20241227T094538Z
UID:4112-1739534400-1739541600@standrewsunitedchurch.co.uk
SUMMARY:WARM WELCOME FRIDAYS @ ST ANDREW'S
DESCRIPTION:WARM WELCOME from 12 noon until 2 pm Soup & Sandwich plus Tea & Coffee. \nCome and sit in the warmth of the building\, enjoy lunch and make new friends. \nEveryone Welcome
URL:https://standrewsunitedchurch.co.uk/event/warm-welcome-fridays-st-andrews-36/
END:VEVENT
BEGIN:VEVENT
DTSTART;TZID=UTC:20250216T103000
DTEND;TZID=UTC:20250216T103000
DTSTAMP:20260420T050506
CREATED:20250201T093824Z
LAST-MODIFIED:20250201T093824Z
UID:4170-1739701800-1739701800@standrewsunitedchurch.co.uk
SUMMARY:MORNING WORSHIP
DESCRIPTION:MORNING WORSHIP starts at 10.30 am and will be led by the Revd. Lorraine Aizlewood-Threlfall
URL:https://standrewsunitedchurch.co.uk/event/morning-worship-48/
END:VEVENT
BEGIN:VEVENT
DTSTART;VALUE=DATE:20250217
DTEND;VALUE=DATE:20250222
DTSTAMP:20260420T050506
CREATED:20241227T091841Z
LAST-MODIFIED:20241227T091841Z
UID:4086-1739750400-1740182399@standrewsunitedchurch.co.uk
SUMMARY:HALF TERM
DESCRIPTION:
URL:https://standrewsunitedchurch.co.uk/event/half-term-4/
END:VEVENT
BEGIN:VEVENT
DTSTART;TZID=UTC:20250219T103000
DTEND;TZID=UTC:20250219T103000
DTSTAMP:20260420T050506
CREATED:20250203T121054Z
LAST-MODIFIED:20250203T121054Z
UID:4193-1739961000-1739961000@standrewsunitedchurch.co.uk
SUMMARY:MIDWEEK SERVICE & BIBLE STUDY
DESCRIPTION:MIDWEEK SERVICE & BIBLE STUDY  will start at 10.30 am.  Refreshments available following the service. \nEVERYONE WELCOME
URL:https://standrewsunitedchurch.co.uk/event/midweek-service-bible-study-28/
END:VEVENT
BEGIN:VEVENT
DTSTART;VALUE=DATE:20250221
DTEND;VALUE=DATE:20250224
DTSTAMP:20260420T050506
CREATED:20250203T120310Z
LAST-MODIFIED:20250203T120310Z
UID:4185-1740096000-1740355199@standrewsunitedchurch.co.uk
SUMMARY:PANTOMIME - ALI-BABA & THE 40 THIEVES
DESCRIPTION:Seacombe Players present Ali-Baba and the 40 thieves \nSeacombe United Reformed Church\, Brougham Road\, Seacombe CH44 6PW \n\nFriday 21st February at 7.30pm; \nSaturday 22nd February at 2.30 pm; \nand Sunday 23rd February at 2.30 pm \n\nTickets: Adults £5.00 and Children £3.00 \nPhone Anne: 0151 638 1004
URL:https://standrewsunitedchurch.co.uk/event/pantomime-ali-baba-the-40-thieves/
END:VEVENT
BEGIN:VEVENT
DTSTART;TZID=UTC:20250221T120000
DTEND;TZID=UTC:20250221T140000
DTSTAMP:20260420T050506
CREATED:20241227T094858Z
LAST-MODIFIED:20241227T094858Z
UID:4116-1740139200-1740146400@standrewsunitedchurch.co.uk
SUMMARY:WARM WELCOME FRIDAYS @ ST ANDREW'S
DESCRIPTION:WARM WELCOME from 12 noon until 2 pm Soup & Sandwich plus Tea & Coffee. \nCome and sit in the warmth of the building\, enjoy lunch and make new friends. \nEveryone Welcome
URL:https://standrewsunitedchurch.co.uk/event/warm-welcome-fridays-st-andrews-39/
END:VEVENT
BEGIN:VEVENT
DTSTART;TZID=UTC:20250221T193000
DTEND;TZID=UTC:20250221T193000
DTSTAMP:20260420T050506
CREATED:20250203T120506Z
LAST-MODIFIED:20250203T120506Z
UID:4187-1740166200-1740166200@standrewsunitedchurch.co.uk
SUMMARY:ALI-BABA & THE 40 THIEVES
DESCRIPTION:Seacombe Players present \nAli-Baba and the 40 thieves \nSeacombe United Reformed Church \nBrougham Road\, CH44 6PW \nFriday 21st February at 7.30pm. \nTickets: Adults £5.00 and Children £3.00 \nPhone Anne: 0151 638 1004
URL:https://standrewsunitedchurch.co.uk/event/ali-baba-the-40-thieves/
END:VEVENT
BEGIN:VEVENT
DTSTART;TZID=UTC:20250222T143000
DTEND;TZID=UTC:20250222T143000
DTSTAMP:20260420T050506
CREATED:20250203T120627Z
LAST-MODIFIED:20250203T120627Z
UID:4189-1740234600-1740234600@standrewsunitedchurch.co.uk
SUMMARY:ALI-BABA & THE 40 THIEVES
DESCRIPTION:Seacombe Players present Ali-Baba and the 40 thieves \nSeacombe United Reformed Church\, Brougham Road\, Seacombe CH44 6PW \nSaturday 22nd February at 2.30 pm \nTickets: Adults £5.00 and Children £3.00 \nPhone Anne: 0151 638 1004
URL:https://standrewsunitedchurch.co.uk/event/ali-baba-the-40-thieves-2/
END:VEVENT
BEGIN:VEVENT
DTSTART;TZID=UTC:20250223T103000
DTEND;TZID=UTC:20250223T103000
DTSTAMP:20260420T050506
CREATED:20250201T094214Z
LAST-MODIFIED:20250201T094214Z
UID:4176-1740306600-1740306600@standrewsunitedchurch.co.uk
SUMMARY:MORNING WORSHIP
DESCRIPTION:MORNING WORSHIP starts at 10.30 am and will be led by the Revd. Heather MacLeod
URL:https://standrewsunitedchurch.co.uk/event/morning-worship-50/
END:VEVENT
BEGIN:VEVENT
DTSTART;TZID=UTC:20250223T143000
DTEND;TZID=UTC:20250223T143000
DTSTAMP:20260420T050506
CREATED:20250203T120821Z
LAST-MODIFIED:20250203T120821Z
UID:4191-1740321000-1740321000@standrewsunitedchurch.co.uk
SUMMARY:ALI-BABA & THE 40 THIEVES
DESCRIPTION:Seacombe Players present Ali-Baba and the 40 thieves \nSeacombe United Reformed Church\, Brougham Road\, Seacombe CH44 6PW \nSunday 23rd February at 2.30 pm \nTickets: Adults £5.00 and Children £3.00 \nPhone Anne: 0151 638 1004
URL:https://standrewsunitedchurch.co.uk/event/ali-baba-the-40-thieves-3/
END:VEVENT
BEGIN:VEVENT
DTSTART;TZID=UTC:20250224T100000
DTEND;TZID=UTC:20250224T110000
DTSTAMP:20260420T050506
CREATED:20250201T093401Z
LAST-MODIFIED:20250201T093401Z
UID:4161-1740391200-1740394800@standrewsunitedchurch.co.uk
SUMMARY:STAY & PLAY
DESCRIPTION:STAY & PLAY \n\n\n\n\nMonday’s 10:00am – 11:00am – TERM TIME ONLY \nAt St Andrew’s United Church Rowson Street New Brighton CH45 2LY \nFor more information ring Seacombe Children Centre on:\n0151 666 3506.
URL:https://standrewsunitedchurch.co.uk/event/stay-play-78/
END:VEVENT
BEGIN:VEVENT
DTSTART;TZID=UTC:20250226T103000
DTEND;TZID=UTC:20250226T103000
DTSTAMP:20260420T050506
CREATED:20250203T121154Z
LAST-MODIFIED:20250203T121154Z
UID:4195-1740565800-1740565800@standrewsunitedchurch.co.uk
SUMMARY:MIDWEEK SERVICE & BIBLE STUDY
DESCRIPTION:MIDWEEK SERVICE & BIBLE STUDY  will start at 10.30 am.  Refreshments available following the service. \nEVERYONE WELCOME
URL:https://standrewsunitedchurch.co.uk/event/midweek-service-bible-study-29/
END:VEVENT
BEGIN:VEVENT
DTSTART;TZID=UTC:20250226T120000
DTEND;TZID=UTC:20250226T133000
DTSTAMP:20260420T050506
CREATED:20250203T132544Z
LAST-MODIFIED:20250203T132544Z
UID:4232-1740571200-1740576600@standrewsunitedchurch.co.uk
SUMMARY:CHURCH LUNCH
DESCRIPTION:CHURCH LUNCH – 12 noon – for more information please be in touch with Revd. Lorraine to book your place.
URL:https://standrewsunitedchurch.co.uk/event/church-lunch-15/
END:VEVENT
BEGIN:VEVENT
DTSTART;TZID=UTC:20250227T100000
DTEND;TZID=UTC:20250227T113000
DTSTAMP:20260420T050506
CREATED:20241227T092156Z
LAST-MODIFIED:20241227T092156Z
UID:4088-1740650400-1740655800@standrewsunitedchurch.co.uk
SUMMARY:TODDLER GROUP
DESCRIPTION:TODDLER GROUP 10 – 11.30 am Thursdays during Term Time\, for 0-4 year olds with activities including games\, crafts\, play area\, dressing up and much more.
URL:https://standrewsunitedchurch.co.uk/event/toddler-group-115/
END:VEVENT
BEGIN:VEVENT
DTSTART;TZID=UTC:20250228T120000
DTEND;TZID=UTC:20250228T140000
DTSTAMP:20260420T050506
CREATED:20241227T095120Z
LAST-MODIFIED:20241227T095120Z
UID:4118-1740744000-1740751200@standrewsunitedchurch.co.uk
SUMMARY:WARM WELCOME FRIDAYS @ ST ANDREW'S
DESCRIPTION:WARM WELCOME from 12 noon until 2 pm Soup & Sandwich plus Tea & Coffee. \nCome and sit in the warmth of the building\, enjoy lunch and make new friends. \nEveryone Welcome
URL:https://standrewsunitedchurch.co.uk/event/warm-welcome-fridays-st-andrews-38/
END:VEVENT
BEGIN:VEVENT
DTSTART;TZID=UTC:20250228T140000
DTEND;TZID=UTC:20250228T160000
DTSTAMP:20260420T050506
CREATED:20250227T073242Z
LAST-MODIFIED:20250227T073242Z
UID:4268-1740751200-1740758400@standrewsunitedchurch.co.uk
SUMMARY:KNIT & NATTER
DESCRIPTION:Knit & Natter\n\nCome and join this friendly group – meet new people\, learn new skills – whether knitting or crochet\, make new friends and join in future projects. The members have made a variety of items supporting various charities over the years – including blankets\, premature baby clothes\, hats\, knitted toys and items for Christmas. There is a stockpile of wool and knitting needles\, so no initial outlay. Bring along something you have started or something you are about to start. So whether you are a beginner or skilled knitter or just want to come along to find out what we are all about – you will be made very welcome. \n\n\n\nItems made supporting various charity projects such as Charles Thompson Mission\, Mission to Seafarers\, Premature Baby Unit at Arrowe Park Hospital\, plus Twiddle Muffs and Blankets for local residential homes. Whether you are a beginner or an accomplished knitter\, you will be made very welcome. \nEvery Friday from 2pm – 4pm – TERM TIME ONLY
URL:https://standrewsunitedchurch.co.uk/event/knit-natter-92/
END:VEVENT
BEGIN:VEVENT
DTSTART;TZID=UTC:20250301T100000
DTEND;TZID=UTC:20250301T113000
DTSTAMP:20260420T050506
CREATED:20250211T142434Z
LAST-MODIFIED:20250211T142555Z
UID:4254-1740823200-1740828600@standrewsunitedchurch.co.uk
SUMMARY:COFFEE MORNING & CAKE SALE
DESCRIPTION:COFFEE\, CAKE & CHAT  starting at 10.30 am – 12 noon. \n  \nEveryone Welcome
URL:https://standrewsunitedchurch.co.uk/event/coffee-morning-cake-sale-5/
END:VEVENT
BEGIN:VEVENT
DTSTART;TZID=UTC:20250302T080000
DTEND;TZID=UTC:20250302T170000
DTSTAMP:20260420T050506
CREATED:20250201T094125Z
LAST-MODIFIED:20250201T094125Z
UID:4174-1740902400-1740934800@standrewsunitedchurch.co.uk
SUMMARY:HOLY COMMUNION
DESCRIPTION:HOLY COMMUNION starts at 10.30 am and will be led by the Revd. Lorraine Aizlewood-Threlfall
URL:https://standrewsunitedchurch.co.uk/event/holy-communion-13/
END:VEVENT
BEGIN:VEVENT
DTSTART;TZID=UTC:20250303T100000
DTEND;TZID=UTC:20250303T110000
DTSTAMP:20260420T050506
CREATED:20250201T093451Z
LAST-MODIFIED:20250201T093451Z
UID:4163-1740996000-1740999600@standrewsunitedchurch.co.uk
SUMMARY:STAY & PLAY
DESCRIPTION:STAY & PLAY \n\n\n\n\nMonday’s 10:00am – 11:00am – TERM TIME ONLY \nAt St Andrew’s United Church Rowson Street New Brighton CH45 2LY \nFor more information ring Seacombe Children Centre on:\n0151 666 3506.
URL:https://standrewsunitedchurch.co.uk/event/stay-play-79/
END:VEVENT
BEGIN:VEVENT
DTSTART;TZID=UTC:20250305T103000
DTEND;TZID=UTC:20250305T103000
DTSTAMP:20260420T050506
CREATED:20250203T121525Z
LAST-MODIFIED:20250203T121525Z
UID:4200-1741170600-1741170600@standrewsunitedchurch.co.uk
SUMMARY:ASH WEDNESDAY COMMUNION
DESCRIPTION:Service of Holy Communion for Ash Wednesday will be led by the Revd. Lorraine Aizlewood-Threlfall.
URL:https://standrewsunitedchurch.co.uk/event/ash-wednesday-communion-2/
END:VEVENT
END:VCALENDAR